{"text_format":"1","workbook":"xlsx","n_sheets":20,"sheets":["Info","01#P改修等報告書","01#L是正計画報告書","02#L是正計画報告書２Ｐ目","03#L是正計画報告書３Ｐ目","10#L是正計画報告書","11#L是正計画報告書","D01","DA01","Sheet10","Sheet11","D02","DA02","D03","DA03","D10","DA10","D11","DA11","C01#P改修等報告書"],"not_rendered":{"charts":0,"images":0,"macros":1,"external_links":0,"defined_names":1,"comments":0,"pivot_tables":0},"unopened":[],"bounds":{"document_bytes":16777216,"sheet_cells":100000,"rows_first":2000,"rows_last":500,"rows_between":2000,"halvings":0,"cell_chars":16384,"cell_head_chars":4096},"cells_cut":0,"cells_raw":0,"read":"whole","date_system":"1900"}

{"sheet":"Info","index":0,"n_rows":30,"n_cols":1,"rows_kept":30,"cut":false,"hidden":true,"merged":[]}
["PO"]
[0]
["LNK防火012.xlsm"]
[]
[12]
[5]
["1,2,3,10,11"]
[]
[0]
[3]
[1]
[]
[]
[]
[0]
[1]
[]
[]
[]
[]
[]
[]
[]
[]
[]
[]
[]
[]
[]
["実行済み"]

{"sheet":"01#P改修等報告書","index":1,"n_rows":96,"n_cols":60,"rows_kept":96,"cut":false,"hidden":true,"merged":[[44,32,48,47],[44,48,48,61],[49,32,53,47],[49,48,53,61],[69,18,70,59],[54,32,58,47],[54,48,58,61],[59,32,63,47],[59,48,63,61],[64,32,68,47],[64,48,68,61],[34,1,38,31],[34,32,38,47],[34,48,38,61],[39,32,43,47],[39,48,43,61],[12,20,12,23],[12,3,12,17],[22,3,23,5],[22,6,23,7],[22,8,23,9],[22,10,23,11],[22,12,23,13],[15,31,16,38],[18,31,19,38],[15,39,16,61],[22,14,23,15],[22,16,23,17],[22,18,23,40],[25,1,27,24],[28,1,30,24],[18,39,19,61],[75,1,76,34],[75,35,76,61],[69,1,74,7],[73,8,74,26],[69,8,70,15],[71,8,72,15],[71,35,72,38],[39,1,43,31],[44,1,48,31],[49,1,53,31],[31,48,33,61],[31,1,33,31],[31,32,33,47],[0,0,1,7],[9,49,10,50],[9,54,10,55],[9,59,10,60],[6,0,7,61],[3,54,4,55],[3,57,4,61],[3,41,4,47],[3,48,4,52],[93,6,94,7],[95,6,96,7],[89,10,90,65],[91,10,92,65],[93,10,94,65],[95,10,96,65],[89,1,90,4],[89,6,90,7],[91,6,92,7],[73,29,74,59],[54,1,58,31],[59,1,63,31],[64,1,68,31],[71,40,72,61],[71,18,72,33]]}
["第５号様式"]
[]
[]
[null,null,null,null,null,null,null,null,null,null,null,null,null,null,null,null,null,null,null,null,null,null,null,null,null,null,null,null,null,null,null,null,null,null,null,null,null,null,null,null,null,"台帳番号",null,null,null,null,null,null,{"$f":"'D01'!G3","v":"150"},null,null,null,null,null,"－",null,null,{"$f":"'D01'!H3","v":"0014"}]
[]
[]
["改 修 等 報 告 書"]
[]
[]
[null,null,null,null,null,null,null,null,null,null,null,null,null,null,null,null,null,null,null,null,null,null,null,null,null,null,null,null,null,null,null,null,null,null,null,null,null,null,null,null,null,null,null,null,null,null,null,null,null,"年",null,null,null,null,"月",null,null,null,null,"日"]
[]
[]
[null,null,null,{"$f":"'10#L是正計画報告書'!B6","v":"船橋市消防局長"},null,null,null,null,null,null,null,null,null,null,null,null,null,null,null,null,"あて"]
[]
[]
[null,null,null,null,null,null,null,null,null,null,null,null,null,null,null,null,null,null,null,null,null,null,null,null,null,null,null,null,null,null,null,"代　表　者"]
[]
[]
[null,null,null,null,null,null,null,null,null,null,null,null,null,null,null,null,null,null,null,null,null,null,null,null,null,null,null,null,null,null,null,"職　氏　名"]
[]
[]
[]
[null,null,null,{"$f":"'D01'!T3","v":"令和"},null,null,{"$f":"'D01'!U3","v":7},null,"年",null,{"$f":"'D01'!V3","v":3},null,"月",null,{"$f":"'D01'!W3","v":13},null,"日",null,"の立入検査結果通知書に基づき次のとおり報告します。"]
[]
[]
[null,"　査察対象物の所在地"]
[]
[]
[null,"　査察対象物の名称"]
[]
[]
[null,"　指摘事項",null,null,null,null,null,null,null,null,null,null,null,null,null,null,null,null,null,null,null,null,null,null,null,null,null,null,null,null,null,null,"　改修等の内容",null,null,null,null,null,null,null,null,null,null,null,null,null,null,null,"　改修等の年月日"]
[]
[]
[null,{"$f":"'11#L是正計画報告書'!C1","v":"防火管理者が選任されていない。"}]
[]
[]
[]
[]
[null,{"$f":"'11#L是正計画報告書'!C2","v":" "}]
[]
[]
[]
[]
[null,{"$f":"'11#L是正計画報告書'!C3","v":" "}]
[]
[]
[]
[]
[null,{"$f":"'11#L是正計画報告書'!C4","v":" "}]
[]
[]
[]
[]
[null,{"$f":"'11#L是正計画報告書'!C5","v":" "}]
[]
[]
[]
[]
[null,{"$f":"'11#L是正計画報告書'!C6","v":" "}]
[]
[]
[]
[]
[null,{"$f":"'11#L是正計画報告書'!C7","v":" "}]
[]
[]
[]
[]
[null,"担当者",null,null,null,null,null,null,"所　　属",null,null,null,null,null,null,null,null,null,{"$f":"'10#L是正計画報告書'!B4","v":"船橋市消防局予防課"}]
[]
[null,null,null,null,null,null,null,null,"氏　　名",null,null,null,null,null,null,null,null,null,{"$f":"'D01'!N3","v":"宇佐美　健"},null,null,null,null,null,null,null,null,null,null,null,null,null,null,null,null,"電話番号",null,null,null,null,{"$f":"'10#L是正計画報告書'!B7","v":"047-435-1114"}]
[]
[null,null,null,null,null,null,null,null,"連絡先メールアドレス",null,null,null,null,null,null,null,null,null,null,null,null,null,null,null,null,null,null,null,null,{"$f":"'10#L是正計画報告書'!B8","v":"sho-yobo@city.funabashi.lg.jp"}]
[]
[null,"※　　受　　　　　付　　　　　欄",null,null,null,null,null,null,null,null,null,null,null,null,null,null,null,null,null,null,null,null,null,null,null,null,null,null,null,null,null,null,null,null,null,"※　　経　　　　　過　　　　　欄"]
[]
[]
[]
[]
[]
[]
[]
[]
[]
[]
[]
[]
[]
[null,"備考",null,null,null,null,1,null,null,null,"用紙の大きさは、日本産業規格Ａ４としてください。"]
[]
[null,null,null,null,null,null,2,null,null,null,"項目が多く記載できない場合には、別紙を添付してください。"]
[]
[null,null,null,null,null,null,3,null,null,null,"未改修事項については、改修計画の内容を記載してください。"]
[]
[null,null,null,null,null,null,4,null,null,null,"※欄は、記入しないでください。"]

{"sheet":"01#L是正計画報告書","index":2,"n_rows":32,"n_cols":34,"rows_kept":32,"cut":false,"hidden":true,"merged":[[13,3,13,16],[15,24,15,33],[28,1,28,10],[30,1,30,10],[20,1,20,10],[22,1,22,10],[24,1,24,10],[26,1,26,10],[27,1,27,21],[29,1,29,21],[21,1,21,21],[23,1,23,21],[31,1,31,21],[13,17,13,19],[0,0,0,33],[13,0,13,2],[2,0,2,12],[4,18,4,20],[6,18,6,20],[8,18,8,20],[25,1,25,21],[16,1,16,10],[10,16,10,17],[15,1,15,23],[19,1,19,21],[17,1,17,21],[18,1,18,10],[13,20,13,33]]}
["是正（計画）報告書"]
[null,null,null,null,null,null,null,null,null,null,null,null,null,null,null,null,null,null,null,null,null,null,null,null,null,"平成",null,null,"年",null,"月",null,"日"]
["　　　　市消防局長"]
[null,null,null,null,null,null,null,null,null,null,null,null,null,"様"]
[null,null,null,null,null,null,null,null,null,null,null,null,null,null,null,null,null,null,"住　　所"]
[]
[null,null,null,null,null,null,null,null,null,null,null,null,null,null,null,null,null,null,"名　　称"]
[]
[null,null,null,null,null,null,null,null,null,null,null,null,null,null,null,null,null,null,"職・氏名",null,null,null,null,null,null,null,null,null,null,null,null,null,null,"㊞"]
[]
[null,null,"私の管理する下記の対象物について、",null,null,null,null,null,null,null,null,null,null,null,null,null,{"$f":"'D01'!T3","v":"令和"},null,{"$f":"'D01'!U3","v":7},"年",{"$f":"'D01'!V3","v":3},"月",{"$f":"'D01'!W3","v":13},"日","通知のあった指摘事項"]
[null,"については、下記のとおり是正（計画）いたしましたので報告します。"]
[]
["名　称",null,null,{"$f":"IF('10#L是正計画報告書'!A3=0,'10#L是正計画報告書'!A1,'10#L是正計画報告書'!A2)","v":"【サンプル】船橋市消防局"},null,null,null,null,null,null,null,null,null,null,null,null,null,"所在地",null,null,{"$f":"'D01'!C3","v":"船橋市 湊町２丁目６番１０号"}]
[]
["№","是正を要する事項",null,null,null,null,null,null,null,null,null,null,null,null,null,null,null,null,null,null,null,null,null,null,"是正（計画）年月日\n措　置　内　容"]
[{"$f":"'11#L是正計画報告書'!A1","v":1},{"$f":"'11#L是正計画報告書'!B1","v":"防火管理"}]
[null,{"$f":"'11#L是正計画報告書'!C1","v":"防火管理者が選任されていない。"}]
[{"$f":"'11#L是正計画報告書'!A2","v":" "},{"$f":"'11#L是正計画報告書'!B2","v":" "}]
[null,{"$f":"'11#L是正計画報告書'!C2","v":" "}]
[{"$f":"'11#L是正計画報告書'!A3","v":" "},{"$f":"'11#L是正計画報告書'!B3","v":" "}]
[null,{"$f":"'11#L是正計画報告書'!C3","v":" "}]
[{"$f":"'11#L是正計画報告書'!A4","v":" "},{"$f":"'11#L是正計画報告書'!B4","v":" "}]
[null,{"$f":"'11#L是正計画報告書'!C4","v":" "}]
[{"$f":"'11#L是正計画報告書'!A5","v":" "},{"$f":"'11#L是正計画報告書'!B5","v":" "}]
[null,{"$f":"'11#L是正計画報告書'!C5","v":" "}]
[{"$f":"'11#L是正計画報告書'!A6","v":" "},{"$f":"'11#L是正計画報告書'!B6","v":" "}]
[null,{"$f":"'11#L是正計画報告書'!C6","v":" "}]
[{"$f":"'11#L是正計画報告書'!A7","v":" "},{"$f":"'11#L是正計画報告書'!B7","v":" "}]
[null,{"$f":"'11#L是正計画報告書'!C7","v":" "}]
[{"$f":"'11#L是正計画報告書'!A8","v":" "},{"$f":"'11#L是正計画報告書'!B8","v":" "}]
[null,{"$f":"'11#L是正計画報告書'!C8","v":" "}]

{"sheet":"02#L是正計画報告書２Ｐ目","index":3,"n_rows":27,"n_cols":25,"rows_kept":27,"cut":false,"hidden":true,"merged":[[0,24,0,33],[0,1,0,23],[2,1,2,21],[20,1,20,21],[4,1,4,21],[6,1,6,21],[8,1,8,21],[11,1,11,10],[13,1,13,10],[15,1,15,10],[1,1,1,10],[3,1,3,10],[5,1,5,10],[7,1,7,10],[9,1,9,10],[10,1,10,21],[12,1,12,21],[14,1,14,21],[16,1,16,21],[26,1,26,21],[22,1,22,21],[24,1,24,21],[17,1,17,10],[25,1,25,10],[19,1,19,10],[21,1,21,10],[23,1,23,10],[18,1,18,21]]}
["№","是正を要する事項",null,null,null,null,null,null,null,null,null,null,null,null,null,null,null,null,null,null,null,null,null,null,"是正（計画）年月日\n措　置　内　容"]
[{"$f":"'11#L是正計画報告書'!A9","v":" "},{"$f":"'11#L是正計画報告書'!B9","v":" "}]
[null,{"$f":"'11#L是正計画報告書'!C9","v":" "}]
[{"$f":"'11#L是正計画報告書'!A10","v":" "},{"$f":"'11#L是正計画報告書'!B10","v":" "}]
[null,{"$f":"'11#L是正計画報告書'!C10","v":" "}]
[{"$f":"'11#L是正計画報告書'!A11","v":" "},{"$f":"'11#L是正計画報告書'!B11","v":" "}]
[null,{"$f":"'11#L是正計画報告書'!C11","v":" "}]
[{"$f":"'11#L是正計画報告書'!A12","v":" "},{"$f":"'11#L是正計画報告書'!B12","v":" "}]
[null,{"$f":"'11#L是正計画報告書'!C12","v":" "}]
[{"$f":"'11#L是正計画報告書'!A13","v":" "},{"$f":"'11#L是正計画報告書'!B13","v":" "}]
[null,{"$f":"'11#L是正計画報告書'!C13","v":" "}]
[{"$f":"'11#L是正計画報告書'!A14","v":" "},{"$f":"'11#L是正計画報告書'!B14","v":" "}]
[null,{"$f":"'11#L是正計画報告書'!C14","v":" "}]
[{"$f":"'11#L是正計画報告書'!A15","v":" "},{"$f":"'11#L是正計画報告書'!B15","v":" "}]
[null,{"$f":"'11#L是正計画報告書'!C15","v":" "}]
[{"$f":"'11#L是正計画報告書'!A16","v":" "},{"$f":"'11#L是正計画報告書'!B16","v":" "}]
[null,{"$f":"'11#L是正計画報告書'!C16","v":" "}]
[{"$f":"'11#L是正計画報告書'!A17","v":" "},{"$f":"'11#L是正計画報告書'!B17","v":" "}]
[null,{"$f":"'11#L是正計画報告書'!C17","v":" "}]
[{"$f":"'11#L是正計画報告書'!A18","v":" "},{"$f":"'11#L是正計画報告書'!B18","v":" "}]
[null,{"$f":"'11#L是正計画報告書'!C18","v":" "}]
[{"$f":"'11#L是正計画報告書'!A19","v":" "},{"$f":"'11#L是正計画報告書'!B19","v":" "}]
[null,{"$f":"'11#L是正計画報告書'!C19","v":" "}]
[{"$f":"'11#L是正計画報告書'!A20","v":" "},{"$f":"'11#L是正計画報告書'!B20","v":" "}]
[null,{"$f":"'11#L是正計画報告書'!C20","v":" "}]
[{"$f":"'11#L是正計画報告書'!A21","v":" "},{"$f":"'11#L是正計画報告書'!B21","v":" "}]
[null,{"$f":"'11#L是正計画報告書'!C21","v":" "}]

{"sheet":"03#L是正計画報告書３Ｐ目","index":4,"n_rows":27,"n_cols":25,"rows_kept":27,"cut":false,"hidden":true,"merged":[[26,1,26,21],[22,1,22,21],[24,1,24,21],[14,1,14,21],[16,1,16,21],[17,1,17,10],[23,1,23,10],[25,1,25,10],[19,1,19,10],[21,1,21,10],[20,1,20,21],[18,1,18,21],[12,1,12,21],[13,1,13,10],[15,1,15,10],[0,24,0,33],[0,1,0,23],[2,1,2,21],[11,1,11,10],[1,1,1,10],[3,1,3,10],[5,1,5,10],[7,1,7,10],[9,1,9,10],[4,1,4,21],[6,1,6,21],[8,1,8,21],[10,1,10,21]]}
["№","是正を要する事項",null,null,null,null,null,null,null,null,null,null,null,null,null,null,null,null,null,null,null,null,null,null,"是正（計画）年月日\n措　置　内　容"]
[{"$f":"'11#L是正計画報告書'!A22","v":" "},{"$f":"'11#L是正計画報告書'!B22","v":" "}]
[null,{"$f":"'11#L是正計画報告書'!C22","v":" "}]
[{"$f":"'11#L是正計画報告書'!A23","v":" "},{"$f":"'11#L是正計画報告書'!B23","v":" "}]
[null,{"$f":"'11#L是正計画報告書'!C23","v":" "}]
[{"$f":"'11#L是正計画報告書'!A24","v":" "},{"$f":"'11#L是正計画報告書'!B24","v":" "}]
[null,{"$f":"'11#L是正計画報告書'!C24","v":" "}]
[{"$f":"'11#L是正計画報告書'!A25","v":" "},{"$f":"'11#L是正計画報告書'!B25","v":" "}]
[null,{"$f":"'11#L是正計画報告書'!C25","v":" "}]
[{"$f":"'11#L是正計画報告書'!A26","v":" "},{"$f":"'11#L是正計画報告書'!B26","v":" "}]
[null,{"$f":"'11#L是正計画報告書'!C26","v":" "}]
[{"$f":"'11#L是正計画報告書'!A27","v":" "},{"$f":"'11#L是正計画報告書'!B27","v":" "}]
[null,{"$f":"'11#L是正計画報告書'!C27","v":" "}]
[{"$f":"'11#L是正計画報告書'!A28","v":" "},{"$f":"'11#L是正計画報告書'!B28","v":" "}]
[null,{"$f":"'11#L是正計画報告書'!C28","v":" "}]
[{"$f":"'11#L是正計画報告書'!A29","v":" "},{"$f":"'11#L是正計画報告書'!B29","v":" "}]
[null,{"$f":"'11#L是正計画報告書'!C29","v":" "}]
[{"$f":"'11#L是正計画報告書'!A30","v":" "},{"$f":"'11#L是正計画報告書'!B30","v":" "}]
[null,{"$f":"'11#L是正計画報告書'!C30","v":" "}]
[{"$f":"'11#L是正計画報告書'!A31","v":" "},{"$f":"'11#L是正計画報告書'!B31","v":" "}]
[null,{"$f":"'11#L是正計画報告書'!C31","v":" "}]
[{"$f":"'11#L是正計画報告書'!A32","v":" "},{"$f":"'11#L是正計画報告書'!B32","v":" "}]
[null,{"$f":"'11#L是正計画報告書'!C32","v":" "}]
[{"$f":"'11#L是正計画報告書'!A33","v":" "},{"$f":"'11#L是正計画報告書'!B33","v":" "}]
[null,{"$f":"'11#L是正計画報告書'!C33","v":" "}]
[{"$f":"'11#L是正計画報告書'!A34","v":" "},{"$f":"'11#L是正計画報告書'!B34","v":" "}]
[null,{"$f":"'11#L是正計画報告書'!C34","v":" "}]

{"sheet":"10#L是正計画報告書","index":5,"n_rows":21,"n_cols":12,"rows_kept":21,"cut":false,"hidden":true,"merged":[]}
[{"$f":"'D10'!C3","v":"【サンプル】船橋市消防局"},null,null,null,null,null,"管轄署コード","管轄署名","管轄所属","所属署長","電話番号","連絡先メールアドレス"]
[{"$f":"'D10'!D3","v":" "},null,null,null,null,null,100,"船橋市消防局","船橋市消防局","船橋市消防局長","047-435-1111"]
[{"$f":"'D10'!E3","v":0},null,null,null,null,null,110,"船橋市消防局総務課","船橋市消防局","船橋市消防局長","047-435-1112","shobosomu@city.funabashi.lg.jp"]
[{"$f":"'D10'!B3","v":120},{"$f":"VLOOKUP(A4,G2:J21,2,FALSE)","v":"船橋市消防局予防課"},"管轄署名",null,null,null,120,"船橋市消防局予防課","船橋市消防局","船橋市消防局長","047-435-1114","sho-yobo@city.funabashi.lg.jp"]
[{"$f":"'D10'!B3","v":120},{"$f":"VLOOKUP(A5,G2:J21,3,FALSE)","v":"船橋市消防局"},"管轄所属",null,null,null,130,"船橋市消防局警防課","船橋市消防局","船橋市消防局長","047-4335-1190","sho-keibo@city.funabashi.lg.jp"]
[{"$f":"'D10'!B3","v":120},{"$f":"VLOOKUP(A6,G2:J21,4,FALSE)","v":"船橋市消防局長"},"所属署長",null,null,null,140,"船橋市消防局救急課","船橋市消防局","船橋市消防局長","047-435-1191","sho-kyukyu@city.funabashi.lg.jp"]
[{"$f":"'D10'!B3","v":120},{"$f":"VLOOKUP(A7,G2:L21,5,FALSE)","v":"047-435-1114"},"電話番号",null,null,null,150,"船橋市消防局指令課","船橋市消防局","船橋市消防局長","047-435-1196","sho-shirei@city.funabashi.lg.jp"]
[{"$f":"'D10'!B3","v":120},{"$f":"VLOOKUP(A8,G2:L21,6,FALSE)","v":"sho-yobo@city.funabashi.lg.jp"},"連絡先メールアドレス",null,null,null,190,"船橋市消防局救急課","船橋市消防局","船橋市消防局長","047-438-9998","sho-kyukyu@city.funabashi.lg.jp"]
[null,null,null,null,null,null,200,"船橋市中央消防署","船橋市中央消防署","船橋市中央消防署長","047-435-8664","sho-chuo@city.funabashi.lg.jp"]
[null,null,null,null,null,null,210,"船橋市夏見消防署","船橋市夏見消防署","船橋市夏見消防署長","047-422-5344","sho-natsumi@city.funabashi.lg.jp"]
[null,null,null,null,null,null,220,"船橋市中央消防署本郷分署","船橋市中央消防署","船橋市中央消防署長","047-335-2697","sho-hongo@city.funabashi.lg.jp"]
[null,null,null,null,null,null,300,"船橋市東消防署","船橋市東消防署","船橋市東消防署長","047-464-1515","sho-higashi@city.funabashi.lg.jp"]
[null,null,null,null,null,null,310,"船橋市芝山消防署前原分署","船橋市芝山消防署","船橋市芝山消防署長","047-478-3032","sho-maehara@city.funabashi.lg.jp"]
[null,null,null,null,null,null,320,"船橋市芝山消防署","船橋市芝山消防署","船橋市芝山消防署長","047-467-9535","sho-shibayama@city.funabashi.lg.jp"]
[null,null,null,null,null,null,330,"船橋市芝山消防署三山分署","船橋市芝山消防署","船橋市芝山消防署長","047-479-3966","sho-miyama@city.funabashi.lg.jp"]
[null,null,null,null,null,null,340,"船橋市東消防署薬円台出張所","船橋市東消防署","船橋市東消防署長","047-466-1523","sho-yakuendai@city.funabashi.lg.jp"]
[null,null,null,null,null,null,350,"船橋市東消防署古和釜分署","船橋市東消防署","船橋市東消防署長","047-456-7151","sho-kowagama@city.funabashi.lg.jp"]
[null,null,null,null,null,null,400,"船橋市北消防署","船橋市北消防署","船橋市北消防署長","047-438-2238","sho-kita@city.funabashi.lg.jp"]
[null,null,null,null,null,null,410,"船橋市夏見消防署行田分署","船橋市夏見消防署","船橋市夏見消防署長","047-438-2117","sho-gyoda@city.funabashi.lg.jp"]
[null,null,null,null,null,null,420,"船橋市北消防署三咲分署","船橋市北消防署","船橋市北消防署長","047-447-5432","sho-misaki@city.funabashi.lg.jp"]
[null,null,null,null,null,null,430,"船橋市北消防署小室出張所","船橋市北消防署","船橋市北消防署長","047-457-9146","sho-komuro@city.funabashi.lg.jp"]

{"sheet":"11#L是正計画報告書","index":6,"n_rows":34,"n_cols":3,"rows_kept":34,"cut":false,"hidden":true,"merged":[]}
[{"$f":"'D11'!B3","v":1},{"$f":"'D11'!C3","v":"防火管理"},{"$f":"'D11'!D3","v":"防火管理者が選任されていない。"}]
[{"$f":"'D11'!B4","v":" "},{"$f":"'D11'!C4","v":" "},{"$f":"'D11'!D4","v":" "}]
[{"$f":"'D11'!B5","v":" "},{"$f":"'D11'!C5","v":" "},{"$f":"'D11'!D5","v":" "}]
[{"$f":"'D11'!B6","v":" "},{"$f":"'D11'!C6","v":" "},{"$f":"'D11'!D6","v":" "}]
[{"$f":"'D11'!B7","v":" "},{"$f":"'D11'!C7","v":" "},{"$f":"'D11'!D7","v":" "}]
[{"$f":"'D11'!B8","v":" "},{"$f":"'D11'!C8","v":" "},{"$f":"'D11'!D8","v":" "}]
[{"$f":"'D11'!B9","v":" "},{"$f":"'D11'!C9","v":" "},{"$f":"'D11'!D9","v":" "}]
[{"$f":"'D11'!B10","v":" "},{"$f":"'D11'!C10","v":" "},{"$f":"'D11'!D10","v":" "}]
[{"$f":"'D11'!B11","v":" "},{"$f":"'D11'!C11","v":" "},{"$f":"'D11'!D11","v":" "}]
[{"$f":"'D11'!B12","v":" "},{"$f":"'D11'!C12","v":" "},{"$f":"'D11'!D12","v":" "}]
[{"$f":"'D11'!B13","v":" "},{"$f":"'D11'!C13","v":" "},{"$f":"'D11'!D13","v":" "}]
[{"$f":"'D11'!B14","v":" "},{"$f":"'D11'!C14","v":" "},{"$f":"'D11'!D14","v":" "}]
[{"$f":"'D11'!B15","v":" "},{"$f":"'D11'!C15","v":" "},{"$f":"'D11'!D15","v":" "}]
[{"$f":"'D11'!B16","v":" "},{"$f":"'D11'!C16","v":" "},{"$f":"'D11'!D16","v":" "}]
[{"$f":"'D11'!B17","v":" "},{"$f":"'D11'!C17","v":" "},{"$f":"'D11'!D17","v":" "}]
[{"$f":"'D11'!B18","v":" "},{"$f":"'D11'!C18","v":" "},{"$f":"'D11'!D18","v":" "}]
[{"$f":"'D11'!B19","v":" "},{"$f":"'D11'!C19","v":" "},{"$f":"'D11'!D19","v":" "}]
[{"$f":"'D11'!B20","v":" "},{"$f":"'D11'!C20","v":" "},{"$f":"'D11'!D20","v":" "}]
[{"$f":"'D11'!B21","v":" "},{"$f":"'D11'!C21","v":" "},{"$f":"'D11'!D21","v":" "}]
[{"$f":"'D11'!B22","v":" "},{"$f":"'D11'!C22","v":" "},{"$f":"'D11'!D22","v":" "}]
[{"$f":"'D11'!B23","v":" "},{"$f":"'D11'!C23","v":" "},{"$f":"'D11'!D23","v":" "}]
[{"$f":"'D11'!B24","v":" "},{"$f":"'D11'!C24","v":" "},{"$f":"'D11'!D24","v":" "}]
[{"$f":"'D11'!B25","v":" "},{"$f":"'D11'!C25","v":" "},{"$f":"'D11'!D25","v":" "}]
[{"$f":"'D11'!B26","v":" "},{"$f":"'D11'!C26","v":" "},{"$f":"'D11'!D26","v":" "}]
[{"$f":"'D11'!B27","v":" "},{"$f":"'D11'!C27","v":" "},{"$f":"'D11'!D27","v":" "}]
[{"$f":"'D11'!B28","v":" "},{"$f":"'D11'!C28","v":" "},{"$f":"'D11'!D28","v":" "}]
[{"$f":"'D11'!B29","v":" "},{"$f":"'D11'!C29","v":" "},{"$f":"'D11'!D29","v":" "}]
[{"$f":"'D11'!B30","v":" "},{"$f":"'D11'!C30","v":" "},{"$f":"'D11'!D30","v":" "}]
[{"$f":"'D11'!B31","v":" "},{"$f":"'D11'!C31","v":" "},{"$f":"'D11'!D31","v":" "}]
[{"$f":"'D11'!B32","v":" "},{"$f":"'D11'!C32","v":" "},{"$f":"'D11'!D32","v":" "}]
[{"$f":"'D11'!B33","v":" "},{"$f":"'D11'!C33","v":" "},{"$f":"'D11'!D33","v":" "}]
[{"$f":"'D11'!B34","v":" "},{"$f":"'D11'!C34","v":" "},{"$f":"'D11'!D34","v":" "}]
[{"$f":"'D11'!B35","v":" "},{"$f":"'D11'!C35","v":" "},{"$f":"'D11'!D35","v":" "}]
[{"$f":"'D11'!B36","v":" "},{"$f":"'D11'!C36","v":" "},{"$f":"'D11'!D36","v":" "}]

{"sheet":"D01","index":7,"n_rows":4,"n_cols":25,"rows_kept":4,"cut":false,"hidden":true,"merged":[]}
[{"$f":"1","v":1},1,{"$f":"22","v":22},""]
["","所在地 名称(敷地)","所在地-1(敷地)","所在地-2(敷地)","担当区(敷地)名称","敷地用途(敷地)名称","台帳番号1(査察)","台帳番号2(査察)","表示台帳番号(査察)","査察日(元号)名称","査察日(年)","査察日(月)","査察日(日)","査察員(査察)名称","査察員2(査察)名称","査察員3(査察)名称","表示台帳番号(査察詳)","通知先-1(査察詳細)","通知先-2(査察詳細)","通知交付(元号)(詳細)名称","通知交付(年)(査察詳)","通知交付(月)(査察詳)","通知交付(日)(査察詳)",""]
[{"$f":"1","v":1},"【サンプル】船橋市消防局","船橋市 湊町２丁目６番１０号"," "," ","１５項","150","0014",{"$f":"0","v":0},"令和",{"$f":"7","v":7},{"$f":"3","v":3},{"$f":"6","v":6},"宇佐美　健"," "," ",{"$f":"0","v":0},"船橋市消防局","船橋　太郎","令和",{"$f":"7","v":7},{"$f":"3","v":3},{"$f":"13","v":13},""]
[null,null,null,null,null,null,null,null,null,null,null,null,null,null,null,null,null,null,null,null,null,null,null,null,"$IMG:"]

{"sheet":"DA01","index":8,"n_rows":3,"n_cols":24,"rows_kept":3,"cut":false,"hidden":true,"merged":[]}
[{"$f":"1","v":1},{"$f":"0","v":0},{"$f":"22","v":22},""]
["","所在地 名称(敷地)","所在地-1(敷地)","所在地-2(敷地)","担当区(敷地)名称","敷地用途(敷地)名称","台帳番号1(査察)","台帳番号2(査察)","表示台帳番号(査察)","査察日(元号)名称","査察日(年)","査察日(月)","査察日(日)","査察員(査察)名称","査察員2(査察)名称","査察員3(査察)名称","表示台帳番号(査察詳)","通知先-1(査察詳細)","通知先-2(査察詳細)","通知交付(元号)(詳細)名称","通知交付(年)(査察詳)","通知交付(月)(査察詳)","通知交付(日)(査察詳)",""]
[{"$f":"1","v":1},"【サンプル】船橋市消防局","船橋市 湊町２丁目６番１０号"," "," ","１５項","150","0014",{"$f":"0","v":0},"令和",{"$f":"7","v":7},{"$f":"3","v":3},{"$f":"6","v":6},"宇佐美　健"," "," ",{"$f":"0","v":0},"船橋市消防局","船橋　太郎","令和",{"$f":"7","v":7},{"$f":"3","v":3},{"$f":"13","v":13},""]

{"sheet":"Sheet10","index":9,"n_rows":0,"n_cols":0,"rows_kept":0,"cut":false,"hidden":true,"merged":[]}

{"sheet":"Sheet11","index":10,"n_rows":0,"n_cols":0,"rows_kept":0,"cut":false,"hidden":true,"merged":[]}

{"sheet":"D02","index":11,"n_rows":4,"n_cols":5,"rows_kept":4,"cut":false,"hidden":true,"merged":[]}
[{"$f":"1","v":1},1,{"$f":"1","v":1},""]
["","管轄署(査察)",""]
[{"$f":"1","v":1},{"$f":"120","v":120},""]
[null,null,null,null,"$IMG:"]

{"sheet":"DA02","index":12,"n_rows":3,"n_cols":4,"rows_kept":3,"cut":false,"hidden":true,"merged":[]}
[{"$f":"1","v":1},{"$f":"0","v":0},{"$f":"1","v":1},""]
["","管轄署(査察)",""]
[{"$f":"1","v":1},{"$f":"120","v":120},""]

{"sheet":"D03","index":13,"n_rows":4,"n_cols":5,"rows_kept":4,"cut":false,"hidden":true,"merged":[]}
[{"$f":"1","v":1},1,{"$f":"1","v":1},""]
["","管轄署(査察)",""]
[{"$f":"1","v":1},{"$f":"120","v":120},""]
[null,null,null,null,"$IMG:"]

{"sheet":"DA03","index":14,"n_rows":3,"n_cols":4,"rows_kept":3,"cut":false,"hidden":true,"merged":[]}
[{"$f":"1","v":1},{"$f":"0","v":0},{"$f":"1","v":1},""]
["","管轄署(査察)",""]
[{"$f":"1","v":1},{"$f":"120","v":120},""]

{"sheet":"D10","index":15,"n_rows":4,"n_cols":7,"rows_kept":4,"cut":false,"hidden":true,"merged":[]}
[{"$f":"1","v":1},1,{"$f":"4","v":4},""]
["","管轄署(敷地)","所在地 名称(敷地)","名称(表示)","表示台帳番号(査察)",""]
[{"$f":"1","v":1},{"$f":"120","v":120},"【サンプル】船橋市消防局"," ",{"$f":"0","v":0},""]
[null,null,null,null,null,null,"$IMG:"]

{"sheet":"DA10","index":16,"n_rows":3,"n_cols":6,"rows_kept":3,"cut":false,"hidden":true,"merged":[]}
[{"$f":"1","v":1},{"$f":"0","v":0},{"$f":"4","v":4},""]
["","管轄署(敷地)","所在地 名称(敷地)","名称(表示)","表示台帳番号(査察)",""]
[{"$f":"1","v":1},{"$f":"120","v":120},"【サンプル】船橋市消防局"," ",{"$f":"0","v":0},""]

{"sheet":"D11","index":17,"n_rows":37,"n_cols":9,"rows_kept":37,"cut":false,"hidden":true,"merged":[]}
[{"$f":"2","v":2},1,{"$f":"3","v":3},{"$f":"1","v":1},{"$f":"34","v":34},{"$f":"0","v":0},{"$f":"0","v":0},""]
["","指摘SEQ(査察指摘)","指摘大分類(査察指摘)名称","指摘事項(査察指摘)",""]
[{"$f":"1","v":1},{"$f":"1","v":1},"防火管理","防火管理者が選任されていない。",""]
[1," "," "," "]
[1," "," "," "]
[1," "," "," "]
[1," "," "," "]
[1," "," "," "]
[1," "," "," "]
[1," "," "," "]
[1," "," "," "]
[1," "," "," "]
[1," "," "," "]
[1," "," "," "]
[1," "," "," "]
[1," "," "," "]
[1," "," "," "]
[1," "," "," "]
[1," "," "," "]
[1," "," "," "]
[1," "," "," "]
[1," "," "," "]
[1," "," "," "]
[1," "," "," "]
[1," "," "," "]
[1," "," "," "]
[1," "," "," "]
[1," "," "," "]
[1," "," "," "]
[1," "," "," "]
[1," "," "," "]
[1," "," "," "]
[1," "," "," "]
[1," "," "," "]
[1," "," "," "]
[1," "," "," "]
[null,null,null,null,null,null,null,null,"$IMG:"]

{"sheet":"DA11","index":18,"n_rows":3,"n_cols":9,"rows_kept":3,"cut":false,"hidden":true,"merged":[]}
[{"$f":"2","v":2},{"$f":"0","v":0},{"$f":"3","v":3},{"$f":"1","v":1},{"$f":"34","v":34},{"$f":"0","v":0},{"$f":"0","v":0},2,34]
["","指摘SEQ(査察指摘)","指摘大分類(査察指摘)名称","指摘事項(査察指摘)",""]
[{"$f":"1","v":1},{"$f":"1","v":1},"防火管理","防火管理者が選任されていない。",""]

{"sheet":"C01#P改修等報告書","index":19,"n_rows":96,"n_cols":60,"rows_kept":96,"cut":false,"hidden":false,"merged":[[15,31,16,38],[15,39,16,61],[0,0,1,7],[3,41,4,47],[3,48,4,52],[3,54,4,55],[3,57,4,61],[6,0,7,61],[9,49,10,50],[9,54,10,55],[9,59,10,60],[12,3,12,17],[12,20,12,23],[34,1,38,31],[34,32,38,47],[34,48,38,61],[18,31,19,38],[18,39,19,61],[22,3,23,5],[22,6,23,7],[22,8,23,9],[22,10,23,11],[22,12,23,13],[22,14,23,15],[22,16,23,17],[22,18,23,40],[25,1,27,24],[28,1,30,24],[31,1,33,31],[31,32,33,47],[31,48,33,61],[39,1,43,31],[39,32,43,47],[39,48,43,61],[44,1,48,31],[44,32,48,47],[44,48,48,61],[49,1,53,31],[49,32,53,47],[49,48,53,61],[54,1,58,31],[54,32,58,47],[54,48,58,61],[59,1,63,31],[59,32,63,47],[59,48,63,61],[64,1,68,31],[64,32,68,47],[64,48,68,61],[69,1,74,7],[69,8,70,15],[69,18,70,59],[71,8,72,15],[71,18,72,33],[71,35,72,38],[71,40,72,61],[73,8,74,26],[73,29,74,59],[93,6,94,7],[93,10,94,65],[95,6,96,7],[95,10,96,65],[75,1,76,34],[75,35,76,61],[89,1,90,4],[89,6,90,7],[89,10,90,65],[91,6,92,7],[91,10,92,65]]}
["第５号様式"]
[]
[]
[null,null,null,null,null,null,null,null,null,null,null,null,null,null,null,null,null,null,null,null,null,null,null,null,null,null,null,null,null,null,null,null,null,null,null,null,null,null,null,null,null,"台帳番号",null,null,null,null,null,null,null,null,null,null,null,null,"－"]
[]
[]
["改 修 等 報 告 書"]
[]
[]
[null,null,null,null,null,null,null,null,null,null,null,null,null,null,null,null,null,null,null,null,null,null,null,null,null,null,null,null,null,null,null,null,null,null,null,null,null,null,null,null,null,null,null,null,null,null,null,null,null,"年",null,null,null,null,"月",null,null,null,null,"日"]
[]
[]
[null,null,null,"船橋市消防局長",null,null,null,null,null,null,null,null,null,null,null,null,null,null,null,null,"あて"]
[]
[]
[null,null,null,null,null,null,null,null,null,null,null,null,null,null,null,null,null,null,null,null,null,null,null,null,null,null,null,null,null,null,null,"代　表　者"]
[]
[]
[null,null,null,null,null,null,null,null,null,null,null,null,null,null,null,null,null,null,null,null,null,null,null,null,null,null,null,null,null,null,null,"職　氏　名"]
[]
[]
[]
[null,null,null,"令和",null,null,null,null,"年",null,null,null,"月",null,null,null,"日",null,"の立入検査結果通知書に基づき次のとおり報告します。"]
[]
[]
[null,"　査察対象物の所在地"]
[]
[]
[null,"　査察対象物の名称"]
[]
[]
[null,"　指摘事項",null,null,null,null,null,null,null,null,null,null,null,null,null,null,null,null,null,null,null,null,null,null,null,null,null,null,null,null,null,null,"　改修等の内容",null,null,null,null,null,null,null,null,null,null,null,null,null,null,null,"　改修等の年月日"]
[]
[]
[]
[]
[]
[]
[]
[null," "]
[]
[]
[]
[]
[null," "]
[]
[]
[]
[]
[null," "]
[]
[]
[]
[]
[null," "]
[]
[]
[]
[]
[null," "]
[]
[]
[]
[]
[null," "]
[]
[]
[]
[]
[null,"担当者",null,null,null,null,null,null,"所　　属"]
[]
[null,null,null,null,null,null,null,null,"氏　　名",null,null,null,null,null,null,null,null,null,null,null,null,null,null,null,null,null,null,null,null,null,null,null,null,null,null,"電話番号"]
[]
[null,null,null,null,null,null,null,null,"連絡先メールアドレス"]
[]
[null,"※　　受　　　　　付　　　　　欄",null,null,null,null,null,null,null,null,null,null,null,null,null,null,null,null,null,null,null,null,null,null,null,null,null,null,null,null,null,null,null,null,null,"※　　経　　　　　過　　　　　欄"]
[]
[]
[]
[]
[]
[]
[]
[]
[]
[]
[]
[]
[]
[null,"備考",null,null,null,null,1,null,null,null,"用紙の大きさは、日本産業規格Ａ４としてください。"]
[]
[null,null,null,null,null,null,2,null,null,null,"項目が多く記載できない場合には、別紙を添付してください。"]
[]
[null,null,null,null,null,null,3,null,null,null,"未改修事項については、改修計画の内容を記載してください。"]
[]
[null,null,null,null,null,null,4,null,null,null,"※欄は、記入しないでください。"]