{"text_format":"1","workbook":"xlsx","n_sheets":37,"sheets":["⓪作成要領","①はじめに","②参考様式７兼体制付表１－３","③集計用","④記載例","④○○ホーム","○○ホーム (2)","○○ホーム (3)","○○ホーム (4)","○○ホーム (5)","○○ホーム (6)","○○ホーム (7)","○○ホーム (8)","○○ホーム (9)","○○ホーム (10)","○○ホーム (11)","○○ホーム (12)","○○ホーム (13)","○○ホーム (14)","○○ホーム (15)","○○ホーム (16)","○○ホーム (17)","○○ホーム (18)","○○ホーム (19)","○○ホーム (20)","○○ホーム (21)","○○ホーム (22)","○○ホーム (23)","○○ホーム (24)","○○ホーム (25)","○○ホーム (26)","○○ホーム (27)","○○ホーム (28)","○○ホーム (29)","○○ホーム (30)","○○ホーム (31)","○○ホーム (32)"],"not_rendered":{"charts":0,"images":0,"macros":1,"external_links":1,"defined_names":139,"comments":1,"pivot_tables":0},"unopened":[],"bounds":{"document_bytes":16777216,"sheet_cells":100000,"rows_first":2000,"rows_last":500,"rows_between":2000,"halvings":0,"cell_chars":16384,"cell_head_chars":4096},"cells_cut":0,"cells_raw":0,"read":"whole","date_system":"1900"}

{"sheet":"⓪作成要領","index":0,"n_rows":6,"n_cols":2,"rows_kept":6,"cut":false,"hidden":false,"merged":[]}
[]
[1,"エクセルの設定でマクロが無効になっている場合、マクロを有効化してください。"]
[2,"「はじめに」シートについて、必要な箇所を入力・選択してください。"]
[3,"全ての入力が終了したら、「作成開始」ボタンを押してください。入力内容が「参考様式７兼体制付表１－３」へ転記されます。"]
[4,"「参考様式７兼体制付表１－３」では、各従業員が各職種で勤務する時間数を入力してください。"]
[5,"「作成開始」ボタンを押下後、「はじめに」シートを修正する場合は、フィルターの解除（クリア）を行い、再度「はじめに」シートを入力し、「作成開始」ボタンを押下してください。"]

{"sheet":"①はじめに","index":1,"n_rows":496,"n_cols":16,"rows_kept":496,"cut":false,"hidden":false,"merged":[[493,0,495,0],[493,1,495,1],[481,0,483,0],[481,1,483,1],[484,0,486,0],[484,1,486,1],[484,3,484,4],[484,6,484,7],[487,0,489,0],[487,1,489,1],[490,0,492,0],[490,1,492,1],[490,3,490,4],[490,6,490,7],[469,0,471,0],[469,1,471,1],[472,0,474,0],[472,1,474,1],[472,3,472,4],[472,6,472,7],[475,0,477,0],[475,1,477,1],[478,0,480,0],[478,1,480,1],[478,3,478,4],[478,6,478,7],[457,0,459,0],[457,1,459,1],[460,0,462,0],[460,1,462,1],[460,3,460,4],[460,6,460,7],[463,0,465,0],[463,1,465,1],[466,0,468,0],[466,1,468,1],[466,3,466,4],[466,6,466,7],[445,0,447,0],[445,1,447,1],[448,0,450,0],[448,1,450,1],[448,3,448,4],[448,6,448,7],[451,0,453,0],[451,1,453,1],[454,0,456,0],[454,1,456,1],[454,3,454,4],[454,6,454,7],[433,0,435,0],[433,1,435,1],[436,0,438,0],[436,1,438,1],[436,3,436,4],[436,6,436,7],[439,0,441,0],[439,1,441,1],[442,0,444,0],[442,1,444,1],[442,3,442,4],[442,6,442,7],[421,0,423,0],[421,1,423,1],[424,0,426,0],[424,1,426,1],[424,3,424,4],[424,6,424,7],[427,0,429,0],[427,1,429,1],[430,0,432,0],[430,1,432,1],[430,3,430,4],[430,6,430,7],[409,0,411,0],[409,1,411,1],[412,0,414,0],[412,1,414,1],[412,3,412,4],[412,6,412,7],[415,0,417,0],[415,1,417,1],[418,0,420,0],[418,1,420,1],[418,3,418,4],[418,6,418,7],[397,0,399,0],[397,1,399,1],[400,0,402,0],[400,1,402,1],[400,3,400,4],[400,6,400,7],[403,0,405,0],[403,1,405,1],[406,0,408,0],[406,1,408,1],[406,3,406,4],[406,6,406,7],[385,0,387,0],[385,1,387,1],[388,0,390,0],[388,1,390,1],[388,3,388,4],[388,6,388,7],[391,0,393,0],[391,1,393,1],[394,0,396,0],[394,1,396,1],[394,3,394,4],[394,6,394,7],[373,0,375,0],[373,1,375,1],[376,0,378,0],[376,1,378,1],[376,3,376,4],[376,6,376,7],[379,0,381,0],[379,1,381,1],[382,0,384,0],[382,1,384,1],[382,3,382,4],[382,6,382,7],[361,0,363,0],[361,1,363,1],[364,0,366,0],[364,1,366,1],[364,3,364,4],[364,6,364,7],[367,0,369,0],[367,1,369,1],[370,0,372,0],[370,1,372,1],[370,3,370,4],[370,6,370,7],[349,0,351,0],[349,1,351,1],[352,0,354,0],[352,1,354,1],[352,3,352,4],[352,6,352,7],[355,0,357,0],[355,1,357,1],[358,0,360,0],[358,1,360,1],[358,3,358,4],[358,6,358,7],[337,0,339,0],[337,1,339,1],[340,0,342,0],[340,1,342,1],[340,3,340,4],[340,6,340,7],[343,0,345,0],[343,1,345,1],[346,0,348,0],[346,1,348,1],[346,3,346,4],[346,6,346,7],[310,6,310,7],[310,0,312,0],[310,1,312,1],[313,0,315,0],[313,1,315,1],[310,3,310,4],[301,0,303,0],[301,1,303,1],[304,0,306,0],[304,1,306,1],[304,3,304,4],[304,6,304,7],[307,0,309,0],[307,1,309,1],[334,6,334,7],[334,3,334,4],[322,3,322,4],[322,6,322,7],[316,0,318,0],[316,1,318,1],[316,3,316,4],[316,6,316,7],[319,0,321,0],[319,1,321,1],[322,0,324,0],[322,1,324,1],[325,0,327,0],[325,1,327,1],[328,0,330,0],[328,1,330,1],[328,3,328,4],[328,6,328,7],[331,0,333,0],[331,1,333,1],[334,0,336,0],[334,1,336,1],[298,3,298,4],[298,6,298,7],[292,0,294,0],[292,1,294,1],[292,3,292,4],[292,6,292,7],[295,0,297,0],[295,1,297,1],[298,0,300,0],[298,1,300,1],[286,6,286,7],[286,0,288,0],[286,1,288,1],[289,0,291,0],[289,1,291,1],[286,3,286,4],[277,0,279,0],[277,1,279,1],[280,0,282,0],[280,1,282,1],[280,3,280,4],[280,6,280,7],[283,0,285,0],[283,1,285,1],[274,3,274,4],[274,6,274,7],[268,0,270,0],[268,1,270,1],[268,3,268,4],[268,6,268,7],[271,0,273,0],[271,1,273,1],[274,0,276,0],[274,1,276,1],[262,6,262,7],[262,0,264,0],[262,1,264,1],[265,0,267,0],[265,1,267,1],[262,3,262,4],[253,0,255,0],[253,1,255,1],[256,0,258,0],[256,1,258,1],[256,3,256,4],[256,6,256,7],[259,0,261,0],[259,1,261,1],[250,3,250,4],[250,6,250,7],[244,0,246,0],[244,1,246,1],[244,3,244,4],[244,6,244,7],[247,0,249,0],[247,1,249,1],[250,0,252,0],[250,1,252,1],[238,6,238,7],[238,0,240,0],[238,1,240,1],[241,0,243,0],[241,1,243,1],[238,3,238,4],[229,0,231,0],[229,1,231,1],[232,0,234,0],[232,1,234,1],[232,3,232,4],[232,6,232,7],[235,0,237,0],[235,1,237,1],[226,3,226,4],[226,6,226,7],[220,0,222,0],[220,1,222,1],[220,3,220,4],[220,6,220,7],[223,0,225,0],[223,1,225,1],[226,0,228,0],[226,1,228,1],[214,6,214,7],[214,0,216,0],[214,1,216,1],[217,0,219,0],[217,1,219,1],[214,3,214,4],[205,0,207,0],[205,1,207,1],[208,0,210,0],[208,1,210,1],[208,3,208,4],[208,6,208,7],[211,0,213,0],[211,1,213,1],[202,3,202,4],[202,6,202,7],[196,0,198,0],[196,1,198,1],[196,3,196,4],[196,6,196,7],[199,0,201,0],[199,1,201,1],[202,0,204,0],[202,1,204,1],[190,6,190,7],[190,0,192,0],[190,1,192,1],[193,0,195,0],[193,1,195,1],[190,3,190,4],[181,0,183,0],[181,1,183,1],[184,0,186,0],[184,1,186,1],[184,3,184,4],[184,6,184,7],[187,0,189,0],[187,1,189,1],[178,3,178,4],[178,6,178,7],[172,0,174,0],[172,1,174,1],[172,3,172,4],[172,6,172,7],[175,0,177,0],[175,1,177,1],[178,0,180,0],[178,1,180,1],[166,6,166,7],[166,0,168,0],[166,1,168,1],[169,0,171,0],[169,1,171,1],[166,3,166,4],[157,0,159,0],[157,1,159,1],[160,0,162,0],[160,1,162,1],[160,3,160,4],[160,6,160,7],[163,0,165,0],[163,1,165,1],[154,3,154,4],[154,6,154,7],[148,0,150,0],[148,1,150,1],[148,3,148,4],[148,6,148,7],[151,0,153,0],[151,1,153,1],[154,0,156,0],[154,1,156,1],[142,6,142,7],[142,0,144,0],[142,1,144,1],[145,0,147,0],[145,1,147,1],[142,3,142,4],[133,0,135,0],[133,1,135,1],[136,0,138,0],[136,1,138,1],[136,3,136,4],[136,6,136,7],[139,0,141,0],[139,1,141,1],[130,3,130,4],[130,6,130,7],[124,0,126,0],[124,1,126,1],[124,3,124,4],[124,6,124,7],[127,0,129,0],[127,1,129,1],[130,0,132,0],[130,1,132,1],[118,6,118,7],[118,0,120,0],[118,1,120,1],[121,0,123,0],[121,1,123,1],[118,3,118,4],[109,0,111,0],[109,1,111,1],[112,0,114,0],[112,1,114,1],[112,3,112,4],[112,6,112,7],[115,0,117,0],[115,1,117,1],[106,3,106,4],[106,6,106,7],[100,0,102,0],[100,1,102,1],[100,3,100,4],[100,6,100,7],[103,0,105,0],[103,1,105,1],[106,0,108,0],[106,1,108,1],[94,6,94,7],[94,0,96,0],[94,1,96,1],[97,0,99,0],[97,1,99,1],[94,3,94,4],[85,0,87,0],[85,1,87,1],[88,0,90,0],[88,1,90,1],[88,3,88,4],[88,6,88,7],[91,0,93,0],[91,1,93,1],[82,3,82,4],[82,6,82,7],[76,0,78,0],[76,1,78,1],[76,3,76,4],[76,6,76,7],[79,0,81,0],[79,1,81,1],[82,0,84,0],[82,1,84,1],[70,6,70,7],[70,0,72,0],[70,1,72,1],[73,0,75,0],[73,1,75,1],[70,3,70,4],[61,0,63,0],[61,1,63,1],[64,0,66,0],[64,1,66,1],[64,3,64,4],[64,6,64,7],[67,0,69,0],[67,1,69,1],[31,0,33,0],[31,1,33,1],[58,3,58,4],[58,6,58,7],[52,0,54,0],[52,1,54,1],[52,3,52,4],[52,6,52,7],[55,0,57,0],[55,1,57,1],[58,0,60,0],[58,1,60,1],[34,0,36,0],[34,1,36,1],[34,3,34,4],[34,6,34,7],[37,0,39,0],[37,1,39,1],[40,0,42,0],[40,1,42,1],[40,3,40,4],[40,6,40,7],[11,0,12,0],[9,1,10,1],[9,0,10,0],[25,0,27,0],[25,1,27,1],[28,0,30,0],[28,1,30,1],[28,3,28,4],[22,0,24,0],[22,1,24,1],[22,3,22,4],[20,0,21,0],[20,1,21,1],[13,1,14,1],[13,3,13,4],[17,4,17,7],[3,2,3,7],[6,2,6,7],[8,2,8,6],[9,3,9,4],[9,6,9,7],[4,2,4,7],[5,2,5,6],[7,2,7,7],[11,1,12,1],[31,12,33,13],[25,12,27,13],[20,12,20,13],[37,12,39,13],[43,12,45,13],[49,12,51,13],[13,6,13,7],[13,0,14,0],[15,0,16,0],[15,1,16,1],[18,0,19,0],[18,1,19,1],[18,3,18,4],[18,6,18,7],[46,6,46,7],[46,0,48,0],[46,1,48,1],[49,0,51,0],[49,1,51,1],[46,3,46,4],[43,0,45,0],[43,1,45,1],[22,6,22,7],[28,6,28,7],[55,12,57,13],[61,12,63,13],[67,12,69,13],[73,12,75,13],[79,12,81,13],[85,12,87,13],[91,12,93,13],[97,12,99,13],[103,12,105,13],[109,12,111,13],[115,12,117,13],[121,12,123,13],[127,12,129,13],[133,12,135,13],[139,12,141,13],[145,12,147,13],[151,12,153,13],[157,12,159,13],[163,12,165,13],[169,12,171,13],[175,12,177,13],[181,12,183,13],[187,12,189,13],[193,12,195,13],[199,12,201,13],[205,12,207,13],[211,12,213,13],[217,12,219,13],[223,12,225,13],[229,12,231,13],[235,12,237,13],[241,12,243,13],[247,12,249,13],[253,12,255,13],[259,12,261,13],[265,12,267,13],[271,12,273,13],[277,12,279,13],[283,12,285,13],[289,12,291,13],[295,12,297,13],[301,12,303,13],[307,12,309,13],[313,12,315,13],[319,12,321,13],[325,12,327,13],[331,12,333,13],[337,12,339,13],[343,12,345,13],[349,12,351,13],[355,12,357,13],[361,12,363,13],[367,12,369,13],[373,12,375,13],[379,12,381,13],[385,12,387,13],[391,12,393,13],[397,12,399,13],[403,12,405,13],[409,12,411,13],[415,12,417,13],[421,12,423,13],[427,12,429,13],[487,12,489,13],[493,12,495,13],[433,12,435,13],[439,12,441,13],[445,12,447,13],[451,12,453,13],[457,12,459,13],[463,12,465,13],[469,12,471,13],[475,12,477,13],[481,12,483,13]]}
[null,null,"↑マクロが無効になっている場合、マクロを有効化してください"]
[]
[1,"作成年月を入力してください","令和",null,"年",null,"月",null,null,null,null,null,null,null,"・・・","入力する箇所"]
[2,"事業所名を入力してください",null,null,null,null,null,null,null,null,null,null,null,null,"・・・","選択する箇所"]
[3,"事業所番号を入力してください"]
[4,"総定員を入力してください",null,null,null,null,null,"人"]
[5,"該当するサービスを選んでください"]
[6,"④に、各住居ごとの前年度利用者数をそれぞれ入力してください。","④のシートを住居ごとに入力"]
[7,"1週間に当該事業所における常勤職員の勤務すべき時間数（就業規則上に定める時間数）を入力してください",null,null,null,null,null,"時間","10人"]
[8,"管理者の情報を入力してください","名前",null,null,"勤務形態"]
[null,null,"福祉専門職員配置等加算\n対象者",null,"勤続3年",null,"保有資格"]
[9,"管理者が兼務する職種をすべて選択してください。","\nサービス\n管理責任者","\n世話人","\n生活\n支援員","\n夜間\n支援員","\n日中\n支援員","\n加配要員"]
[null,null,false,false,false,false,false,false]
[10,{"$f":"IF($C$13=TRUE,I15,I14)","v":"1人目のサービス管理責任者の情報を入力してください"},"名前",null,null,"勤務形態",null,null,"1人目のサービス管理責任者の情報を入力してください"]
[null,null,"福祉専門職員配置等加算\n対象者",null,"勤続3年",null,"保有資格",null,"入力省略"]
[11,{"$f":"IF($C$13=TRUE,I17,I16)","v":"1人目のサービス管理責任者が兼務する職種をすべて選択してください。"},null,"\n世話人","\n生活\n支援員","\n夜間\n支援員","\n日中\n支援員","\n加配要員","1人目のサービス管理責任者が兼務する職種をすべて選択してください。"]
[null,null,null,false,false,false,false,false,"入力省略"]
[12,"上記以外の従業者の数（頭数）を入力してください。",null,"人",{"$f":"IF(C18>80,I18,\"\")","v":""},null,null,null,"従業員の数が80人を超える場合は指導監査課までご連絡ください。"]
[13,"１人目の従業者の情報を入力してください","名前",null,null,"勤務形態"]
[null,null,"福祉専門職員配置等加算\n対象者",null,"勤続3年",null,"保有資格",null,1]
[14,"１人目の従業者が兼務する職種をすべて選択してください。","\nサービス\n管理責任者","\n世話人","\n生活\n支援員","\n夜間\n支援員","\n日中\n支援員","\n加配要員",null,null,null,null,{"$f":"IF(I23=\"有\",L26,L28)","v":"↑\n押してください"}]
[null,null,false,false,false,false,false,false]
[15,{"$f":"IF(I23=\"有\",+I25&J25,J28)","v":"入力不要"},"名前",null,null,"勤務形態",null,null,{"$f":"IF(I25<=$C$18,\"有\",\"無\")","v":"無"},null,{"$f":"+I23","v":"無"}]
[]
[null,null,"福祉専門職員配置等加算\n対象者",null,"勤続3年",null,"保有資格",null,{"$f":"+I20+1","v":2},"人目の従業者の情報を入力してください",{"$f":"+I23","v":"無"}]
[16,{"$f":"IF(I23=\"有\",+I25&J26,J28)","v":"入力不要"},"\nサービス\n管理責任者","\n世話人","\n生活\n支援員","\n夜間\n支援員","\n日中\n支援員","\n加配要員",null,"人目の従業者が兼務する職種をすべて選択してください。",{"$f":"+I23","v":"無"},"↑\nまだ押さない",{"$f":"IF(I29=\"有\",L26,L28)","v":"↑\n押してください"}]
[]
[null,null,false,false,false,false,false,false,null,"入力不要",{"$f":"+I23","v":"無"},"↑\n押してください"]
[{"$f":"+A26+1","v":17},{"$f":"IF(I29=\"有\",+I31&J31,J34)","v":"入力不要"},"名前",null,null,"勤務形態",null,null,{"$f":"IF(I31<=$C$18,\"有\",\"無\")","v":"無"},null,{"$f":"+I29","v":"無"}]
[]
[null,null,"福祉専門職員配置等加算\n対象者",null,"勤続3年",null,"保有資格",null,{"$f":"+I25+1","v":3},"人目の従業者の情報を入力してください",{"$f":"+I29","v":"無"}]
[{"$f":"+A29+1","v":18},{"$f":"IF(I29=\"有\",+I31&J32,J34)","v":"入力不要"},"\nサービス\n管理責任者","\n世話人","\n生活\n支援員","\n夜間\n支援員","\n日中\n支援員","\n加配要員",null,"人目の従業者が兼務する職種をすべて選択してください。",{"$f":"+I29","v":"無"},"↑\nまだ押さない",{"$f":"IF(I35=\"有\",L32,L34)","v":"↑\n押してください"}]
[]
[null,null,false,false,false,false,false,false,null,"入力不要",{"$f":"+I29","v":"無"},"↑\n押してください"]
[{"$f":"+A32+1","v":19},{"$f":"IF(I35=\"有\",+I37&J37,J40)","v":"入力不要"},"名前",null,null,"勤務形態",null,null,{"$f":"IF(I37<=$C$18,\"有\",\"無\")","v":"無"},null,{"$f":"+I35","v":"無"}]
[]
[null,null,"福祉専門職員配置等加算\n対象者",null,"勤続3年",null,"保有資格",null,{"$f":"+I31+1","v":4},"人目の従業者の情報を入力してください",{"$f":"+I35","v":"無"}]
[{"$f":"+A35+1","v":20},{"$f":"IF(I35=\"有\",+I37&J38,J40)","v":"入力不要"},"\nサービス\n管理責任者","\n世話人","\n生活\n支援員","\n夜間\n支援員","\n日中\n支援員","\n加配要員",null,"人目の従業者が兼務する職種をすべて選択してください。",{"$f":"+I35","v":"無"},"↑\nまだ押さない",{"$f":"IF(I41=\"有\",L38,L40)","v":"↑\n押してください"}]
[]
[null,null,false,false,false,false,false,false,null,"入力不要",{"$f":"+I35","v":"無"},"↑\n押してください"]
[{"$f":"+A38+1","v":21},{"$f":"IF(I41=\"有\",+I43&J43,J46)","v":"入力不要"},"名前",null,null,"勤務形態",null,null,{"$f":"IF(I43<=$C$18,\"有\",\"無\")","v":"無"},null,{"$f":"+I41","v":"無"}]
[]
[null,null,"福祉専門職員配置等加算\n対象者",null,"勤続3年",null,"保有資格",null,{"$f":"+I37+1","v":5},"人目の従業者の情報を入力してください",{"$f":"+I41","v":"無"}]
[{"$f":"+A41+1","v":22},{"$f":"IF(I41=\"有\",+I43&J44,J46)","v":"入力不要"},"\nサービス\n管理責任者","\n世話人","\n生活\n支援員","\n夜間\n支援員","\n日中\n支援員","\n加配要員",null,"人目の従業者が兼務する職種をすべて選択してください。",{"$f":"+I41","v":"無"},"↑\nまだ押さない",{"$f":"IF(I47=\"有\",L44,L46)","v":"↑\n押してください"}]
[]
[null,null,false,false,false,false,false,false,null,"入力不要",{"$f":"+I41","v":"無"},"↑\n押してください"]
[{"$f":"+A44+1","v":23},{"$f":"IF(I47=\"有\",+I49&J49,J52)","v":"入力不要"},"名前",null,null,"勤務形態",null,null,{"$f":"IF(I49<=$C$18,\"有\",\"無\")","v":"無"},null,{"$f":"+I47","v":"無"}]
[]
[null,null,"福祉専門職員配置等加算\n対象者",null,"勤続3年",null,"保有資格",null,{"$f":"+I43+1","v":6},"人目の従業者の情報を入力してください",{"$f":"+I47","v":"無"}]
[{"$f":"+A47+1","v":24},{"$f":"IF(I47=\"有\",+I49&J50,J52)","v":"入力不要"},"\nサービス\n管理責任者","\n世話人","\n生活\n支援員","\n夜間\n支援員","\n日中\n支援員","\n加配要員",null,"人目の従業者が兼務する職種をすべて選択してください。",{"$f":"+I47","v":"無"},"↑\nまだ押さない",{"$f":"IF(I53=\"有\",L50,L52)","v":"↑\n押してください"}]
[]
[null,null,false,false,false,false,false,false,null,"入力不要",{"$f":"+I47","v":"無"},"↑\n押してください"]
[{"$f":"+A50+1","v":25},{"$f":"IF(I53=\"有\",+I55&J55,J58)","v":"入力不要"},"名前",null,null,"勤務形態",null,null,{"$f":"IF(I55<=$C$18,\"有\",\"無\")","v":"無"},null,{"$f":"+I53","v":"無"}]
[]
[null,null,"福祉専門職員配置等加算\n対象者",null,"勤続3年",null,"保有資格",null,{"$f":"+I49+1","v":7},"人目の従業者の情報を入力してください",{"$f":"+I53","v":"無"}]
[{"$f":"+A53+1","v":26},{"$f":"IF(I53=\"有\",+I55&J56,J58)","v":"入力不要"},"\nサービス\n管理責任者","\n世話人","\n生活\n支援員","\n夜間\n支援員","\n日中\n支援員","\n加配要員",null,"人目の従業者が兼務する職種をすべて選択してください。",{"$f":"+I53","v":"無"},"↑\nまだ押さない",{"$f":"IF(I59=\"有\",L56,L58)","v":"↑\n押してください"}]
[]
[null,null,false,false,false,false,false,false,null,"入力不要",{"$f":"+I53","v":"無"},"↑\n押してください"]
[{"$f":"+A56+1","v":27},{"$f":"IF(I59=\"有\",+I61&J61,J64)","v":"入力不要"},"名前",null,null,"勤務形態",null,null,{"$f":"IF(I61<=$C$18,\"有\",\"無\")","v":"無"},null,{"$f":"+I59","v":"無"}]
[]
[null,null,"福祉専門職員配置等加算\n対象者",null,"勤続3年",null,"保有資格",null,{"$f":"+I55+1","v":8},"人目の従業者の情報を入力してください",{"$f":"+I59","v":"無"}]
[{"$f":"+A59+1","v":28},{"$f":"IF(I59=\"有\",+I61&J62,J64)","v":"入力不要"},"\nサービス\n管理責任者","\n世話人","\n生活\n支援員","\n夜間\n支援員","\n日中\n支援員","\n加配要員",null,"人目の従業者が兼務する職種をすべて選択してください。",{"$f":"+I59","v":"無"},"↑\nまだ押さない",{"$f":"IF(I65=\"有\",L62,L64)","v":"↑\n押してください"}]
[]
[null,null,false,false,false,false,false,false,null,"入力不要",{"$f":"+I59","v":"無"},"↑\n押してください"]
[{"$f":"+A62+1","v":29},{"$f":"IF(I65=\"有\",+I67&J67,J70)","v":"入力不要"},"名前",null,null,"勤務形態",null,null,{"$f":"IF(I67<=$C$18,\"有\",\"無\")","v":"無"},null,{"$f":"+I65","v":"無"}]
[]
[null,null,"福祉専門職員配置等加算\n対象者",null,"勤続3年",null,"保有資格",null,{"$f":"+I61+1","v":9},"人目の従業者の情報を入力してください",{"$f":"+I65","v":"無"}]
[{"$f":"+A65+1","v":30},{"$f":"IF(I65=\"有\",+I67&J68,J70)","v":"入力不要"},"\nサービス\n管理責任者","\n世話人","\n生活\n支援員","\n夜間\n支援員","\n日中\n支援員","\n加配要員",null,"人目の従業者が兼務する職種をすべて選択してください。",{"$f":"+I65","v":"無"},"↑\nまだ押さない",{"$f":"IF(I71=\"有\",L68,L70)","v":"↑\n押してください"}]
[]
[null,null,false,false,false,false,false,false,null,"入力不要",{"$f":"+I65","v":"無"},"↑\n押してください"]
[{"$f":"+A68+1","v":31},{"$f":"IF(I71=\"有\",+I73&J73,J76)","v":"入力不要"},"名前",null,null,"勤務形態",null,null,{"$f":"IF(I73<=$C$18,\"有\",\"無\")","v":"無"},null,{"$f":"+I71","v":"無"}]
[]
[null,null,"福祉専門職員配置等加算\n対象者",null,"勤続3年",null,"保有資格",null,{"$f":"+I67+1","v":10},"人目の従業者の情報を入力してください",{"$f":"+I71","v":"無"}]
[{"$f":"+A71+1","v":32},{"$f":"IF(I71=\"有\",+I73&J74,J76)","v":"入力不要"},"\nサービス\n管理責任者","\n世話人","\n生活\n支援員","\n夜間\n支援員","\n日中\n支援員","\n加配要員",null,"人目の従業者が兼務する職種をすべて選択してください。",{"$f":"+I71","v":"無"},"↑\nまだ押さない",{"$f":"IF(I77=\"有\",L74,L76)","v":"↑\n押してください"}]
[]
[null,null,false,false,false,false,false,false,null,"入力不要",{"$f":"+I71","v":"無"},"↑\n押してください"]
[{"$f":"+A74+1","v":33},{"$f":"IF(I77=\"有\",+I79&J79,J82)","v":"入力不要"},"名前",null,null,"勤務形態",null,null,{"$f":"IF(I79<=$C$18,\"有\",\"無\")","v":"無"},null,{"$f":"+I77","v":"無"}]
[]
[null,null,"福祉専門職員配置等加算\n対象者",null,"勤続3年",null,"保有資格",null,{"$f":"+I73+1","v":11},"人目の従業者の情報を入力してください",{"$f":"+I77","v":"無"}]
[{"$f":"+A77+1","v":34},{"$f":"IF(I77=\"有\",+I79&J80,J82)","v":"入力不要"},"\nサービス\n管理責任者","\n世話人","\n生活\n支援員","\n夜間\n支援員","\n日中\n支援員","\n加配要員",null,"人目の従業者が兼務する職種をすべて選択してください。",{"$f":"+I77","v":"無"},"↑\nまだ押さない",{"$f":"IF(I83=\"有\",L80,L82)","v":"↑\n押してください"}]
[]
[null,null,false,false,false,false,false,false,null,"入力不要",{"$f":"+I77","v":"無"},"↑\n押してください"]
[{"$f":"+A80+1","v":35},{"$f":"IF(I83=\"有\",+I85&J85,J88)","v":"入力不要"},"名前",null,null,"勤務形態",null,null,{"$f":"IF(I85<=$C$18,\"有\",\"無\")","v":"無"},null,{"$f":"+I83","v":"無"}]
[]
[null,null,"福祉専門職員配置等加算\n対象者",null,"勤続3年",null,"保有資格",null,{"$f":"+I79+1","v":12},"人目の従業者の情報を入力してください",{"$f":"+I83","v":"無"}]
[{"$f":"+A83+1","v":36},{"$f":"IF(I83=\"有\",+I85&J86,J88)","v":"入力不要"},"\nサービス\n管理責任者","\n世話人","\n生活\n支援員","\n夜間\n支援員","\n日中\n支援員","\n加配要員",null,"人目の従業者が兼務する職種をすべて選択してください。",{"$f":"+I83","v":"無"},"↑\nまだ押さない",{"$f":"IF(I89=\"有\",L86,L88)","v":"↑\n押してください"}]
[]
[null,null,false,false,false,false,false,false,null,"入力不要",{"$f":"+I83","v":"無"},"↑\n押してください"]
[{"$f":"+A86+1","v":37},{"$f":"IF(I89=\"有\",+I91&J91,J94)","v":"入力不要"},"名前",null,null,"勤務形態",null,null,{"$f":"IF(I91<=$C$18,\"有\",\"無\")","v":"無"},null,{"$f":"+I89","v":"無"}]
[]
[null,null,"福祉専門職員配置等加算\n対象者",null,"勤続3年",null,"保有資格",null,{"$f":"+I85+1","v":13},"人目の従業者の情報を入力してください",{"$f":"+I89","v":"無"}]
[{"$f":"+A89+1","v":38},{"$f":"IF(I89=\"有\",+I91&J92,J94)","v":"入力不要"},"\nサービス\n管理責任者","\n世話人","\n生活\n支援員","\n夜間\n支援員","\n日中\n支援員","\n加配要員",null,"人目の従業者が兼務する職種をすべて選択してください。",{"$f":"+I89","v":"無"},"↑\nまだ押さない",{"$f":"IF(I95=\"有\",L92,L94)","v":"↑\n押してください"}]
[]
[null,null,false,false,false,false,false,false,null,"入力不要",{"$f":"+I89","v":"無"},"↑\n押してください"]
[{"$f":"+A92+1","v":39},{"$f":"IF(I95=\"有\",+I97&J97,J100)","v":"入力不要"},"名前",null,null,"勤務形態",null,null,{"$f":"IF(I97<=$C$18,\"有\",\"無\")","v":"無"},null,{"$f":"+I95","v":"無"}]
[]
[null,null,"福祉専門職員配置等加算\n対象者",null,"勤続3年",null,"保有資格",null,{"$f":"+I91+1","v":14},"人目の従業者の情報を入力してください",{"$f":"+I95","v":"無"}]
[{"$f":"+A95+1","v":40},{"$f":"IF(I95=\"有\",+I97&J98,J100)","v":"入力不要"},"\nサービス\n管理責任者","\n世話人","\n生活\n支援員","\n夜間\n支援員","\n日中\n支援員","\n加配要員",null,"人目の従業者が兼務する職種をすべて選択してください。",{"$f":"+I95","v":"無"},"↑\nまだ押さない",{"$f":"IF(I101=\"有\",L98,L100)","v":"↑\n押してください"}]
[]
[null,null,false,false,false,false,false,false,null,"入力不要",{"$f":"+I95","v":"無"},"↑\n押してください"]
[{"$f":"+A98+1","v":41},{"$f":"IF(I101=\"有\",+I103&J103,J106)","v":"入力不要"},"名前",null,null,"勤務形態",null,null,{"$f":"IF(I103<=$C$18,\"有\",\"無\")","v":"無"},null,{"$f":"+I101","v":"無"}]
[]
[null,null,"福祉専門職員配置等加算\n対象者",null,"勤続3年",null,"保有資格",null,{"$f":"+I97+1","v":15},"人目の従業者の情報を入力してください",{"$f":"+I101","v":"無"}]
[{"$f":"+A101+1","v":42},{"$f":"IF(I101=\"有\",+I103&J104,J106)","v":"入力不要"},"\nサービス\n管理責任者","\n世話人","\n生活\n支援員","\n夜間\n支援員","\n日中\n支援員","\n加配要員",null,"人目の従業者が兼務する職種をすべて選択してください。",{"$f":"+I101","v":"無"},"↑\nまだ押さない",{"$f":"IF(I107=\"有\",L104,L106)","v":"↑\n押してください"}]
[]
[null,null,false,false,false,false,false,false,null,"入力不要",{"$f":"+I101","v":"無"},"↑\n押してください"]
[{"$f":"+A104+1","v":43},{"$f":"IF(I107=\"有\",+I109&J109,J112)","v":"入力不要"},"名前",null,null,"勤務形態",null,null,{"$f":"IF(I109<=$C$18,\"有\",\"無\")","v":"無"},null,{"$f":"+I107","v":"無"}]
[]
[null,null,"福祉専門職員配置等加算\n対象者",null,"勤続3年",null,"保有資格",null,{"$f":"+I103+1","v":16},"人目の従業者の情報を入力してください",{"$f":"+I107","v":"無"}]
[{"$f":"+A107+1","v":44},{"$f":"IF(I107=\"有\",+I109&J110,J112)","v":"入力不要"},"\nサービス\n管理責任者","\n世話人","\n生活\n支援員","\n夜間\n支援員","\n日中\n支援員","\n加配要員",null,"人目の従業者が兼務する職種をすべて選択してください。",{"$f":"+I107","v":"無"},"↑\nまだ押さない",{"$f":"IF(I113=\"有\",L110,L112)","v":"↑\n押してください"}]
[]
[null,null,false,false,false,false,false,false,null,"入力不要",{"$f":"+I107","v":"無"},"↑\n押してください"]
[{"$f":"+A110+1","v":45},{"$f":"IF(I113=\"有\",+I115&J115,J118)","v":"入力不要"},"名前",null,null,"勤務形態",null,null,{"$f":"IF(I115<=$C$18,\"有\",\"無\")","v":"無"},null,{"$f":"+I113","v":"無"}]
[]
[null,null,"福祉専門職員配置等加算\n対象者",null,"勤続3年",null,"保有資格",null,{"$f":"+I109+1","v":17},"人目の従業者の情報を入力してください",{"$f":"+I113","v":"無"}]
[{"$f":"+A113+1","v":46},{"$f":"IF(I113=\"有\",+I115&J116,J118)","v":"入力不要"},"\nサービス\n管理責任者","\n世話人","\n生活\n支援員","\n夜間\n支援員","\n日中\n支援員","\n加配要員",null,"人目の従業者が兼務する職種をすべて選択してください。",{"$f":"+I113","v":"無"},"↑\nまだ押さない",{"$f":"IF(I119=\"有\",L116,L118)","v":"↑\n押してください"}]
[]
[null,null,false,false,false,false,false,false,null,"入力不要",{"$f":"+I113","v":"無"},"↑\n押してください"]
[{"$f":"+A116+1","v":47},{"$f":"IF(I119=\"有\",+I121&J121,J124)","v":"入力不要"},"名前",null,null,"勤務形態",null,null,{"$f":"IF(I121<=$C$18,\"有\",\"無\")","v":"無"},null,{"$f":"+I119","v":"無"}]
[]
[null,null,"福祉専門職員配置等加算\n対象者",null,"勤続3年",null,"保有資格",null,{"$f":"+I115+1","v":18},"人目の従業者の情報を入力してください",{"$f":"+I119","v":"無"}]
[{"$f":"+A119+1","v":48},{"$f":"IF(I119=\"有\",+I121&J122,J124)","v":"入力不要"},"\nサービス\n管理責任者","\n世話人","\n生活\n支援員","\n夜間\n支援員","\n日中\n支援員","\n加配要員",null,"人目の従業者が兼務する職種をすべて選択してください。",{"$f":"+I119","v":"無"},"↑\nまだ押さない",{"$f":"IF(I125=\"有\",L122,L124)","v":"↑\n押してください"}]
[]
[null,null,false,false,false,false,false,false,null,"入力不要",{"$f":"+I119","v":"無"},"↑\n押してください"]
[{"$f":"+A122+1","v":49},{"$f":"IF(I125=\"有\",+I127&J127,J130)","v":"入力不要"},"名前",null,null,"勤務形態",null,null,{"$f":"IF(I127<=$C$18,\"有\",\"無\")","v":"無"},null,{"$f":"+I125","v":"無"}]
[]
[null,null,"福祉専門職員配置等加算\n対象者",null,"勤続3年",null,"保有資格",null,{"$f":"+I121+1","v":19},"人目の従業者の情報を入力してください",{"$f":"+I125","v":"無"}]
[{"$f":"+A125+1","v":50},{"$f":"IF(I125=\"有\",+I127&J128,J130)","v":"入力不要"},"\nサービス\n管理責任者","\n世話人","\n生活\n支援員","\n夜間\n支援員","\n日中\n支援員","\n加配要員",null,"人目の従業者が兼務する職種をすべて選択してください。",{"$f":"+I125","v":"無"},"↑\nまだ押さない",{"$f":"IF(I131=\"有\",L128,L130)","v":"↑\n押してください"}]
[]
[null,null,false,false,false,false,false,false,null,"入力不要",{"$f":"+I125","v":"無"},"↑\n押してください"]
[{"$f":"+A128+1","v":51},{"$f":"IF(I131=\"有\",+I133&J133,J136)","v":"入力不要"},"名前",null,null,"勤務形態",null,null,{"$f":"IF(I133<=$C$18,\"有\",\"無\")","v":"無"},null,{"$f":"+I131","v":"無"}]
[]
[null,null,"福祉専門職員配置等加算\n対象者",null,"勤続3年",null,"保有資格",null,{"$f":"+I127+1","v":20},"人目の従業者の情報を入力してください",{"$f":"+I131","v":"無"}]
[{"$f":"+A131+1","v":52},{"$f":"IF(I131=\"有\",+I133&J134,J136)","v":"入力不要"},"\nサービス\n管理責任者","\n世話人","\n生活\n支援員","\n夜間\n支援員","\n日中\n支援員","\n加配要員",null,"人目の従業者が兼務する職種をすべて選択してください。",{"$f":"+I131","v":"無"},"↑\nまだ押さない",{"$f":"IF(I137=\"有\",L134,L136)","v":"↑\n押してください"}]
[]
[null,null,false,false,false,false,false,false,null,"入力不要",{"$f":"+I131","v":"無"},"↑\n押してください"]
[{"$f":"+A134+1","v":53},{"$f":"IF(I137=\"有\",+I139&J139,J142)","v":"入力不要"},"名前",null,null,"勤務形態",null,null,{"$f":"IF(I139<=$C$18,\"有\",\"無\")","v":"無"},null,{"$f":"+I137","v":"無"}]
[]
[null,null,"福祉専門職員配置等加算\n対象者",null,"勤続3年",null,"保有資格",null,{"$f":"+I133+1","v":21},"人目の従業者の情報を入力してください",{"$f":"+I137","v":"無"}]
[{"$f":"+A137+1","v":54},{"$f":"IF(I137=\"有\",+I139&J140,J142)","v":"入力不要"},"\nサービス\n管理責任者","\n世話人","\n生活\n支援員","\n夜間\n支援員","\n日中\n支援員","\n加配要員",null,"人目の従業者が兼務する職種をすべて選択してください。",{"$f":"+I137","v":"無"},"↑\nまだ押さない",{"$f":"IF(I143=\"有\",L140,L142)","v":"↑\n押してください"}]
[]
[null,null,false,false,false,false,false,false,null,"入力不要",{"$f":"+I137","v":"無"},"↑\n押してください"]
[{"$f":"+A140+1","v":55},{"$f":"IF(I143=\"有\",+I145&J145,J148)","v":"入力不要"},"名前",null,null,"勤務形態",null,null,{"$f":"IF(I145<=$C$18,\"有\",\"無\")","v":"無"},null,{"$f":"+I143","v":"無"}]
[]
[null,null,"福祉専門職員配置等加算\n対象者",null,"勤続3年",null,"保有資格",null,{"$f":"+I139+1","v":22},"人目の従業者の情報を入力してください",{"$f":"+I143","v":"無"}]
[{"$f":"+A143+1","v":56},{"$f":"IF(I143=\"有\",+I145&J146,J148)","v":"入力不要"},"\nサービス\n管理責任者","\n世話人","\n生活\n支援員","\n夜間\n支援員","\n日中\n支援員","\n加配要員",null,"人目の従業者が兼務する職種をすべて選択してください。",{"$f":"+I143","v":"無"},"↑\nまだ押さない",{"$f":"IF(I149=\"有\",L146,L148)","v":"↑\n押してください"}]
[]
[null,null,false,false,false,false,false,false,null,"入力不要",{"$f":"+I143","v":"無"},"↑\n押してください"]
[{"$f":"+A146+1","v":57},{"$f":"IF(I149=\"有\",+I151&J151,J154)","v":"入力不要"},"名前",null,null,"勤務形態",null,null,{"$f":"IF(I151<=$C$18,\"有\",\"無\")","v":"無"},null,{"$f":"+I149","v":"無"}]
[]
[null,null,"福祉専門職員配置等加算\n対象者",null,"勤続3年",null,"保有資格",null,{"$f":"+I145+1","v":23},"人目の従業者の情報を入力してください",{"$f":"+I149","v":"無"}]
[{"$f":"+A149+1","v":58},{"$f":"IF(I149=\"有\",+I151&J152,J154)","v":"入力不要"},"\nサービス\n管理責任者","\n世話人","\n生活\n支援員","\n夜間\n支援員","\n日中\n支援員","\n加配要員",null,"人目の従業者が兼務する職種をすべて選択してください。",{"$f":"+I149","v":"無"},"↑\nまだ押さない",{"$f":"IF(I155=\"有\",L152,L154)","v":"↑\n押してください"}]
[]
[null,null,false,false,false,false,false,false,null,"入力不要",{"$f":"+I149","v":"無"},"↑\n押してください"]
[{"$f":"+A152+1","v":59},{"$f":"IF(I155=\"有\",+I157&J157,J160)","v":"入力不要"},"名前",null,null,"勤務形態",null,null,{"$f":"IF(I157<=$C$18,\"有\",\"無\")","v":"無"},null,{"$f":"+I155","v":"無"}]
[]
[null,null,"福祉専門職員配置等加算\n対象者",null,"勤続3年",null,"保有資格",null,{"$f":"+I151+1","v":24},"人目の従業者の情報を入力してください",{"$f":"+I155","v":"無"}]
[{"$f":"+A155+1","v":60},{"$f":"IF(I155=\"有\",+I157&J158,J160)","v":"入力不要"},"\nサービス\n管理責任者","\n世話人","\n生活\n支援員","\n夜間\n支援員","\n日中\n支援員","\n加配要員",null,"人目の従業者が兼務する職種をすべて選択してください。",{"$f":"+I155","v":"無"},"↑\nまだ押さない",{"$f":"IF(I161=\"有\",L158,L160)","v":"↑\n押してください"}]
[]
[null,null,false,false,false,false,false,false,null,"入力不要",{"$f":"+I155","v":"無"},"↑\n押してください"]
[{"$f":"+A158+1","v":61},{"$f":"IF(I161=\"有\",+I163&J163,J166)","v":"入力不要"},"名前",null,null,"勤務形態",null,null,{"$f":"IF(I163<=$C$18,\"有\",\"無\")","v":"無"},null,{"$f":"+I161","v":"無"}]
[]
[null,null,"福祉専門職員配置等加算\n対象者",null,"勤続3年",null,"保有資格",null,{"$f":"+I157+1","v":25},"人目の従業者の情報を入力してください",{"$f":"+I161","v":"無"}]
[{"$f":"+A161+1","v":62},{"$f":"IF(I161=\"有\",+I163&J164,J166)","v":"入力不要"},"\nサービス\n管理責任者","\n世話人","\n生活\n支援員","\n夜間\n支援員","\n日中\n支援員","\n加配要員",null,"人目の従業者が兼務する職種をすべて選択してください。",{"$f":"+I161","v":"無"},"↑\nまだ押さない",{"$f":"IF(I167=\"有\",L164,L166)","v":"↑\n押してください"}]
[]
[null,null,false,false,false,false,false,false,null,"入力不要",{"$f":"+I161","v":"無"},"↑\n押してください"]
[{"$f":"+A164+1","v":63},{"$f":"IF(I167=\"有\",+I169&J169,J172)","v":"入力不要"},"名前",null,null,"勤務形態",null,null,{"$f":"IF(I169<=$C$18,\"有\",\"無\")","v":"無"},null,{"$f":"+I167","v":"無"}]
[]
[null,null,"福祉専門職員配置等加算\n対象者",null,"勤続3年",null,"保有資格",null,{"$f":"+I163+1","v":26},"人目の従業者の情報を入力してください",{"$f":"+I167","v":"無"}]
[{"$f":"+A167+1","v":64},{"$f":"IF(I167=\"有\",+I169&J170,J172)","v":"入力不要"},"\nサービス\n管理責任者","\n世話人","\n生活\n支援員","\n夜間\n支援員","\n日中\n支援員","\n加配要員",null,"人目の従業者が兼務する職種をすべて選択してください。",{"$f":"+I167","v":"無"},"↑\nまだ押さない",{"$f":"IF(I173=\"有\",L170,L172)","v":"↑\n押してください"}]
[]
[null,null,false,false,false,false,false,false,null,"入力不要",{"$f":"+I167","v":"無"},"↑\n押してください"]
[{"$f":"+A170+1","v":65},{"$f":"IF(I173=\"有\",+I175&J175,J178)","v":"入力不要"},"名前",null,null,"勤務形態",null,null,{"$f":"IF(I175<=$C$18,\"有\",\"無\")","v":"無"},null,{"$f":"+I173","v":"無"}]
[]
[null,null,"福祉専門職員配置等加算\n対象者",null,"勤続3年",null,"保有資格",null,{"$f":"+I169+1","v":27},"人目の従業者の情報を入力してください",{"$f":"+I173","v":"無"}]
[{"$f":"+A173+1","v":66},{"$f":"IF(I173=\"有\",+I175&J176,J178)","v":"入力不要"},"\nサービス\n管理責任者","\n世話人","\n生活\n支援員","\n夜間\n支援員","\n日中\n支援員","\n加配要員",null,"人目の従業者が兼務する職種をすべて選択してください。",{"$f":"+I173","v":"無"},"↑\nまだ押さない",{"$f":"IF(I179=\"有\",L176,L178)","v":"↑\n押してください"}]
[]
[null,null,false,false,false,false,false,false,null,"入力不要",{"$f":"+I173","v":"無"},"↑\n押してください"]
[{"$f":"+A176+1","v":67},{"$f":"IF(I179=\"有\",+I181&J181,J184)","v":"入力不要"},"名前",null,null,"勤務形態",null,null,{"$f":"IF(I181<=$C$18,\"有\",\"無\")","v":"無"},null,{"$f":"+I179","v":"無"}]
[]
[null,null,"福祉専門職員配置等加算\n対象者",null,"勤続3年",null,"保有資格",null,{"$f":"+I175+1","v":28},"人目の従業者の情報を入力してください",{"$f":"+I179","v":"無"}]
[{"$f":"+A179+1","v":68},{"$f":"IF(I179=\"有\",+I181&J182,J184)","v":"入力不要"},"\nサービス\n管理責任者","\n世話人","\n生活\n支援員","\n夜間\n支援員","\n日中\n支援員","\n加配要員",null,"人目の従業者が兼務する職種をすべて選択してください。",{"$f":"+I179","v":"無"},"↑\nまだ押さない",{"$f":"IF(I185=\"有\",L182,L184)","v":"↑\n押してください"}]
[]
[null,null,false,false,false,false,false,false,null,"入力不要",{"$f":"+I179","v":"無"},"↑\n押してください"]
[{"$f":"+A182+1","v":69},{"$f":"IF(I185=\"有\",+I187&J187,J190)","v":"入力不要"},"名前",null,null,"勤務形態",null,null,{"$f":"IF(I187<=$C$18,\"有\",\"無\")","v":"無"},null,{"$f":"+I185","v":"無"}]
[]
[null,null,"福祉専門職員配置等加算\n対象者",null,"勤続3年",null,"保有資格",null,{"$f":"+I181+1","v":29},"人目の従業者の情報を入力してください",{"$f":"+I185","v":"無"}]
[{"$f":"+A185+1","v":70},{"$f":"IF(I185=\"有\",+I187&J188,J190)","v":"入力不要"},"\nサービス\n管理責任者","\n世話人","\n生活\n支援員","\n夜間\n支援員","\n日中\n支援員","\n加配要員",null,"人目の従業者が兼務する職種をすべて選択してください。",{"$f":"+I185","v":"無"},"↑\nまだ押さない",{"$f":"IF(I191=\"有\",L188,L190)","v":"↑\n押してください"}]
[]
[null,null,false,false,false,false,false,false,null,"入力不要",{"$f":"+I185","v":"無"},"↑\n押してください"]
[{"$f":"+A188+1","v":71},{"$f":"IF(I191=\"有\",+I193&J193,J196)","v":"入力不要"},"名前",null,null,"勤務形態",null,null,{"$f":"IF(I193<=$C$18,\"有\",\"無\")","v":"無"},null,{"$f":"+I191","v":"無"}]
[]
[null,null,"福祉専門職員配置等加算\n対象者",null,"勤続3年",null,"保有資格",null,{"$f":"+I187+1","v":30},"人目の従業者の情報を入力してください",{"$f":"+I191","v":"無"}]
[{"$f":"+A191+1","v":72},{"$f":"IF(I191=\"有\",+I193&J194,J196)","v":"入力不要"},"\nサービス\n管理責任者","\n世話人","\n生活\n支援員","\n夜間\n支援員","\n日中\n支援員","\n加配要員",null,"人目の従業者が兼務する職種をすべて選択してください。",{"$f":"+I191","v":"無"},"↑\nまだ押さない",{"$f":"IF(I197=\"有\",L194,L196)","v":"↑\n押してください"}]
[]
[null,null,false,false,false,false,false,false,null,"入力不要",{"$f":"+I191","v":"無"},"↑\n押してください"]
[{"$f":"+A194+1","v":73},{"$f":"IF(I197=\"有\",+I199&J199,J202)","v":"入力不要"},"名前",null,null,"勤務形態",null,null,{"$f":"IF(I199<=$C$18,\"有\",\"無\")","v":"無"},null,{"$f":"+I197","v":"無"}]
[]
[null,null,"福祉専門職員配置等加算\n対象者",null,"勤続3年",null,"保有資格",null,{"$f":"+I193+1","v":31},"人目の従業者の情報を入力してください",{"$f":"+I197","v":"無"}]
[{"$f":"+A197+1","v":74},{"$f":"IF(I197=\"有\",+I199&J200,J202)","v":"入力不要"},"\nサービス\n管理責任者","\n世話人","\n生活\n支援員","\n夜間\n支援員","\n日中\n支援員","\n加配要員",null,"人目の従業者が兼務する職種をすべて選択してください。",{"$f":"+I197","v":"無"},"↑\nまだ押さない",{"$f":"IF(I203=\"有\",L200,L202)","v":"↑\n押してください"}]
[]
[null,null,false,false,false,false,false,false,null,"入力不要",{"$f":"+I197","v":"無"},"↑\n押してください"]
[{"$f":"+A200+1","v":75},{"$f":"IF(I203=\"有\",+I205&J205,J208)","v":"入力不要"},"名前",null,null,"勤務形態",null,null,{"$f":"IF(I205<=$C$18,\"有\",\"無\")","v":"無"},null,{"$f":"+I203","v":"無"}]
[]
[null,null,"福祉専門職員配置等加算\n対象者",null,"勤続3年",null,"保有資格",null,{"$f":"+I199+1","v":32},"人目の従業者の情報を入力してください",{"$f":"+I203","v":"無"}]
[{"$f":"+A203+1","v":76},{"$f":"IF(I203=\"有\",+I205&J206,J208)","v":"入力不要"},"\nサービス\n管理責任者","\n世話人","\n生活\n支援員","\n夜間\n支援員","\n日中\n支援員","\n加配要員",null,"人目の従業者が兼務する職種をすべて選択してください。",{"$f":"+I203","v":"無"},"↑\nまだ押さない",{"$f":"IF(I209=\"有\",L206,L208)","v":"↑\n押してください"}]
[]
[null,null,false,false,false,false,false,false,null,"入力不要",{"$f":"+I203","v":"無"},"↑\n押してください"]
[{"$f":"+A206+1","v":77},{"$f":"IF(I209=\"有\",+I211&J211,J214)","v":"入力不要"},"名前",null,null,"勤務形態",null,null,{"$f":"IF(I211<=$C$18,\"有\",\"無\")","v":"無"},null,{"$f":"+I209","v":"無"}]
[]
[null,null,"福祉専門職員配置等加算\n対象者",null,"勤続3年",null,"保有資格",null,{"$f":"+I205+1","v":33},"人目の従業者の情報を入力してください",{"$f":"+I209","v":"無"}]
[{"$f":"+A209+1","v":78},{"$f":"IF(I209=\"有\",+I211&J212,J214)","v":"入力不要"},"\nサービス\n管理責任者","\n世話人","\n生活\n支援員","\n夜間\n支援員","\n日中\n支援員","\n加配要員",null,"人目の従業者が兼務する職種をすべて選択してください。",{"$f":"+I209","v":"無"},"↑\nまだ押さない",{"$f":"IF(I215=\"有\",L212,L214)","v":"↑\n押してください"}]
[]
[null,null,false,false,false,false,false,false,null,"入力不要",{"$f":"+I209","v":"無"},"↑\n押してください"]
[{"$f":"+A212+1","v":79},{"$f":"IF(I215=\"有\",+I217&J217,J220)","v":"入力不要"},"名前",null,null,"勤務形態",null,null,{"$f":"IF(I217<=$C$18,\"有\",\"無\")","v":"無"},null,{"$f":"+I215","v":"無"}]
[]
[null,null,"福祉専門職員配置等加算\n対象者",null,"勤続3年",null,"保有資格",null,{"$f":"+I211+1","v":34},"人目の従業者の情報を入力してください",{"$f":"+I215","v":"無"}]
[{"$f":"+A215+1","v":80},{"$f":"IF(I215=\"有\",+I217&J218,J220)","v":"入力不要"},"\nサービス\n管理責任者","\n世話人","\n生活\n支援員","\n夜間\n支援員","\n日中\n支援員","\n加配要員",null,"人目の従業者が兼務する職種をすべて選択してください。",{"$f":"+I215","v":"無"},"↑\nまだ押さない",{"$f":"IF(I221=\"有\",L218,L220)","v":"↑\n押してください"}]
[]
[null,null,false,false,false,false,false,false,null,"入力不要",{"$f":"+I215","v":"無"},"↑\n押してください"]
[{"$f":"+A218+1","v":81},{"$f":"IF(I221=\"有\",+I223&J223,J226)","v":"入力不要"},"名前",null,null,"勤務形態",null,null,{"$f":"IF(I223<=$C$18,\"有\",\"無\")","v":"無"},null,{"$f":"+I221","v":"無"}]
[]
[null,null,"福祉専門職員配置等加算\n対象者",null,"勤続3年",null,"保有資格",null,{"$f":"+I217+1","v":35},"人目の従業者の情報を入力してください",{"$f":"+I221","v":"無"}]
[{"$f":"+A221+1","v":82},{"$f":"IF(I221=\"有\",+I223&J224,J226)","v":"入力不要"},"\nサービス\n管理責任者","\n世話人","\n生活\n支援員","\n夜間\n支援員","\n日中\n支援員","\n加配要員",null,"人目の従業者が兼務する職種をすべて選択してください。",{"$f":"+I221","v":"無"},"↑\nまだ押さない",{"$f":"IF(I227=\"有\",L224,L226)","v":"↑\n押してください"}]
[]
[null,null,false,false,false,false,false,false,null,"入力不要",{"$f":"+I221","v":"無"},"↑\n押してください"]
[{"$f":"+A224+1","v":83},{"$f":"IF(I227=\"有\",+I229&J229,J232)","v":"入力不要"},"名前",null,null,"勤務形態",null,null,{"$f":"IF(I229<=$C$18,\"有\",\"無\")","v":"無"},null,{"$f":"+I227","v":"無"}]
[]
[null,null,"福祉専門職員配置等加算\n対象者",null,"勤続3年",null,"保有資格",null,{"$f":"+I223+1","v":36},"人目の従業者の情報を入力してください",{"$f":"+I227","v":"無"}]
[{"$f":"+A227+1","v":84},{"$f":"IF(I227=\"有\",+I229&J230,J232)","v":"入力不要"},"\nサービス\n管理責任者","\n世話人","\n生活\n支援員","\n夜間\n支援員","\n日中\n支援員","\n加配要員",null,"人目の従業者が兼務する職種をすべて選択してください。",{"$f":"+I227","v":"無"},"↑\nまだ押さない",{"$f":"IF(I233=\"有\",L230,L232)","v":"↑\n押してください"}]
[]
[null,null,false,false,false,false,false,false,null,"入力不要",{"$f":"+I227","v":"無"},"↑\n押してください"]
[{"$f":"+A230+1","v":85},{"$f":"IF(I233=\"有\",+I235&J235,J238)","v":"入力不要"},"名前",null,null,"勤務形態",null,null,{"$f":"IF(I235<=$C$18,\"有\",\"無\")","v":"無"},null,{"$f":"+I233","v":"無"}]
[]
[null,null,"福祉専門職員配置等加算\n対象者",null,"勤続3年",null,"保有資格",null,{"$f":"+I229+1","v":37},"人目の従業者の情報を入力してください",{"$f":"+I233","v":"無"}]
[{"$f":"+A233+1","v":86},{"$f":"IF(I233=\"有\",+I235&J236,J238)","v":"入力不要"},"\nサービス\n管理責任者","\n世話人","\n生活\n支援員","\n夜間\n支援員","\n日中\n支援員","\n加配要員",null,"人目の従業者が兼務する職種をすべて選択してください。",{"$f":"+I233","v":"無"},"↑\nまだ押さない",{"$f":"IF(I239=\"有\",L236,L238)","v":"↑\n押してください"}]
[]
[null,null,false,false,false,false,false,false,null,"入力不要",{"$f":"+I233","v":"無"},"↑\n押してください"]
[{"$f":"+A236+1","v":87},{"$f":"IF(I239=\"有\",+I241&J241,J244)","v":"入力不要"},"名前",null,null,"勤務形態",null,null,{"$f":"IF(I241<=$C$18,\"有\",\"無\")","v":"無"},null,{"$f":"+I239","v":"無"}]
[]
[null,null,"福祉専門職員配置等加算\n対象者",null,"勤続3年",null,"保有資格",null,{"$f":"+I235+1","v":38},"人目の従業者の情報を入力してください",{"$f":"+I239","v":"無"}]
[{"$f":"+A239+1","v":88},{"$f":"IF(I239=\"有\",+I241&J242,J244)","v":"入力不要"},"\nサービス\n管理責任者","\n世話人","\n生活\n支援員","\n夜間\n支援員","\n日中\n支援員","\n加配要員",null,"人目の従業者が兼務する職種をすべて選択してください。",{"$f":"+I239","v":"無"},"↑\nまだ押さない",{"$f":"IF(I245=\"有\",L242,L244)","v":"↑\n押してください"}]
[]
[null,null,false,false,false,false,false,false,null,"入力不要",{"$f":"+I239","v":"無"},"↑\n押してください"]
[{"$f":"+A242+1","v":89},{"$f":"IF(I245=\"有\",+I247&J247,J250)","v":"入力不要"},"名前",null,null,"勤務形態",null,null,{"$f":"IF(I247<=$C$18,\"有\",\"無\")","v":"無"},null,{"$f":"+I245","v":"無"}]
[]
[null,null,"福祉専門職員配置等加算\n対象者",null,"勤続3年",null,"保有資格",null,{"$f":"+I241+1","v":39},"人目の従業者の情報を入力してください",{"$f":"+I245","v":"無"}]
[{"$f":"+A245+1","v":90},{"$f":"IF(I245=\"有\",+I247&J248,J250)","v":"入力不要"},"\nサービス\n管理責任者","\n世話人","\n生活\n支援員","\n夜間\n支援員","\n日中\n支援員","\n加配要員",null,"人目の従業者が兼務する職種をすべて選択してください。",{"$f":"+I245","v":"無"},"↑\nまだ押さない",{"$f":"IF(I251=\"有\",L248,L250)","v":"↑\n押してください"}]
[]
[null,null,false,false,false,false,false,false,null,"入力不要",{"$f":"+I245","v":"無"},"↑\n押してください"]
[{"$f":"+A248+1","v":91},{"$f":"IF(I251=\"有\",+I253&J253,J256)","v":"入力不要"},"名前",null,null,"勤務形態",null,null,{"$f":"IF(I253<=$C$18,\"有\",\"無\")","v":"無"},null,{"$f":"+I251","v":"無"}]
[]
[null,null,"福祉専門職員配置等加算\n対象者",null,"勤続3年",null,"保有資格",null,{"$f":"+I247+1","v":40},"人目の従業者の情報を入力してください",{"$f":"+I251","v":"無"}]
[{"$f":"+A251+1","v":92},{"$f":"IF(I251=\"有\",+I253&J254,J256)","v":"入力不要"},"\nサービス\n管理責任者","\n世話人","\n生活\n支援員","\n夜間\n支援員","\n日中\n支援員","\n加配要員",null,"人目の従業者が兼務する職種をすべて選択してください。",{"$f":"+I251","v":"無"},"↑\nまだ押さない",{"$f":"IF(I257=\"有\",L254,L256)","v":"↑\n押してください"}]
[]
[null,null,false,false,false,false,false,false,null,"入力不要",{"$f":"+I251","v":"無"},"↑\n押してください"]
[{"$f":"+A254+1","v":93},{"$f":"IF(I257=\"有\",+I259&J259,J262)","v":"入力不要"},"名前",null,null,"勤務形態",null,null,{"$f":"IF(I259<=$C$18,\"有\",\"無\")","v":"無"},null,{"$f":"+I257","v":"無"}]
[]
[null,null,"福祉専門職員配置等加算\n対象者",null,"勤続3年",null,"保有資格",null,{"$f":"+I253+1","v":41},"人目の従業者の情報を入力してください",{"$f":"+I257","v":"無"}]
[{"$f":"+A257+1","v":94},{"$f":"IF(I257=\"有\",+I259&J260,J262)","v":"入力不要"},"\nサービス\n管理責任者","\n世話人","\n生活\n支援員","\n夜間\n支援員","\n日中\n支援員","\n加配要員",null,"人目の従業者が兼務する職種をすべて選択してください。",{"$f":"+I257","v":"無"},"↑\nまだ押さない",{"$f":"IF(I263=\"有\",L260,L262)","v":"↑\n押してください"}]
[]
[null,null,false,false,false,false,false,false,null,"入力不要",{"$f":"+I257","v":"無"},"↑\n押してください"]
[{"$f":"+A260+1","v":95},{"$f":"IF(I263=\"有\",+I265&J265,J268)","v":"入力不要"},"名前",null,null,"勤務形態",null,null,{"$f":"IF(I265<=$C$18,\"有\",\"無\")","v":"無"},null,{"$f":"+I263","v":"無"}]
[]
[null,null,"福祉専門職員配置等加算\n対象者",null,"勤続3年",null,"保有資格",null,{"$f":"+I259+1","v":42},"人目の従業者の情報を入力してください",{"$f":"+I263","v":"無"}]
[{"$f":"+A263+1","v":96},{"$f":"IF(I263=\"有\",+I265&J266,J268)","v":"入力不要"},"\nサービス\n管理責任者","\n世話人","\n生活\n支援員","\n夜間\n支援員","\n日中\n支援員","\n加配要員",null,"人目の従業者が兼務する職種をすべて選択してください。",{"$f":"+I263","v":"無"},"↑\nまだ押さない",{"$f":"IF(I269=\"有\",L266,L268)","v":"↑\n押してください"}]
[]
[null,null,false,false,false,false,false,false,null,"入力不要",{"$f":"+I263","v":"無"},"↑\n押してください"]
[{"$f":"+A266+1","v":97},{"$f":"IF(I269=\"有\",+I271&J271,J274)","v":"入力不要"},"名前",null,null,"勤務形態",null,null,{"$f":"IF(I271<=$C$18,\"有\",\"無\")","v":"無"},null,{"$f":"+I269","v":"無"}]
[]
[null,null,"福祉専門職員配置等加算\n対象者",null,"勤続3年",null,"保有資格",null,{"$f":"+I265+1","v":43},"人目の従業者の情報を入力してください",{"$f":"+I269","v":"無"}]
[{"$f":"+A269+1","v":98},{"$f":"IF(I269=\"有\",+I271&J272,J274)","v":"入力不要"},"\nサービス\n管理責任者","\n世話人","\n生活\n支援員","\n夜間\n支援員","\n日中\n支援員","\n加配要員",null,"人目の従業者が兼務する職種をすべて選択してください。",{"$f":"+I269","v":"無"},"↑\nまだ押さない",{"$f":"IF(I275=\"有\",L272,L274)","v":"↑\n押してください"}]
[]
[null,null,false,false,false,false,false,false,null,"入力不要",{"$f":"+I269","v":"無"},"↑\n押してください"]
[{"$f":"+A272+1","v":99},{"$f":"IF(I275=\"有\",+I277&J277,J280)","v":"入力不要"},"名前",null,null,"勤務形態",null,null,{"$f":"IF(I277<=$C$18,\"有\",\"無\")","v":"無"},null,{"$f":"+I275","v":"無"}]
[]
[null,null,"福祉専門職員配置等加算\n対象者",null,"勤続3年",null,"保有資格",null,{"$f":"+I271+1","v":44},"人目の従業者の情報を入力してください",{"$f":"+I275","v":"無"}]
[{"$f":"+A275+1","v":100},{"$f":"IF(I275=\"有\",+I277&J278,J280)","v":"入力不要"},"\nサービス\n管理責任者","\n世話人","\n生活\n支援員","\n夜間\n支援員","\n日中\n支援員","\n加配要員",null,"人目の従業者が兼務する職種をすべて選択してください。",{"$f":"+I275","v":"無"},"↑\nまだ押さない",{"$f":"IF(I281=\"有\",L278,L280)","v":"↑\n押してください"}]
[]
[null,null,false,false,false,false,false,false,null,"入力不要",{"$f":"+I275","v":"無"},"↑\n押してください"]
[{"$f":"+A278+1","v":101},{"$f":"IF(I281=\"有\",+I283&J283,J286)","v":"入力不要"},"名前",null,null,"勤務形態",null,null,{"$f":"IF(I283<=$C$18,\"有\",\"無\")","v":"無"},null,{"$f":"+I281","v":"無"}]
[]
[null,null,"福祉専門職員配置等加算\n対象者",null,"勤続3年",null,"保有資格",null,{"$f":"+I277+1","v":45},"人目の従業者の情報を入力してください",{"$f":"+I281","v":"無"}]
[{"$f":"+A281+1","v":102},{"$f":"IF(I281=\"有\",+I283&J284,J286)","v":"入力不要"},"\nサービス\n管理責任者","\n世話人","\n生活\n支援員","\n夜間\n支援員","\n日中\n支援員","\n加配要員",null,"人目の従業者が兼務する職種をすべて選択してください。",{"$f":"+I281","v":"無"},"↑\nまだ押さない",{"$f":"IF(I287=\"有\",L284,L286)","v":"↑\n押してください"}]
[]
[null,null,false,false,false,false,false,false,null,"入力不要",{"$f":"+I281","v":"無"},"↑\n押してください"]
[{"$f":"+A284+1","v":103},{"$f":"IF(I287=\"有\",+I289&J289,J292)","v":"入力不要"},"名前",null,null,"勤務形態",null,null,{"$f":"IF(I289<=$C$18,\"有\",\"無\")","v":"無"},null,{"$f":"+I287","v":"無"}]
[]
[null,null,"福祉専門職員配置等加算\n対象者",null,"勤続3年",null,"保有資格",null,{"$f":"+I283+1","v":46},"人目の従業者の情報を入力してください",{"$f":"+I287","v":"無"}]
[{"$f":"+A287+1","v":104},{"$f":"IF(I287=\"有\",+I289&J290,J292)","v":"入力不要"},"\nサービス\n管理責任者","\n世話人","\n生活\n支援員","\n夜間\n支援員","\n日中\n支援員","\n加配要員",null,"人目の従業者が兼務する職種をすべて選択してください。",{"$f":"+I287","v":"無"},"↑\nまだ押さない",{"$f":"IF(I293=\"有\",L290,L292)","v":"↑\n押してください"}]
[]
[null,null,false,false,false,false,false,false,null,"入力不要",{"$f":"+I287","v":"無"},"↑\n押してください"]
[{"$f":"+A290+1","v":105},{"$f":"IF(I293=\"有\",+I295&J295,J298)","v":"入力不要"},"名前",null,null,"勤務形態",null,null,{"$f":"IF(I295<=$C$18,\"有\",\"無\")","v":"無"},null,{"$f":"+I293","v":"無"}]
[]
[null,null,"福祉専門職員配置等加算\n対象者",null,"勤続3年",null,"保有資格",null,{"$f":"+I289+1","v":47},"人目の従業者の情報を入力してください",{"$f":"+I293","v":"無"}]
[{"$f":"+A293+1","v":106},{"$f":"IF(I293=\"有\",+I295&J296,J298)","v":"入力不要"},"\nサービス\n管理責任者","\n世話人","\n生活\n支援員","\n夜間\n支援員","\n日中\n支援員","\n加配要員",null,"人目の従業者が兼務する職種をすべて選択してください。",{"$f":"+I293","v":"無"},"↑\nまだ押さない",{"$f":"IF(I299=\"有\",L296,L298)","v":"↑\n押してください"}]
[]
[null,null,false,false,false,false,false,false,null,"入力不要",{"$f":"+I293","v":"無"},"↑\n押してください"]
[{"$f":"+A296+1","v":107},{"$f":"IF(I299=\"有\",+I301&J301,J304)","v":"入力不要"},"名前",null,null,"勤務形態",null,null,{"$f":"IF(I301<=$C$18,\"有\",\"無\")","v":"無"},null,{"$f":"+I299","v":"無"}]
[]
[null,null,"福祉専門職員配置等加算\n対象者",null,"勤続3年",null,"保有資格",null,{"$f":"+I295+1","v":48},"人目の従業者の情報を入力してください",{"$f":"+I299","v":"無"}]
[{"$f":"+A299+1","v":108},{"$f":"IF(I299=\"有\",+I301&J302,J304)","v":"入力不要"},"\nサービス\n管理責任者","\n世話人","\n生活\n支援員","\n夜間\n支援員","\n日中\n支援員","\n加配要員",null,"人目の従業者が兼務する職種をすべて選択してください。",{"$f":"+I299","v":"無"},"↑\nまだ押さない",{"$f":"IF(I305=\"有\",L302,L304)","v":"↑\n押してください"}]
[]
[null,null,false,false,false,false,false,false,null,"入力不要",{"$f":"+I299","v":"無"},"↑\n押してください"]
[{"$f":"+A302+1","v":109},{"$f":"IF(I305=\"有\",+I307&J307,J310)","v":"入力不要"},"名前",null,null,"勤務形態",null,null,{"$f":"IF(I307<=$C$18,\"有\",\"無\")","v":"無"},null,{"$f":"+I305","v":"無"}]
[]
[null,null,"福祉専門職員配置等加算\n対象者",null,"勤続3年",null,"保有資格",null,{"$f":"+I301+1","v":49},"人目の従業者の情報を入力してください",{"$f":"+I305","v":"無"}]
[{"$f":"+A305+1","v":110},{"$f":"IF(I305=\"有\",+I307&J308,J310)","v":"入力不要"},"\nサービス\n管理責任者","\n世話人","\n生活\n支援員","\n夜間\n支援員","\n日中\n支援員","\n加配要員",null,"人目の従業者が兼務する職種をすべて選択してください。",{"$f":"+I305","v":"無"},"↑\nまだ押さない",{"$f":"IF(I311=\"有\",L308,L310)","v":"↑\n押してください"}]
[]
[null,null,false,false,false,false,false,false,null,"入力不要",{"$f":"+I305","v":"無"},"↑\n押してください"]
[{"$f":"+A308+1","v":111},{"$f":"IF(I311=\"有\",+I313&J313,J316)","v":"入力不要"},"名前",null,null,"勤務形態",null,null,{"$f":"IF(I313<=$C$18,\"有\",\"無\")","v":"無"},null,{"$f":"+I311","v":"無"}]
[]
[null,null,"福祉専門職員配置等加算\n対象者",null,"勤続3年",null,"保有資格",null,{"$f":"+I307+1","v":50},"人目の従業者の情報を入力してください",{"$f":"+I311","v":"無"}]
[{"$f":"+A311+1","v":112},{"$f":"IF(I311=\"有\",+I313&J314,J316)","v":"入力不要"},"\nサービス\n管理責任者","\n世話人","\n生活\n支援員","\n夜間\n支援員","\n日中\n支援員","\n加配要員",null,"人目の従業者が兼務する職種をすべて選択してください。",{"$f":"+I311","v":"無"},"↑\nまだ押さない",{"$f":"IF(I317=\"有\",L314,L316)","v":"↑\n押してください"}]
[]
[null,null,false,false,false,false,false,false,null,"入力不要",{"$f":"+I311","v":"無"},"↑\n押してください"]
[{"$f":"+A314+1","v":113},{"$f":"IF(I317=\"有\",+I319&J319,J322)","v":"入力不要"},"名前",null,null,"勤務形態",null,null,{"$f":"IF(I319<=$C$18,\"有\",\"無\")","v":"無"},null,{"$f":"+I317","v":"無"}]
[]
[null,null,"福祉専門職員配置等加算\n対象者",null,"勤続3年",null,"保有資格",null,{"$f":"+I313+1","v":51},"人目の従業者の情報を入力してください",{"$f":"+I317","v":"無"}]
[{"$f":"+A317+1","v":114},{"$f":"IF(I317=\"有\",+I319&J320,J322)","v":"入力不要"},"\nサービス\n管理責任者","\n世話人","\n生活\n支援員","\n夜間\n支援員","\n日中\n支援員","\n加配要員",null,"人目の従業者が兼務する職種をすべて選択してください。",{"$f":"+I317","v":"無"},"↑\nまだ押さない",{"$f":"IF(I323=\"有\",L320,L322)","v":"↑\n押してください"}]
[]
[null,null,false,false,false,false,false,false,null,"入力不要",{"$f":"+I317","v":"無"},"↑\n押してください"]
[{"$f":"+A320+1","v":115},{"$f":"IF(I323=\"有\",+I325&J325,J328)","v":"入力不要"},"名前",null,null,"勤務形態",null,null,{"$f":"IF(I325<=$C$18,\"有\",\"無\")","v":"無"},null,{"$f":"+I323","v":"無"}]
[]
[null,null,"福祉専門職員配置等加算\n対象者",null,"勤続3年",null,"保有資格",null,{"$f":"+I319+1","v":52},"人目の従業者の情報を入力してください",{"$f":"+I323","v":"無"}]
[{"$f":"+A323+1","v":116},{"$f":"IF(I323=\"有\",+I325&J326,J328)","v":"入力不要"},"\nサービス\n管理責任者","\n世話人","\n生活\n支援員","\n夜間\n支援員","\n日中\n支援員","\n加配要員",null,"人目の従業者が兼務する職種をすべて選択してください。",{"$f":"+I323","v":"無"},"↑\nまだ押さない",{"$f":"IF(I329=\"有\",L326,L328)","v":"↑\n押してください"}]
[]
[null,null,false,false,false,false,false,false,null,"入力不要",{"$f":"+I323","v":"無"},"↑\n押してください"]
[{"$f":"+A326+1","v":117},{"$f":"IF(I329=\"有\",+I331&J331,J334)","v":"入力不要"},"名前",null,null,"勤務形態",null,null,{"$f":"IF(I331<=$C$18,\"有\",\"無\")","v":"無"},null,{"$f":"+I329","v":"無"}]
[]
[null,null,"福祉専門職員配置等加算\n対象者",null,"勤続3年",null,"保有資格",null,{"$f":"+I325+1","v":53},"人目の従業者の情報を入力してください",{"$f":"+I329","v":"無"}]
[{"$f":"+A329+1","v":118},{"$f":"IF(I329=\"有\",+I331&J332,J334)","v":"入力不要"},"\nサービス\n管理責任者","\n世話人","\n生活\n支援員","\n夜間\n支援員","\n日中\n支援員","\n加配要員",null,"人目の従業者が兼務する職種をすべて選択してください。",{"$f":"+I329","v":"無"},"↑\nまだ押さない",{"$f":"IF(I335=\"有\",L332,L334)","v":"↑\n押してください"}]
[]
[null,null,false,false,false,false,false,false,null,"入力不要",{"$f":"+I329","v":"無"},"↑\n押してください"]
[{"$f":"+A332+1","v":119},{"$f":"IF(I335=\"有\",+I337&J337,J340)","v":"入力不要"},"名前",null,null,"勤務形態",null,null,{"$f":"IF(I337<=$C$18,\"有\",\"無\")","v":"無"},null,{"$f":"+I335","v":"無"}]
[]
[null,null,"福祉専門職員配置等加算\n対象者",null,"勤続3年",null,"保有資格",null,{"$f":"+I331+1","v":54},"人目の従業者の情報を入力してください",{"$f":"+I335","v":"無"}]
[{"$f":"+A335+1","v":120},{"$f":"IF(I335=\"有\",+I337&J338,J340)","v":"入力不要"},"\nサービス\n管理責任者","\n世話人","\n生活\n支援員","\n夜間\n支援員","\n日中\n支援員","\n加配要員",null,"人目の従業者が兼務する職種をすべて選択してください。",{"$f":"+I335","v":"無"},"↑\nまだ押さない",{"$f":"IF(I341=\"有\",L338,L340)","v":"↑\n押してください"}]
[]
[null,null,false,false,false,false,false,false,null,"入力不要",{"$f":"+I335","v":"無"},"↑\n押してください"]
[{"$f":"+A338+1","v":121},{"$f":"IF(I341=\"有\",+I343&J343,J346)","v":"入力不要"},"名前",null,null,"勤務形態",null,null,{"$f":"IF(I343<=$C$18,\"有\",\"無\")","v":"無"},null,{"$f":"+I341","v":"無"}]
[]
[null,null,"福祉専門職員配置等加算\n対象者",null,"勤続3年",null,"保有資格",null,{"$f":"+I337+1","v":55},"人目の従業者の情報を入力してください",{"$f":"+I341","v":"無"}]
[{"$f":"+A341+1","v":122},{"$f":"IF(I341=\"有\",+I343&J344,J346)","v":"入力不要"},"\nサービス\n管理責任者","\n世話人","\n生活\n支援員","\n夜間\n支援員","\n日中\n支援員","\n加配要員",null,"人目の従業者が兼務する職種をすべて選択してください。",{"$f":"+I341","v":"無"},"↑\nまだ押さない",{"$f":"IF(I347=\"有\",L344,L346)","v":"↑\n押してください"}]
[]
[null,null,false,false,false,false,false,false,null,"入力不要",{"$f":"+I341","v":"無"},"↑\n押してください"]
[{"$f":"+A344+1","v":123},{"$f":"IF(I347=\"有\",+I349&J349,J352)","v":"入力不要"},"名前",null,null,"勤務形態",null,null,{"$f":"IF(I349<=$C$18,\"有\",\"無\")","v":"無"},null,{"$f":"+I347","v":"無"}]
[]
[null,null,"福祉専門職員配置等加算\n対象者",null,"勤続3年",null,"保有資格",null,{"$f":"+I343+1","v":56},"人目の従業者の情報を入力してください",{"$f":"+I347","v":"無"}]
[{"$f":"+A347+1","v":124},{"$f":"IF(I347=\"有\",+I349&J350,J352)","v":"入力不要"},"\nサービス\n管理責任者","\n世話人","\n生活\n支援員","\n夜間\n支援員","\n日中\n支援員","\n加配要員",null,"人目の従業者が兼務する職種をすべて選択してください。",{"$f":"+I347","v":"無"},"↑\nまだ押さない",{"$f":"IF(I353=\"有\",L350,L352)","v":"↑\n押してください"}]
[]
[null,null,false,false,false,false,false,false,null,"入力不要",{"$f":"+I347","v":"無"},"↑\n押してください"]
[{"$f":"+A350+1","v":125},{"$f":"IF(I353=\"有\",+I355&J355,J358)","v":"入力不要"},"名前",null,null,"勤務形態",null,null,{"$f":"IF(I355<=$C$18,\"有\",\"無\")","v":"無"},null,{"$f":"+I353","v":"無"}]
[]
[null,null,"福祉専門職員配置等加算\n対象者",null,"勤続3年",null,"保有資格",null,{"$f":"+I349+1","v":57},"人目の従業者の情報を入力してください",{"$f":"+I353","v":"無"}]
[{"$f":"+A353+1","v":126},{"$f":"IF(I353=\"有\",+I355&J356,J358)","v":"入力不要"},"\nサービス\n管理責任者","\n世話人","\n生活\n支援員","\n夜間\n支援員","\n日中\n支援員","\n加配要員",null,"人目の従業者が兼務する職種をすべて選択してください。",{"$f":"+I353","v":"無"},"↑\nまだ押さない",{"$f":"IF(I359=\"有\",L356,L358)","v":"↑\n押してください"}]
[]
[null,null,false,false,false,false,false,false,null,"入力不要",{"$f":"+I353","v":"無"},"↑\n押してください"]
[{"$f":"+A356+1","v":127},{"$f":"IF(I359=\"有\",+I361&J361,J364)","v":"入力不要"},"名前",null,null,"勤務形態",null,null,{"$f":"IF(I361<=$C$18,\"有\",\"無\")","v":"無"},null,{"$f":"+I359","v":"無"}]
[]
[null,null,"福祉専門職員配置等加算\n対象者",null,"勤続3年",null,"保有資格",null,{"$f":"+I355+1","v":58},"人目の従業者の情報を入力してください",{"$f":"+I359","v":"無"}]
[{"$f":"+A359+1","v":128},{"$f":"IF(I359=\"有\",+I361&J362,J364)","v":"入力不要"},"\nサービス\n管理責任者","\n世話人","\n生活\n支援員","\n夜間\n支援員","\n日中\n支援員","\n加配要員",null,"人目の従業者が兼務する職種をすべて選択してください。",{"$f":"+I359","v":"無"},"↑\nまだ押さない",{"$f":"IF(I365=\"有\",L362,L364)","v":"↑\n押してください"}]
[]
[null,null,false,false,false,false,false,false,null,"入力不要",{"$f":"+I359","v":"無"},"↑\n押してください"]
[{"$f":"+A362+1","v":129},{"$f":"IF(I365=\"有\",+I367&J367,J370)","v":"入力不要"},"名前",null,null,"勤務形態",null,null,{"$f":"IF(I367<=$C$18,\"有\",\"無\")","v":"無"},null,{"$f":"+I365","v":"無"}]
[]
[null,null,"福祉専門職員配置等加算\n対象者",null,"勤続3年",null,"保有資格",null,{"$f":"+I361+1","v":59},"人目の従業者の情報を入力してください",{"$f":"+I365","v":"無"}]
[{"$f":"+A365+1","v":130},{"$f":"IF(I365=\"有\",+I367&J368,J370)","v":"入力不要"},"\nサービス\n管理責任者","\n世話人","\n生活\n支援員","\n夜間\n支援員","\n日中\n支援員","\n加配要員",null,"人目の従業者が兼務する職種をすべて選択してください。",{"$f":"+I365","v":"無"},"↑\nまだ押さない",{"$f":"IF(I371=\"有\",L368,L370)","v":"↑\n押してください"}]
[]
[null,null,false,false,false,false,false,false,null,"入力不要",{"$f":"+I365","v":"無"},"↑\n押してください"]
[{"$f":"+A368+1","v":131},{"$f":"IF(I371=\"有\",+I373&J373,J376)","v":"入力不要"},"名前",null,null,"勤務形態",null,null,{"$f":"IF(I373<=$C$18,\"有\",\"無\")","v":"無"},null,{"$f":"+I371","v":"無"}]
[]
[null,null,"福祉専門職員配置等加算\n対象者",null,"勤続3年",null,"保有資格",null,{"$f":"+I367+1","v":60},"人目の従業者の情報を入力してください",{"$f":"+I371","v":"無"}]
[{"$f":"+A371+1","v":132},{"$f":"IF(I371=\"有\",+I373&J374,J376)","v":"入力不要"},"\nサービス\n管理責任者","\n世話人","\n生活\n支援員","\n夜間\n支援員","\n日中\n支援員","\n加配要員",null,"人目の従業者が兼務する職種をすべて選択してください。",{"$f":"+I371","v":"無"},"↑\nまだ押さない",{"$f":"IF(I377=\"有\",L374,L376)","v":"↑\n押してください"}]
[]
[null,null,false,false,false,false,false,false,null,"入力不要",{"$f":"+I371","v":"無"},"↑\n押してください"]
[{"$f":"+A374+1","v":133},{"$f":"IF(I377=\"有\",+I379&J379,J382)","v":"入力不要"},"名前",null,null,"勤務形態",null,null,{"$f":"IF(I379<=$C$18,\"有\",\"無\")","v":"無"},null,{"$f":"+I377","v":"無"}]
[]
[null,null,"福祉専門職員配置等加算\n対象者",null,"勤続3年",null,"保有資格",null,{"$f":"+I373+1","v":61},"人目の従業者の情報を入力してください",{"$f":"+I377","v":"無"}]
[{"$f":"+A377+1","v":134},{"$f":"IF(I377=\"有\",+I379&J380,J382)","v":"入力不要"},"\nサービス\n管理責任者","\n世話人","\n生活\n支援員","\n夜間\n支援員","\n日中\n支援員","\n加配要員",null,"人目の従業者が兼務する職種をすべて選択してください。",{"$f":"+I377","v":"無"},"↑\nまだ押さない",{"$f":"IF(I383=\"有\",L380,L382)","v":"↑\n押してください"}]
[]
[null,null,false,false,false,false,false,false,null,"入力不要",{"$f":"+I377","v":"無"},"↑\n押してください"]
[{"$f":"+A380+1","v":135},{"$f":"IF(I383=\"有\",+I385&J385,J388)","v":"入力不要"},"名前",null,null,"勤務形態",null,null,{"$f":"IF(I385<=$C$18,\"有\",\"無\")","v":"無"},null,{"$f":"+I383","v":"無"}]
[]
[null,null,"福祉専門職員配置等加算\n対象者",null,"勤続3年",null,"保有資格",null,{"$f":"+I379+1","v":62},"人目の従業者の情報を入力してください",{"$f":"+I383","v":"無"}]
[{"$f":"+A383+1","v":136},{"$f":"IF(I383=\"有\",+I385&J386,J388)","v":"入力不要"},"\nサービス\n管理責任者","\n世話人","\n生活\n支援員","\n夜間\n支援員","\n日中\n支援員","\n加配要員",null,"人目の従業者が兼務する職種をすべて選択してください。",{"$f":"+I383","v":"無"},"↑\nまだ押さない",{"$f":"IF(I389=\"有\",L386,L388)","v":"↑\n押してください"}]
[]
[null,null,false,false,false,false,false,false,null,"入力不要",{"$f":"+I383","v":"無"},"↑\n押してください"]
[{"$f":"+A386+1","v":137},{"$f":"IF(I389=\"有\",+I391&J391,J394)","v":"入力不要"},"名前",null,null,"勤務形態",null,null,{"$f":"IF(I391<=$C$18,\"有\",\"無\")","v":"無"},null,{"$f":"+I389","v":"無"}]
[]
[null,null,"福祉専門職員配置等加算\n対象者",null,"勤続3年",null,"保有資格",null,{"$f":"+I385+1","v":63},"人目の従業者の情報を入力してください",{"$f":"+I389","v":"無"}]
[{"$f":"+A389+1","v":138},{"$f":"IF(I389=\"有\",+I391&J392,J394)","v":"入力不要"},"\nサービス\n管理責任者","\n世話人","\n生活\n支援員","\n夜間\n支援員","\n日中\n支援員","\n加配要員",null,"人目の従業者が兼務する職種をすべて選択してください。",{"$f":"+I389","v":"無"},"↑\nまだ押さない",{"$f":"IF(I395=\"有\",L392,L394)","v":"↑\n押してください"}]
[]
[null,null,false,false,false,false,false,false,null,"入力不要",{"$f":"+I389","v":"無"},"↑\n押してください"]
[{"$f":"+A392+1","v":139},{"$f":"IF(I395=\"有\",+I397&J397,J400)","v":"入力不要"},"名前",null,null,"勤務形態",null,null,{"$f":"IF(I397<=$C$18,\"有\",\"無\")","v":"無"},null,{"$f":"+I395","v":"無"}]
[]
[null,null,"福祉専門職員配置等加算\n対象者",null,"勤続3年",null,"保有資格",null,{"$f":"+I391+1","v":64},"人目の従業者の情報を入力してください",{"$f":"+I395","v":"無"}]
[{"$f":"+A395+1","v":140},{"$f":"IF(I395=\"有\",+I397&J398,J400)","v":"入力不要"},"\nサービス\n管理責任者","\n世話人","\n生活\n支援員","\n夜間\n支援員","\n日中\n支援員","\n加配要員",null,"人目の従業者が兼務する職種をすべて選択してください。",{"$f":"+I395","v":"無"},"↑\nまだ押さない",{"$f":"IF(I401=\"有\",L398,L400)","v":"↑\n押してください"}]
[]
[null,null,false,false,false,false,false,false,null,"入力不要",{"$f":"+I395","v":"無"},"↑\n押してください"]
[{"$f":"+A398+1","v":141},{"$f":"IF(I401=\"有\",+I403&J403,J406)","v":"入力不要"},"名前",null,null,"勤務形態",null,null,{"$f":"IF(I403<=$C$18,\"有\",\"無\")","v":"無"},null,{"$f":"+I401","v":"無"}]
[]
[null,null,"福祉専門職員配置等加算\n対象者",null,"勤続3年",null,"保有資格",null,{"$f":"+I397+1","v":65},"人目の従業者の情報を入力してください",{"$f":"+I401","v":"無"}]
[{"$f":"+A401+1","v":142},{"$f":"IF(I401=\"有\",+I403&J404,J406)","v":"入力不要"},"\nサービス\n管理責任者","\n世話人","\n生活\n支援員","\n夜間\n支援員","\n日中\n支援員","\n加配要員",null,"人目の従業者が兼務する職種をすべて選択してください。",{"$f":"+I401","v":"無"},"↑\nまだ押さない",{"$f":"IF(I407=\"有\",L404,L406)","v":"↑\n押してください"}]
[]
[null,null,false,false,false,false,false,false,null,"入力不要",{"$f":"+I401","v":"無"},"↑\n押してください"]
[{"$f":"+A404+1","v":143},{"$f":"IF(I407=\"有\",+I409&J409,J412)","v":"入力不要"},"名前",null,null,"勤務形態",null,null,{"$f":"IF(I409<=$C$18,\"有\",\"無\")","v":"無"},null,{"$f":"+I407","v":"無"}]
[]
[null,null,"福祉専門職員配置等加算\n対象者",null,"勤続3年",null,"保有資格",null,{"$f":"+I403+1","v":66},"人目の従業者の情報を入力してください",{"$f":"+I407","v":"無"}]
[{"$f":"+A407+1","v":144},{"$f":"IF(I407=\"有\",+I409&J410,J412)","v":"入力不要"},"\nサービス\n管理責任者","\n世話人","\n生活\n支援員","\n夜間\n支援員","\n日中\n支援員","\n加配要員",null,"人目の従業者が兼務する職種をすべて選択してください。",{"$f":"+I407","v":"無"},"↑\nまだ押さない",{"$f":"IF(I413=\"有\",L410,L412)","v":"↑\n押してください"}]
[]
[null,null,false,false,false,false,false,false,null,"入力不要",{"$f":"+I407","v":"無"},"↑\n押してください"]
[{"$f":"+A410+1","v":145},{"$f":"IF(I413=\"有\",+I415&J415,J418)","v":"入力不要"},"名前",null,null,"勤務形態",null,null,{"$f":"IF(I415<=$C$18,\"有\",\"無\")","v":"無"},null,{"$f":"+I413","v":"無"}]
[]
[null,null,"福祉専門職員配置等加算\n対象者",null,"勤続3年",null,"保有資格",null,{"$f":"+I409+1","v":67},"人目の従業者の情報を入力してください",{"$f":"+I413","v":"無"}]
[{"$f":"+A413+1","v":146},{"$f":"IF(I413=\"有\",+I415&J416,J418)","v":"入力不要"},"\nサービス\n管理責任者","\n世話人","\n生活\n支援員","\n夜間\n支援員","\n日中\n支援員","\n加配要員",null,"人目の従業者が兼務する職種をすべて選択してください。",{"$f":"+I413","v":"無"},"↑\nまだ押さない",{"$f":"IF(I419=\"有\",L416,L418)","v":"↑\n押してください"}]
[]
[null,null,false,false,false,false,false,false,null,"入力不要",{"$f":"+I413","v":"無"},"↑\n押してください"]
[{"$f":"+A416+1","v":147},{"$f":"IF(I419=\"有\",+I421&J421,J424)","v":"入力不要"},"名前",null,null,"勤務形態",null,null,{"$f":"IF(I421<=$C$18,\"有\",\"無\")","v":"無"},null,{"$f":"+I419","v":"無"}]
[]
[null,null,"福祉専門職員配置等加算\n対象者",null,"勤続3年",null,"保有資格",null,{"$f":"+I415+1","v":68},"人目の従業者の情報を入力してください",{"$f":"+I419","v":"無"}]
[{"$f":"+A419+1","v":148},{"$f":"IF(I419=\"有\",+I421&J422,J424)","v":"入力不要"},"\nサービス\n管理責任者","\n世話人","\n生活\n支援員","\n夜間\n支援員","\n日中\n支援員","\n加配要員",null,"人目の従業者が兼務する職種をすべて選択してください。",{"$f":"+I419","v":"無"},"↑\nまだ押さない",{"$f":"IF(I425=\"有\",L422,L424)","v":"↑\n押してください"}]
[]
[null,null,false,false,false,false,false,false,null,"入力不要",{"$f":"+I419","v":"無"},"↑\n押してください"]
[{"$f":"+A422+1","v":149},{"$f":"IF(I425=\"有\",+I427&J427,J430)","v":"入力不要"},"名前",null,null,"勤務形態",null,null,{"$f":"IF(I427<=$C$18,\"有\",\"無\")","v":"無"},null,{"$f":"+I425","v":"無"}]
[]
[null,null,"福祉専門職員配置等加算\n対象者",null,"勤続3年",null,"保有資格",null,{"$f":"+I421+1","v":69},"人目の従業者の情報を入力してください",{"$f":"+I425","v":"無"}]
[{"$f":"+A425+1","v":150},{"$f":"IF(I425=\"有\",+I427&J428,J430)","v":"入力不要"},"\nサービス\n管理責任者","\n世話人","\n生活\n支援員","\n夜間\n支援員","\n日中\n支援員","\n加配要員",null,"人目の従業者が兼務する職種をすべて選択してください。",{"$f":"+I425","v":"無"},"↑\nまだ押さない",{"$f":"IF(I431=\"有\",L428,L430)","v":"↑\n押してください"}]
[]
[null,null,false,false,false,false,false,false,null,"入力不要",{"$f":"+I425","v":"無"},"↑\n押してください"]
[{"$f":"+A428+1","v":151},{"$f":"IF(I431=\"有\",+I433&J433,J436)","v":"入力不要"},"名前",null,null,"勤務形態",null,null,{"$f":"IF(I433<=$C$18,\"有\",\"無\")","v":"無"},null,{"$f":"+I431","v":"無"}]
[]
[null,null,"福祉専門職員配置等加算\n対象者",null,"勤続3年",null,"保有資格",null,{"$f":"+I427+1","v":70},"人目の従業者の情報を入力してください",{"$f":"+I431","v":"無"}]
[{"$f":"+A431+1","v":152},{"$f":"IF(I431=\"有\",+I433&J434,J436)","v":"入力不要"},"\nサービス\n管理責任者","\n世話人","\n生活\n支援員","\n夜間\n支援員","\n日中\n支援員","\n加配要員",null,"人目の従業者が兼務する職種をすべて選択してください。",{"$f":"+I431","v":"無"},"↑\nまだ押さない",{"$f":"IF(I437=\"有\",L434,L436)","v":"↑\n押してください"}]
[]
[null,null,false,false,false,false,false,false,null,"入力不要",{"$f":"+I431","v":"無"},"↑\n押してください"]
[{"$f":"+A434+1","v":153},{"$f":"IF(I437=\"有\",+I439&J439,J442)","v":"入力不要"},"名前",null,null,"勤務形態",null,null,{"$f":"IF(I439<=$C$18,\"有\",\"無\")","v":"無"},null,{"$f":"+I437","v":"無"}]
[]
[null,null,"福祉専門職員配置等加算\n対象者",null,"勤続3年",null,"保有資格",null,{"$f":"+I433+1","v":71},"人目の従業者の情報を入力してください",{"$f":"+I437","v":"無"}]
[{"$f":"+A437+1","v":154},{"$f":"IF(I437=\"有\",+I439&J440,J442)","v":"入力不要"},"\nサービス\n管理責任者","\n世話人","\n生活\n支援員","\n夜間\n支援員","\n日中\n支援員","\n加配要員",null,"人目の従業者が兼務する職種をすべて選択してください。",{"$f":"+I437","v":"無"},"↑\nまだ押さない",{"$f":"IF(I443=\"有\",L440,L442)","v":"↑\n押してください"}]
[]
[null,null,false,false,false,false,false,false,null,"入力不要",{"$f":"+I437","v":"無"},"↑\n押してください"]
[{"$f":"+A440+1","v":155},{"$f":"IF(I443=\"有\",+I445&J445,J448)","v":"入力不要"},"名前",null,null,"勤務形態",null,null,{"$f":"IF(I445<=$C$18,\"有\",\"無\")","v":"無"},null,{"$f":"+I443","v":"無"}]
[]
[null,null,"福祉専門職員配置等加算\n対象者",null,"勤続3年",null,"保有資格",null,{"$f":"+I439+1","v":72},"人目の従業者の情報を入力してください",{"$f":"+I443","v":"無"}]
[{"$f":"+A443+1","v":156},{"$f":"IF(I443=\"有\",+I445&J446,J448)","v":"入力不要"},"\nサービス\n管理責任者","\n世話人","\n生活\n支援員","\n夜間\n支援員","\n日中\n支援員","\n加配要員",null,"人目の従業者が兼務する職種をすべて選択してください。",{"$f":"+I443","v":"無"},"↑\nまだ押さない",{"$f":"IF(I449=\"有\",L446,L448)","v":"↑\n押してください"}]
[]
[null,null,false,false,false,false,false,false,null,"入力不要",{"$f":"+I443","v":"無"},"↑\n押してください"]
[{"$f":"+A446+1","v":157},{"$f":"IF(I449=\"有\",+I451&J451,J454)","v":"入力不要"},"名前",null,null,"勤務形態",null,null,{"$f":"IF(I451<=$C$18,\"有\",\"無\")","v":"無"},null,{"$f":"+I449","v":"無"}]
[]
[null,null,"福祉専門職員配置等加算\n対象者",null,"勤続3年",null,"保有資格",null,{"$f":"+I445+1","v":73},"人目の従業者の情報を入力してください",{"$f":"+I449","v":"無"}]
[{"$f":"+A449+1","v":158},{"$f":"IF(I449=\"有\",+I451&J452,J454)","v":"入力不要"},"\nサービス\n管理責任者","\n世話人","\n生活\n支援員","\n夜間\n支援員","\n日中\n支援員","\n加配要員",null,"人目の従業者が兼務する職種をすべて選択してください。",{"$f":"+I449","v":"無"},"↑\nまだ押さない",{"$f":"IF(I455=\"有\",L452,L454)","v":"↑\n押してください"}]
[]
[null,null,false,false,false,false,false,false,null,"入力不要",{"$f":"+I449","v":"無"},"↑\n押してください"]
[{"$f":"+A452+1","v":159},{"$f":"IF(I455=\"有\",+I457&J457,J460)","v":"入力不要"},"名前",null,null,"勤務形態",null,null,{"$f":"IF(I457<=$C$18,\"有\",\"無\")","v":"無"},null,{"$f":"+I455","v":"無"}]
[]
[null,null,"福祉専門職員配置等加算\n対象者",null,"勤続3年",null,"保有資格",null,{"$f":"+I451+1","v":74},"人目の従業者の情報を入力してください",{"$f":"+I455","v":"無"}]
[{"$f":"+A455+1","v":160},{"$f":"IF(I455=\"有\",+I457&J458,J460)","v":"入力不要"},"\nサービス\n管理責任者","\n世話人","\n生活\n支援員","\n夜間\n支援員","\n日中\n支援員","\n加配要員",null,"人目の従業者が兼務する職種をすべて選択してください。",{"$f":"+I455","v":"無"},"↑\nまだ押さない",{"$f":"IF(I461=\"有\",L458,L460)","v":"↑\n押してください"}]
[]
[null,null,false,false,false,false,false,false,null,"入力不要",{"$f":"+I455","v":"無"},"↑\n押してください"]
[{"$f":"+A458+1","v":161},{"$f":"IF(I461=\"有\",+I463&J463,J466)","v":"入力不要"},"名前",null,null,"勤務形態",null,null,{"$f":"IF(I463<=$C$18,\"有\",\"無\")","v":"無"},null,{"$f":"+I461","v":"無"}]
[]
[null,null,"福祉専門職員配置等加算\n対象者",null,"勤続3年",null,"保有資格",null,{"$f":"+I457+1","v":75},"人目の従業者の情報を入力してください",{"$f":"+I461","v":"無"}]
[{"$f":"+A461+1","v":162},{"$f":"IF(I461=\"有\",+I463&J464,J466)","v":"入力不要"},"\nサービス\n管理責任者","\n世話人","\n生活\n支援員","\n夜間\n支援員","\n日中\n支援員","\n加配要員",null,"人目の従業者が兼務する職種をすべて選択してください。",{"$f":"+I461","v":"無"},"↑\nまだ押さない",{"$f":"IF(I467=\"有\",L464,L466)","v":"↑\n押してください"}]
[]
[null,null,false,false,false,false,false,false,null,"入力不要",{"$f":"+I461","v":"無"},"↑\n押してください"]
[{"$f":"+A464+1","v":163},{"$f":"IF(I467=\"有\",+I469&J469,J472)","v":"入力不要"},"名前",null,null,"勤務形態",null,null,{"$f":"IF(I469<=$C$18,\"有\",\"無\")","v":"無"},null,{"$f":"+I467","v":"無"}]
[]
[null,null,"福祉専門職員配置等加算\n対象者",null,"勤続3年",null,"保有資格",null,{"$f":"+I463+1","v":76},"人目の従業者の情報を入力してください",{"$f":"+I467","v":"無"}]
[{"$f":"+A467+1","v":164},{"$f":"IF(I467=\"有\",+I469&J470,J472)","v":"入力不要"},"\nサービス\n管理責任者","\n世話人","\n生活\n支援員","\n夜間\n支援員","\n日中\n支援員","\n加配要員",null,"人目の従業者が兼務する職種をすべて選択してください。",{"$f":"+I467","v":"無"},"↑\nまだ押さない",{"$f":"IF(I473=\"有\",L470,L472)","v":"↑\n押してください"}]
[]
[null,null,false,false,false,false,false,false,null,"入力不要",{"$f":"+I467","v":"無"},"↑\n押してください"]
[{"$f":"+A470+1","v":165},{"$f":"IF(I473=\"有\",+I475&J475,J478)","v":"入力不要"},"名前",null,null,"勤務形態",null,null,{"$f":"IF(I475<=$C$18,\"有\",\"無\")","v":"無"},null,{"$f":"+I473","v":"無"}]
[]
[null,null,"福祉専門職員配置等加算\n対象者",null,"勤続3年",null,"保有資格",null,{"$f":"+I469+1","v":77},"人目の従業者の情報を入力してください",{"$f":"+I473","v":"無"}]
[{"$f":"+A473+1","v":166},{"$f":"IF(I473=\"有\",+I475&J476,J478)","v":"入力不要"},"\nサービス\n管理責任者","\n世話人","\n生活\n支援員","\n夜間\n支援員","\n日中\n支援員","\n加配要員",null,"人目の従業者が兼務する職種をすべて選択してください。",{"$f":"+I473","v":"無"},"↑\nまだ押さない",{"$f":"IF(I479=\"有\",L476,L478)","v":"↑\n押してください"}]
[]
[null,null,false,false,false,false,false,false,null,"入力不要",{"$f":"+I473","v":"無"},"↑\n押してください"]
[{"$f":"+A476+1","v":167},{"$f":"IF(I479=\"有\",+I481&J481,J484)","v":"入力不要"},"名前",null,null,"勤務形態",null,null,{"$f":"IF(I481<=$C$18,\"有\",\"無\")","v":"無"},null,{"$f":"+I479","v":"無"}]
[]
[null,null,"福祉専門職員配置等加算\n対象者",null,"勤続3年",null,"保有資格",null,{"$f":"+I475+1","v":78},"人目の従業者の情報を入力してください",{"$f":"+I479","v":"無"}]
[{"$f":"+A479+1","v":168},{"$f":"IF(I479=\"有\",+I481&J482,J484)","v":"入力不要"},"\nサービス\n管理責任者","\n世話人","\n生活\n支援員","\n夜間\n支援員","\n日中\n支援員","\n加配要員",null,"人目の従業者が兼務する職種をすべて選択してください。",{"$f":"+I479","v":"無"},"↑\nまだ押さない",{"$f":"IF(I485=\"有\",L482,L484)","v":"↑\n押してください"}]
[]
[null,null,false,false,false,false,false,false,null,"入力不要",{"$f":"+I479","v":"無"},"↑\n押してください"]
[{"$f":"+A482+1","v":169},{"$f":"IF(I485=\"有\",+I487&J487,J490)","v":"入力不要"},"名前",null,null,"勤務形態",null,null,{"$f":"IF(I487<=$C$18,\"有\",\"無\")","v":"無"},null,{"$f":"+I485","v":"無"}]
[]
[null,null,"福祉専門職員配置等加算\n対象者",null,"勤続3年",null,"保有資格",null,{"$f":"+I481+1","v":79},"人目の従業者の情報を入力してください",{"$f":"+I485","v":"無"}]
[{"$f":"+A485+1","v":170},{"$f":"IF(I485=\"有\",+I487&J488,J490)","v":"入力不要"},"\nサービス\n管理責任者","\n世話人","\n生活\n支援員","\n夜間\n支援員","\n日中\n支援員","\n加配要員",null,"人目の従業者が兼務する職種をすべて選択してください。",{"$f":"+I485","v":"無"},"↑\nまだ押さない",{"$f":"IF(I491=\"有\",L488,L490)","v":"↑\n押してください"}]
[]
[null,null,false,false,false,false,false,false,null,"入力不要",{"$f":"+I485","v":"無"},"↑\n押してください"]
[{"$f":"+A488+1","v":171},{"$f":"IF(I491=\"有\",+I493&J493,J496)","v":"入力不要"},"名前",null,null,"勤務形態",null,null,{"$f":"IF(I493<=$C$18,\"有\",\"無\")","v":"無"},null,{"$f":"+I491","v":"無"}]
[]
[null,null,"福祉専門職員配置等加算\n対象者",null,"勤続3年",null,"保有資格",null,{"$f":"+I487+1","v":80},"人目の従業者の情報を入力してください",{"$f":"+I491","v":"無"}]
[{"$f":"+A491+1","v":172},{"$f":"IF(I491=\"有\",+I493&J494,J496)","v":"入力不要"},"\nサービス\n管理責任者","\n世話人","\n生活\n支援員","\n夜間\n支援員","\n日中\n支援員","\n加配要員",null,"人目の従業者が兼務する職種をすべて選択してください。",{"$f":"+I491","v":"無"},"↑\nまだ押さない",{"$f":"IF(I497=\"有\",L494,L496)","v":"↑\n押してください"}]
[]
[null,null,false,false,false,false,false,false,null,"入力不要",{"$f":"+I491","v":"無"},"↑\n押してください"]

{"sheet":"②参考様式７兼体制付表１－３","index":2,"n_rows":549,"n_cols":81,"rows_kept":549,"cut":false,"hidden":false,"merged":[[538,1,538,5],[538,6,538,13],[538,14,538,16],[538,17,538,19],[538,20,538,22],[538,23,538,24],[538,53,538,55],[538,56,538,58],[538,59,538,65],[535,59,535,65],[536,1,536,5],[536,6,536,13],[536,14,536,16],[536,17,536,19],[536,20,536,22],[536,23,536,24],[536,53,536,55],[536,56,536,58],[536,59,536,65],[537,23,537,24],[537,53,537,55],[535,1,535,5],[535,6,535,13],[535,14,535,16],[535,17,535,19],[535,20,535,22],[535,23,535,24],[535,53,535,55],[535,56,535,58],[537,1,537,5],[537,6,537,13],[537,14,537,16],[531,23,531,24],[531,53,531,55],[533,59,533,65],[534,1,534,5],[534,6,534,13],[534,14,534,16],[534,17,534,19],[534,20,534,22],[534,23,534,24],[534,53,534,55],[534,56,534,58],[534,59,534,65],[533,1,533,5],[533,6,533,13],[533,14,533,16],[533,17,533,19],[533,20,533,22],[533,23,533,24],[537,17,537,19],[537,20,537,22],[537,56,537,58],[537,59,537,65],[529,1,529,5],[529,6,529,13],[529,14,529,16],[529,17,529,19],[529,20,529,22],[529,23,529,24],[529,53,529,55],[529,56,529,58],[531,1,531,5],[531,6,531,13],[531,14,531,16],[531,17,531,19],[531,20,531,22],[531,56,531,58],[531,59,531,65],[532,1,532,5],[532,6,532,13],[532,14,532,16],[532,17,532,19],[532,20,532,22],[532,23,532,24],[532,59,532,65],[529,59,529,65],[530,1,530,5],[530,6,530,13],[530,14,530,16],[530,17,530,19],[530,20,530,22],[530,23,530,24],[530,53,530,55],[530,56,530,58],[530,59,530,65],[524,56,524,58],[524,59,524,65],[525,23,525,24],[525,53,525,55],[527,59,527,65],[528,1,528,5],[528,6,528,13],[528,14,528,16],[528,17,528,19],[528,20,528,22],[528,23,528,24],[528,53,528,55],[528,56,528,58],[528,59,528,65],[527,1,527,5],[527,6,527,13],[527,14,527,16],[527,17,527,19],[527,20,527,22],[527,23,527,24],[527,53,527,55],[527,56,527,58],[523,1,523,5],[523,6,523,13],[523,14,523,16],[523,17,523,19],[523,20,523,22],[523,23,523,24],[523,53,523,55],[523,56,523,58],[525,1,525,5],[525,6,525,13],[525,14,525,16],[525,17,525,19],[525,20,525,22],[525,56,525,58],[525,59,525,65],[526,1,526,5],[526,6,526,13],[526,14,526,16],[526,17,526,19],[526,20,526,22],[526,23,526,24],[526,53,526,55],[526,56,526,58],[526,59,526,65],[523,59,523,65],[524,1,524,5],[524,6,524,13],[524,14,524,16],[524,17,524,19],[524,20,524,22],[524,23,524,24],[524,53,524,55],[518,56,518,58],[518,59,518,65],[519,23,519,24],[519,53,519,55],[521,59,521,65],[522,1,522,5],[522,6,522,13],[522,14,522,16],[522,17,522,19],[522,20,522,22],[522,23,522,24],[522,53,522,55],[522,56,522,58],[522,59,522,65],[521,1,521,5],[521,6,521,13],[521,14,521,16],[521,17,521,19],[521,20,521,22],[521,23,521,24],[521,53,521,55],[521,56,521,58],[517,1,517,5],[517,6,517,13],[517,14,517,16],[517,17,517,19],[517,20,517,22],[517,23,517,24],[517,53,517,55],[517,56,517,58],[519,1,519,5],[519,6,519,13],[519,14,519,16],[519,17,519,19],[519,20,519,22],[519,56,519,58],[519,59,519,65],[520,1,520,5],[520,6,520,13],[520,14,520,16],[520,17,520,19],[520,20,520,22],[520,23,520,24],[520,53,520,55],[520,56,520,58],[520,59,520,65],[517,59,517,65],[518,1,518,5],[518,6,518,13],[518,14,518,16],[518,17,518,19],[518,20,518,22],[518,23,518,24],[518,53,518,55],[512,56,512,58],[512,59,512,65],[513,23,513,24],[513,53,513,55],[515,59,515,65],[516,1,516,5],[516,6,516,13],[516,14,516,16],[516,17,516,19],[516,20,516,22],[516,23,516,24],[516,53,516,55],[516,56,516,58],[516,59,516,65],[515,1,515,5],[515,6,515,13],[515,14,515,16],[515,17,515,19],[515,20,515,22],[515,23,515,24],[515,53,515,55],[515,56,515,58],[511,1,511,5],[511,6,511,13],[511,14,511,16],[511,17,511,19],[511,20,511,22],[511,23,511,24],[511,53,511,55],[511,56,511,58],[513,1,513,5],[513,6,513,13],[513,14,513,16],[513,17,513,19],[513,20,513,22],[513,56,513,58],[513,59,513,65],[514,1,514,5],[514,6,514,13],[514,14,514,16],[514,17,514,19],[514,20,514,22],[514,23,514,24],[514,53,514,55],[514,56,514,58],[514,59,514,65],[511,59,511,65],[512,1,512,5],[512,6,512,13],[512,14,512,16],[512,17,512,19],[512,20,512,22],[512,23,512,24],[512,53,512,55],[506,56,506,58],[506,59,506,65],[507,23,507,24],[507,53,507,55],[509,59,509,65],[510,1,510,5],[510,6,510,13],[510,14,510,16],[510,17,510,19],[510,20,510,22],[510,23,510,24],[510,53,510,55],[510,56,510,58],[510,59,510,65],[509,1,509,5],[509,6,509,13],[509,14,509,16],[509,17,509,19],[509,20,509,22],[509,23,509,24],[509,53,509,55],[509,56,509,58],[505,1,505,5],[505,6,505,13],[505,14,505,16],[505,17,505,19],[505,20,505,22],[505,23,505,24],[505,53,505,55],[505,56,505,58],[507,1,507,5],[507,6,507,13],[507,14,507,16],[507,17,507,19],[507,20,507,22],[507,56,507,58],[507,59,507,65],[508,1,508,5],[508,6,508,13],[508,14,508,16],[508,17,508,19],[508,20,508,22],[508,23,508,24],[508,53,508,55],[508,56,508,58],[508,59,508,65],[505,59,505,65],[506,1,506,5],[506,6,506,13],[506,14,506,16],[506,17,506,19],[506,20,506,22],[506,23,506,24],[506,53,506,55],[500,56,500,58],[500,59,500,65],[501,23,501,24],[501,53,501,55],[503,59,503,65],[504,1,504,5],[504,6,504,13],[504,14,504,16],[504,17,504,19],[504,20,504,22],[504,23,504,24],[504,53,504,55],[504,56,504,58],[504,59,504,65],[503,1,503,5],[503,6,503,13],[503,14,503,16],[503,17,503,19],[503,20,503,22],[503,23,503,24],[503,53,503,55],[503,56,503,58],[499,1,499,5],[499,6,499,13],[499,14,499,16],[499,17,499,19],[499,20,499,22],[499,23,499,24],[499,53,499,55],[499,56,499,58],[501,1,501,5],[501,6,501,13],[501,14,501,16],[501,17,501,19],[501,20,501,22],[501,56,501,58],[501,59,501,65],[502,1,502,5],[502,6,502,13],[502,14,502,16],[502,17,502,19],[502,20,502,22],[502,23,502,24],[502,53,502,55],[502,56,502,58],[502,59,502,65],[499,59,499,65],[500,1,500,5],[500,6,500,13],[500,14,500,16],[500,17,500,19],[500,20,500,22],[500,23,500,24],[500,53,500,55],[494,56,494,58],[494,59,494,65],[495,23,495,24],[495,53,495,55],[497,59,497,65],[498,1,498,5],[498,6,498,13],[498,14,498,16],[498,17,498,19],[498,20,498,22],[498,23,498,24],[498,53,498,55],[498,56,498,58],[498,59,498,65],[497,1,497,5],[497,6,497,13],[497,14,497,16],[497,17,497,19],[497,20,497,22],[497,23,497,24],[497,53,497,55],[497,56,497,58],[493,1,493,5],[493,6,493,13],[493,14,493,16],[493,17,493,19],[493,20,493,22],[493,23,493,24],[493,53,493,55],[493,56,493,58],[495,1,495,5],[495,6,495,13],[495,14,495,16],[495,17,495,19],[495,20,495,22],[495,56,495,58],[495,59,495,65],[496,1,496,5],[496,6,496,13],[496,14,496,16],[496,17,496,19],[496,20,496,22],[496,23,496,24],[496,53,496,55],[496,56,496,58],[496,59,496,65],[493,59,493,65],[494,1,494,5],[494,6,494,13],[494,14,494,16],[494,17,494,19],[494,20,494,22],[494,23,494,24],[494,53,494,55],[488,56,488,58],[488,59,488,65],[489,23,489,24],[489,53,489,55],[491,59,491,65],[492,1,492,5],[492,6,492,13],[492,14,492,16],[492,17,492,19],[492,20,492,22],[492,23,492,24],[492,53,492,55],[492,56,492,58],[492,59,492,65],[491,1,491,5],[491,6,491,13],[491,14,491,16],[491,17,491,19],[491,20,491,22],[491,23,491,24],[491,53,491,55],[491,56,491,58],[487,1,487,5],[487,6,487,13],[487,14,487,16],[487,17,487,19],[487,20,487,22],[487,23,487,24],[487,53,487,55],[487,56,487,58],[489,1,489,5],[489,6,489,13],[489,14,489,16],[489,17,489,19],[489,20,489,22],[489,56,489,58],[489,59,489,65],[490,1,490,5],[490,6,490,13],[490,14,490,16],[490,17,490,19],[490,20,490,22],[490,23,490,24],[490,53,490,55],[490,56,490,58],[490,59,490,65],[487,59,487,65],[488,1,488,5],[488,6,488,13],[488,14,488,16],[488,17,488,19],[488,20,488,22],[488,23,488,24],[488,53,488,55],[482,56,482,58],[482,59,482,65],[483,23,483,24],[483,53,483,55],[485,59,485,65],[486,1,486,5],[486,6,486,13],[486,14,486,16],[486,17,486,19],[486,20,486,22],[486,23,486,24],[486,53,486,55],[486,56,486,58],[486,59,486,65],[485,1,485,5],[485,6,485,13],[485,14,485,16],[485,17,485,19],[485,20,485,22],[485,23,485,24],[485,53,485,55],[485,56,485,58],[481,1,481,5],[481,6,481,13],[481,14,481,16],[481,17,481,19],[481,20,481,22],[481,23,481,24],[481,53,481,55],[481,56,481,58],[483,1,483,5],[483,6,483,13],[483,14,483,16],[483,17,483,19],[483,20,483,22],[483,56,483,58],[483,59,483,65],[484,1,484,5],[484,6,484,13],[484,14,484,16],[484,17,484,19],[484,20,484,22],[484,23,484,24],[484,53,484,55],[484,56,484,58],[484,59,484,65],[481,59,481,65],[482,1,482,5],[482,6,482,13],[482,14,482,16],[482,17,482,19],[482,20,482,22],[482,23,482,24],[482,53,482,55],[476,56,476,58],[476,59,476,65],[477,23,477,24],[477,53,477,55],[479,59,479,65],[480,1,480,5],[480,6,480,13],[480,14,480,16],[480,17,480,19],[480,20,480,22],[480,23,480,24],[480,53,480,55],[480,56,480,58],[480,59,480,65],[479,1,479,5],[479,6,479,13],[479,14,479,16],[479,17,479,19],[479,20,479,22],[479,23,479,24],[479,53,479,55],[479,56,479,58],[475,1,475,5],[475,6,475,13],[475,14,475,16],[475,17,475,19],[475,20,475,22],[475,23,475,24],[475,53,475,55],[475,56,475,58],[477,1,477,5],[477,6,477,13],[477,14,477,16],[477,17,477,19],[477,20,477,22],[477,56,477,58],[477,59,477,65],[478,1,478,5],[478,6,478,13],[478,14,478,16],[478,17,478,19],[478,20,478,22],[478,23,478,24],[478,53,478,55],[478,56,478,58],[478,59,478,65],[475,59,475,65],[476,1,476,5],[476,6,476,13],[476,14,476,16],[476,17,476,19],[476,20,476,22],[476,23,476,24],[476,53,476,55],[470,56,470,58],[470,59,470,65],[471,23,471,24],[471,53,471,55],[473,59,473,65],[474,1,474,5],[474,6,474,13],[474,14,474,16],[474,17,474,19],[474,20,474,22],[474,23,474,24],[474,53,474,55],[474,56,474,58],[474,59,474,65],[473,1,473,5],[473,6,473,13],[473,14,473,16],[473,17,473,19],[473,20,473,22],[473,23,473,24],[473,53,473,55],[473,56,473,58],[469,1,469,5],[469,6,469,13],[469,14,469,16],[469,17,469,19],[469,20,469,22],[469,23,469,24],[469,53,469,55],[469,56,469,58],[471,1,471,5],[471,6,471,13],[471,14,471,16],[471,17,471,19],[471,20,471,22],[471,56,471,58],[471,59,471,65],[472,1,472,5],[472,6,472,13],[472,14,472,16],[472,17,472,19],[472,20,472,22],[472,23,472,24],[472,53,472,55],[472,56,472,58],[472,59,472,65],[469,59,469,65],[470,1,470,5],[470,6,470,13],[470,14,470,16],[470,17,470,19],[470,20,470,22],[470,23,470,24],[470,53,470,55],[464,56,464,58],[464,59,464,65],[465,23,465,24],[465,53,465,55],[467,59,467,65],[468,1,468,5],[468,6,468,13],[468,14,468,16],[468,17,468,19],[468,20,468,22],[468,23,468,24],[468,53,468,55],[468,56,468,58],[468,59,468,65],[467,1,467,5],[467,6,467,13],[467,14,467,16],[467,17,467,19],[467,20,467,22],[467,23,467,24],[467,53,467,55],[467,56,467,58],[463,1,463,5],[463,6,463,13],[463,14,463,16],[463,17,463,19],[463,20,463,22],[463,23,463,24],[463,53,463,55],[463,56,463,58],[465,1,465,5],[465,6,465,13],[465,14,465,16],[465,17,465,19],[465,20,465,22],[465,56,465,58],[465,59,465,65],[466,1,466,5],[466,6,466,13],[466,14,466,16],[466,17,466,19],[466,20,466,22],[466,23,466,24],[466,53,466,55],[466,56,466,58],[466,59,466,65],[463,59,463,65],[464,1,464,5],[464,6,464,13],[464,14,464,16],[464,17,464,19],[464,20,464,22],[464,23,464,24],[464,53,464,55],[458,56,458,58],[458,59,458,65],[459,23,459,24],[459,53,459,55],[461,59,461,65],[462,1,462,5],[462,6,462,13],[462,14,462,16],[462,17,462,19],[462,20,462,22],[462,23,462,24],[462,53,462,55],[462,56,462,58],[462,59,462,65],[461,1,461,5],[461,6,461,13],[461,14,461,16],[461,17,461,19],[461,20,461,22],[461,23,461,24],[461,53,461,55],[461,56,461,58],[457,1,457,5],[457,6,457,13],[457,14,457,16],[457,17,457,19],[457,20,457,22],[457,23,457,24],[457,53,457,55],[457,56,457,58],[459,1,459,5],[459,6,459,13],[459,14,459,16],[459,17,459,19],[459,20,459,22],[459,56,459,58],[459,59,459,65],[460,1,460,5],[460,6,460,13],[460,14,460,16],[460,17,460,19],[460,20,460,22],[460,23,460,24],[460,53,460,55],[460,56,460,58],[460,59,460,65],[457,59,457,65],[458,1,458,5],[458,6,458,13],[458,14,458,16],[458,17,458,19],[458,20,458,22],[458,23,458,24],[458,53,458,55],[452,56,452,58],[452,59,452,65],[453,23,453,24],[453,53,453,55],[455,59,455,65],[456,1,456,5],[456,6,456,13],[456,14,456,16],[456,17,456,19],[456,20,456,22],[456,23,456,24],[456,53,456,55],[456,56,456,58],[456,59,456,65],[455,1,455,5],[455,6,455,13],[455,14,455,16],[455,17,455,19],[455,20,455,22],[455,23,455,24],[455,53,455,55],[455,56,455,58],[451,1,451,5],[451,6,451,13],[451,14,451,16],[451,17,451,19],[451,20,451,22],[451,23,451,24],[451,53,451,55],[451,56,451,58],[453,1,453,5],[453,6,453,13],[453,14,453,16],[453,17,453,19],[453,20,453,22],[453,56,453,58],[453,59,453,65],[454,1,454,5],[454,6,454,13],[454,14,454,16],[454,17,454,19],[454,20,454,22],[454,23,454,24],[454,53,454,55],[454,56,454,58],[454,59,454,65],[451,59,451,65],[452,1,452,5],[452,6,452,13],[452,14,452,16],[452,17,452,19],[452,20,452,22],[452,23,452,24],[452,53,452,55],[446,56,446,58],[446,59,446,65],[447,23,447,24],[447,53,447,55],[449,59,449,65],[450,1,450,5],[450,6,450,13],[450,14,450,16],[450,17,450,19],[450,20,450,22],[450,23,450,24],[450,53,450,55],[450,56,450,58],[450,59,450,65],[449,1,449,5],[449,6,449,13],[449,14,449,16],[449,17,449,19],[449,20,449,22],[449,23,449,24],[449,53,449,55],[449,56,449,58],[445,1,445,5],[445,6,445,13],[445,14,445,16],[445,17,445,19],[445,20,445,22],[445,23,445,24],[445,53,445,55],[445,56,445,58],[447,1,447,5],[447,6,447,13],[447,14,447,16],[447,17,447,19],[447,20,447,22],[447,56,447,58],[447,59,447,65],[448,1,448,5],[448,6,448,13],[448,14,448,16],[448,17,448,19],[448,20,448,22],[448,23,448,24],[448,53,448,55],[448,56,448,58],[448,59,448,65],[445,59,445,65],[446,1,446,5],[446,6,446,13],[446,14,446,16],[446,17,446,19],[446,20,446,22],[446,23,446,24],[446,53,446,55],[440,56,440,58],[440,59,440,65],[441,23,441,24],[441,53,441,55],[443,59,443,65],[444,1,444,5],[444,6,444,13],[444,14,444,16],[444,17,444,19],[444,20,444,22],[444,23,444,24],[444,53,444,55],[444,56,444,58],[444,59,444,65],[443,1,443,5],[443,6,443,13],[443,14,443,16],[443,17,443,19],[443,20,443,22],[443,23,443,24],[443,53,443,55],[443,56,443,58],[439,1,439,5],[439,6,439,13],[439,14,439,16],[439,17,439,19],[439,20,439,22],[439,23,439,24],[439,53,439,55],[439,56,439,58],[441,1,441,5],[441,6,441,13],[441,14,441,16],[441,17,441,19],[441,20,441,22],[441,56,441,58],[441,59,441,65],[442,1,442,5],[442,6,442,13],[442,14,442,16],[442,17,442,19],[442,20,442,22],[442,23,442,24],[442,53,442,55],[442,56,442,58],[442,59,442,65],[439,59,439,65],[440,1,440,5],[440,6,440,13],[440,14,440,16],[440,17,440,19],[440,20,440,22],[440,23,440,24],[440,53,440,55],[434,56,434,58],[434,59,434,65],[435,23,435,24],[435,53,435,55],[437,59,437,65],[438,1,438,5],[438,6,438,13],[438,14,438,16],[438,17,438,19],[438,20,438,22],[438,23,438,24],[438,53,438,55],[438,56,438,58],[438,59,438,65],[437,1,437,5],[437,6,437,13],[437,14,437,16],[437,17,437,19],[437,20,437,22],[437,23,437,24],[437,53,437,55],[437,56,437,58],[433,1,433,5],[433,6,433,13],[433,14,433,16],[433,17,433,19],[433,20,433,22],[433,23,433,24],[433,53,433,55],[433,56,433,58],[435,1,435,5],[435,6,435,13],[435,14,435,16],[435,17,435,19],[435,20,435,22],[435,56,435,58],[435,59,435,65],[436,1,436,5],[436,6,436,13],[436,14,436,16],[436,17,436,19],[436,20,436,22],[436,23,436,24],[436,53,436,55],[436,56,436,58],[436,59,436,65],[433,59,433,65],[434,1,434,5],[434,6,434,13],[434,14,434,16],[434,17,434,19],[434,20,434,22],[434,23,434,24],[434,53,434,55],[428,56,428,58],[428,59,428,65],[429,23,429,24],[429,53,429,55],[431,59,431,65],[432,1,432,5],[432,6,432,13],[432,14,432,16],[432,17,432,19],[432,20,432,22],[432,23,432,24],[432,53,432,55],[432,56,432,58],[432,59,432,65],[431,1,431,5],[431,6,431,13],[431,14,431,16],[431,17,431,19],[431,20,431,22],[431,23,431,24],[431,53,431,55],[431,56,431,58],[427,1,427,5],[427,6,427,13],[427,14,427,16],[427,17,427,19],[427,20,427,22],[427,23,427,24],[427,53,427,55],[427,56,427,58],[429,1,429,5],[429,6,429,13],[429,14,429,16],[429,17,429,19],[429,20,429,22],[429,56,429,58],[429,59,429,65],[430,1,430,5],[430,6,430,13],[430,14,430,16],[430,17,430,19],[430,20,430,22],[430,23,430,24],[430,53,430,55],[430,56,430,58],[430,59,430,65],[427,59,427,65],[428,1,428,5],[428,6,428,13],[428,14,428,16]],"merged_total":4754,"flags":["merged_cut"]}
[null,null,null,null,null,null,null,null,null,null,null,null,null,null,null,null,null,null,null,null,null,null,"○",null,null,null,null,null,null,null,null,null,null,null,null,null,null,null,null,null,null,null,null,null,null,null,null,null,null,null,null,null,null,null,null,null,null,null,null,null,null,null,null,null,null,null,null,null,null,null,null,"（参考様式７兼体制付表１－３）"]
[null,null,null,null,null,null,null,null,null,null,null,null,null,null,null,null,null,null,null,null,null,null,null,null,-1,null,null,null,null,null,null,null,null,null,null,null,null,null,null,null,"令和",null,{"$f":"+①はじめに!D3","v":0},null,"年",null,"法人・事業所名",null,null,null,null,null,null,null,{"$f":"+①はじめに!C4","v":0}]
[null,null,null,null,null,null,null,null,null,null,null,null,null,null,null,null,null,null,null,null,null,null,null,null,null,null,null,null,null,null,null,null,null,null,null,null,null,null,null,null,null,null,{"$f":"+①はじめに!F3","v":0},null,"月",null,"事業所番号",null,null,null,null,null,null,null,{"$f":"+①はじめに!C5","v":0},null,null,null,null,null,null,null,"定員",null,null,null,{"$f":"+①はじめに!C6","v":0}]
[null,null,null,"１　サービス類型",null,null,null,null,null,null,null,null,null,null,null,null,null,null,null,null,null,null,null,null,null,"３　利用者数"]
[null,null,null,{"$f":"IF(①はじめに!C7=\"介護サービス包括型\",\"○\",\"\")","v":""},null,null,"介護サービス包括型事業所",null,null,null,null,null,null,null,null,null,null,null,null,null,null,null,null,null,null,null,null,null,null,null,null,null,"区分１以下",null,null,null,"区分２",null,null,null,"区分３",null,null,null,"区分４",null,null,null,"区分５",null,null,null,"区分６",null,null,null,"計"]
[null,null,null,{"$f":"IF(①はじめに!C7=\"外部サービス利用型\",\"○\",\"\")","v":""},null,null,"外部サービス利用型事業所",null,null,null,null,null,null,null,null,null,null,null,null,null,null,null,null,null,null,"利用者数（平均）",null,null,null,null,null,null,{"$f":"+③集計用!N18","v":0},null,null,null,{"$f":"+③集計用!K18","v":0},null,null,null,{"$f":"+③集計用!N17","v":0},null,null,null,{"$f":"+③集計用!K17","v":0},null,null,null,{"$f":"+③集計用!N16","v":0},null,null,null,{"$f":"+③集計用!K16","v":0},null,null,null,{"$f":"+③集計用!K15","v":0},null,null,null,null,null,null,null,null,null,null,null,null,null,null,null,{"$f":"2018+$AQ$2","v":2018},"/",{"$f":"+$AQ$3","v":0},"/",1,{"$f":"+BU6&BV6&BW6&BX6&BY6","v":"2018/0/1"},{"$f":"WEEKDAY(BZ6,1)","v":{"$error":"#VALUE!"}}]
[null,null,null,{"$f":"IF(①はじめに!C7=\"日中サービス支援型\",\"○\",\"\")","v":""},null,null,"日中サービス支援型事業所",null,null,null,null,null,null,null,null,null,null,null,null,null,null,null,null,null,null,"　","個人居宅介護利用者（再掲）",null,null,null,null,null,null,null,null,null,null,null,null,null,null,null,null,null,null,null,null,null,null,null,null,null,null,null,null,null,{"$f":"SUM(AG7:BD7)","v":0}]
[null,null,null,null,null,null,null,null,null,null,null,{"$f":"IF(COUNTIF(D5:F7,\"○\")>1,\"いずれか１つを選択してください。\",\"\")","v":""},null,null,null,null,null,null,null,null,null,null,null,null,null,"定員増人数",null,null,null,null,null,null,null,null,null,null,null,null,null,null,null,null,null,null,null,null,null,null,null,null,null,null,null,null,null,null,{"$f":"SUM(AG8:BD8)","v":0}]
[null,null,null,null,null,null,null,null,null,null,null,null,null,null,null,null,null,null,null,null,null,null,null,null,null,"計",null,null,null,null,null,null,{"$f":"AG6+AG8","v":0},null,null,null,{"$f":"AK6+AK8","v":0},null,null,null,{"$f":"AO6+AO8","v":0},null,null,null,{"$f":"AS6+AS8","v":0},null,null,null,{"$f":"AW6+AW8","v":0},null,null,null,{"$f":"BA6+BA8","v":0},null,null,null,{"$f":"BE6+BE8","v":0}]
[]
[null,null,null,"２　運営状況",null,null,null,null,null,null,null,null,null,null,null,null,null,null,null,null,null,null,null,null,null,"４　基準上置くべき従業者数",null,null,null,null,null,null,null,null,null,null,null,null,null,null,null,"５　当該事業所に基準上配置している従業者数",null,null,null,null,null,null,null,null,null,null,null,null,null,null,null,null,null,"６　加配している特定従業者数"]
[null,null,null,null,null,"①新設又は増改築等の時点から６か月未満",null,null,null,null,null,null,null,null,null,null,null,null,null,null,null,null,null,null,null,null,null,null,null,null,"常勤換算数",null,null,null,null,null,null,"特定従業者用の勤務延べ時間数",null,null,null,null,null,null,null,null,"常勤換算数",null,null,null,null,null,null,"特定従業者用の勤務延べ時間数",null,null,"可否",null,null,null,null,null,null,null,"特定従業者数換算数"]
[null,null,null,null,null,"②新設又は増改築等の時点から６か月以上１年未満",null,null,null,null,null,null,null,null,null,null,null,null,null,null,null,null,null,null,null,null,null,null,null,null,"常勤換算に\nよる人数",null,null,null,"勤務延べ\n時間数/週",null,null,null,null,null,null,null,null,null,null,null,"常勤換算に\nよる人数",null,null,null,"勤務延べ\n時間数/週",null,null,null,null,null,null,null,null,null,null,null,null,null,"特定従業者数換算による人数",null,null,null,"勤務延べ\n時間数"]
[null,null,null,null,null,"③新設又は増改築等の時点から１年以上",null,null,null,null,null,null,null,null,null,null,null,null,null,null,null,null,null,null,null,"世話人６：１",null,null,null,null,{"$f":"IF((OR($D$5=\"○\",$D$6=\"○\")),ROUNDDOWN(((BE$6+BE$8*0.9))/6,1))","v":false},null,null,null,{"$f":"AE14*$BL$43","v":0},null,null,{"$f":"AE14*40","v":0},null,null,null,"世話人６：１",null,null,null,null,{"$f":"IF((OR($D$5=\"○\",$D$6=\"○\")),$BD$549)","v":false},null,null,null,{"$f":"AU14*$BL$43","v":0},null,null,{"$f":"AU14*40","v":0},null,null,{"$f":"IF((OR($D$5=\"○\",$D$6=\"○\")),IF(AE14<=AU14,\"可\",\"否\"))","v":false},null,null,"世話人等",null,null,null,null,{"$f":"(ROUNDDOWN(BQ14/160,1))","v":0},null,null,null,{"$f":"$BL$548","v":0}]
[null,null,null,null,null,null,null,null,null,null,null,{"$f":"IF(COUNTIF(D12:E14,\"○\")>1,\"いずれか１つを選択してください。\",\"\")","v":""},null,null,null,null,null,null,null,null,null,null,null,null,null,"世話人５：１",null,null,null,null,{"$f":"IF((OR($D$7=\"○\")),ROUNDDOWN((BE$6+BE$8*0.9)/5,1))","v":false},null,null,null,{"$f":"AE15*$BL$43","v":0},null,null,{"$f":"AE15*40","v":0},null,null,null,"世話人５：１",null,null,null,null,{"$f":"IF(($D$7=\"○\"),$BD$549)","v":false},null,null,null,{"$f":"AU15*$BL$43","v":0},null,null,{"$f":"AU15*40","v":0},null,null,{"$f":"IF(($D$7=\"○\"),IF(AE15<=AU15,\"可\",\"否\"))","v":false},null,null,"合計",null,null,null,null,{"$f":"SUM(BM12:BP14)","v":0},null,null,null,{"$f":"SUMIF(BQ12:BS14,\"<>#VALUE!\")","v":0}]
[null,null,null,null,null,null,null,null,null,null,null,null,null,null,null,null,null,null,null,null,null,null,null,null,null,"生活支援員",null,null,null,null,{"$f":"IF($D$6=\"○\",\"\",ROUNDDOWN(($AO$6+$AO$8*0.9)/9,1)+ROUNDDOWN(($AS$6-$AS$7+$AS$8*0.9)/6,1)+ROUNDDOWN($AS$7/12,1)+ROUNDDOWN(($AW$6-$AW$7+$AW$8*0.9)/4,1)+ROUNDDOWN($AW$7/8,1)+ROUNDDOWN(($BA$6-$BA$7+$BA$8*0.9)/2.5,1)+ROUNDDOWN($BA$7/5,1))","v":0},null,null,null,{"$f":"AE16*$BL$43","v":0},null,null,{"$f":"AE16*40","v":0},null,null,null,"生活支援員",null,null,null,null,{"$f":"IF(($D$6=\"○\"),\"\",$BH$549)","v":{"$error":"#DIV/0!"}},null,null,null,{"$f":"AU16*$BL$43","v":{"$error":"#DIV/0!"}},null,null,{"$f":"AU16*40","v":{"$error":"#DIV/0!"}},null,null,{"$f":"IF(($D$6=\"○\"),\"\",IF(AE16<=AU16,\"可\",\"否\"))","v":{"$error":"#DIV/0!"}}]
[null,null,null,null,null,null,null,null,null,null,null,null,null,null,null,null,null,null,null,null,null,null,null,null,null,"合計",null,null,null,null,{"$f":"SUM(AE14:AH16)","v":0},null,null,null,{"$f":"SUMIF(AI14:AK16,\"<>#VALUE!\")","v":0},null,null,{"$f":"SUMIF(AL14:AN16,\"<>#VALUE!\")","v":0},null,null,null,"合計",null,null,null,null,{"$f":"SUM(AU14:AX16)","v":{"$error":"#DIV/0!"}},null,null,null,{"$f":"SUMIF(AY14:BA16,\"<>#VALUE!\")","v":{"$error":"#DIV/0!"}},null,null,{"$f":"SUMIF(BB14:BD16,\"<>#VALUE!\")","v":{"$error":"#DIV/0!"}}]
[]
[]
[null,null,null,"７　人員配置体制加算の算定における必要加配数",null,null,null,null,null,null,null,null,null,null,null,null,null,null,null,null,null,null,null,null,null,"常勤換算方法による基準上おくべき従業者数において、当該事業所の常勤換算における所定労働時間が40時間未満であった場合に、特定従業者数換算方法により算出された場合の値との差分をいう。"]
[null,null,null,null,null,null,null,null,null,null,null,null,null,null,null,null,null,null,null,null,null,null,"調整数："]
[]
[]
[null,null,null,"介護包括サービス型・外部サービス利用型",null,null,null,null,null,null,null,null,null,null,null,null,null,null,null,null,null,null,null,null,null,null,null,null,null,null,null,null,null,null,null,"日中サービス支援型",null,null,null,null,null,null,null,null,null,null,null,null,null,null,null,null,null,null,null,null,null,null,null,null,null,null,null,null,null,null,null,null,null,null,null,null,null,null,null,null,null,null,null,"常勤・専従"]
[null,null,null,"12:1の場合",null,null,null,null,"特定従業者数",null,null,null,"勤務延べ時間",null,null,null,null,null,null,"30:1の場合",null,null,null,null,"特定従業者数",null,null,null,"勤務延べ時間",null,null,null,null,null,null,"7.5:1の場合",null,null,null,null,"特定従業者数",null,null,null,"勤務延べ時間",null,null,null,null,null,null,"20:1の場合",null,null,null,null,"特定従業者数",null,null,null,"勤務延べ時間",null,null,null,null,null,null,null,null,null,null,null,null,null,null,null,null,null,null,"常勤・兼務"]
[null,null,null,"不足加配数",null,null,null,null,{"$f":"(ROUNDDOWN(M26/40,1))","v":0},null,null,null,{"$f":"((((ROUNDDOWN($BE$9/12,1))*40)))*-1","v":0},null,null,null,null,null,null,"不足加配数",null,null,null,null,{"$f":"(ROUNDDOWN(AC26/40,1))","v":0},null,null,null,{"$f":"((((ROUNDDOWN($BE$9/30,1))*40)))*-1","v":0},null,null,null,null,null,null,"不足加配数",null,null,null,null,{"$f":"(ROUNDDOWN(AS26/40,1))","v":0},null,null,null,{"$f":"((((ROUNDDOWN($BE$9/7.5,1))*40)))*-1","v":0},null,null,null,null,null,null,"不足加配数",null,null,null,null,{"$f":"(ROUNDDOWN(BI26/40,1))","v":0},null,null,null,{"$f":"((((ROUNDDOWN($BE$9/20,1))*40)))*-1","v":0},null,null,null,null,null,null,null,null,null,null,null,null,null,null,null,null,null,null,"非常勤・専従"]
[null,null,null,"不足調整数",null,null,null,null,{"$f":"(ROUNDDOWN(M27/40,1))","v":0},null,null,null,{"$f":"($AL$17-$AI$17)*-1","v":0},null,null,null,null,null,null,"不足調整数",null,null,null,null,{"$f":"(ROUNDDOWN(AC27/40,1))","v":0},null,null,null,{"$f":"($AL$17-$AI$17)*-1","v":0},null,null,null,null,null,null,"不足調整数",null,null,null,null,{"$f":"(ROUNDDOWN(AS27/40,1))","v":0},null,null,null,{"$f":"($AL$17-$AI$17)*-1","v":0},null,null,null,null,null,null,"不足調整数",null,null,null,null,{"$f":"(ROUNDDOWN(BI27/40,1))","v":0},null,null,null,{"$f":"($AL$17-$AI$17)*-1","v":0},null,null,null,null,null,null,null,null,null,null,null,null,null,null,null,null,null,null,"非常勤・兼務"]
[null,null,null,"基準人員余り",null,null,null,null,{"$f":"(ROUNDDOWN(M28/40,1))","v":{"$error":"#DIV/0!"}},null,null,null,{"$f":"+$AY$17-$AI$17","v":{"$error":"#DIV/0!"}},null,null,null,null,null,null,"基準人員余り",null,null,null,null,{"$f":"ROUNDDOWN(+AC28/40,2)","v":{"$error":"#DIV/0!"}},null,null,null,{"$f":"+$AY$17-$AI$17","v":{"$error":"#DIV/0!"}},null,null,null,null,null,null,"基準人員余り",null,null,null,null,{"$f":"ROUNDDOWN(+AS28/40,2)","v":{"$error":"#DIV/0!"}},null,null,null,{"$f":"+$AY$17-$AI$17","v":{"$error":"#DIV/0!"}},null,null,null,null,null,null,"基準人員余り",null,null,null,null,{"$f":"ROUNDDOWN(+BI28/40,2)","v":{"$error":"#DIV/0!"}},null,null,null,{"$f":"+$AY$17-$AI$17","v":{"$error":"#DIV/0!"}}]
[null,null,null,"加配状況",null,null,null,null,{"$f":"(ROUNDDOWN(M29/40,1))","v":0},null,null,null,{"$f":"$BL$548/4","v":0},null,null,null,null,null,null,"加配状況",null,null,null,null,{"$f":"(ROUNDDOWN(AC29/40,1))","v":0},null,null,null,{"$f":"$BL$548/4","v":0},null,null,null,null,null,null,"加配状況",null,null,null,null,{"$f":"(ROUNDDOWN(AS29/40,1))","v":0},null,null,null,{"$f":"$BL$548/4","v":0},null,null,null,null,null,null,"加配状況",null,null,null,null,{"$f":"(ROUNDDOWN(BI29/40,1))","v":0},null,null,null,{"$f":"$BL$548/4","v":0},null,null,null,null,null,null,null,null,null,null,null,null,null,null,null,null,null,null,"介護福祉士"]
[null,null,null,"算定要件に対しての加配状況",null,null,null,null,{"$f":"SUM(I26:L29)","v":{"$error":"#DIV/0!"}},null,null,null,{"$f":"SUM(M26:P29)","v":{"$error":"#DIV/0!"}},null,null,null,null,null,null,"算定要件に対しての加配状況",null,null,null,null,{"$f":"SUM(Y26:AB29)","v":{"$error":"#DIV/0!"}},null,null,null,{"$f":"SUM(AC26:AF29)","v":{"$error":"#DIV/0!"}},null,null,null,null,null,null,"算定要件に対しての加配状況",null,null,null,null,{"$f":"SUM(AO26:AR29)","v":{"$error":"#DIV/0!"}},null,null,null,{"$f":"SUM(AS26:AV29)","v":{"$error":"#DIV/0!"}},null,null,null,null,null,null,"算定要件に対しての加配状況",null,null,null,null,{"$f":"SUM(BE26:BH29)","v":{"$error":"#DIV/0!"}},null,null,null,{"$f":"SUM(BI26:BL29)","v":{"$error":"#DIV/0!"}},null,null,null,null,null,null,null,null,null,null,null,null,null,null,null,null,null,null,"社会福祉士"]
[null,null,null,null,null,null,null,null,null,null,null,null,null,null,null,null,null,null,null,null,null,null,null,null,null,null,null,null,null,null,null,null,null,null,null,null,null,null,null,null,null,null,null,null,null,null,null,null,null,null,null,null,null,null,null,null,null,null,null,null,null,null,null,null,null,null,null,null,null,null,null,null,null,null,null,null,null,null,null,"精神保健福祉士"]
[null,null,null,null,null,null,null,null,null,null,"12:1",null,null,{"$f":"IF(OR($BE$9>0,),IF(AND(OR($D$5=\"○\",$D$6=\"○\"),$I$30>=0),\"可\",IF(AND(OR($D$5=\"○\",$D$6=\"○\"),$I$30<0),\"不可\",\"\")),\"\")","v":""},null,null,null,null,null,null,null,null,null,null,null,null,"30:1",null,null,{"$f":"IF(OR($BE$9>0,),IF(AND(OR($D$5=\"○\",$D$6=\"○\"),$Y$30>=0),\"可\",IF(AND(OR($D$5=\"○\",$D$6=\"○\"),$Y$30<0),\"不可\",\"\")),\"\")","v":""},null,null,null,null,null,null,null,null,null,null,null,null,"7.5:1",null,null,{"$f":"IF(OR($BE$9>0,),IF(AND(OR($D$7=\"○\"),$AO$30>=0),\"可\",IF(AND(OR($D$7=\"○\"),$AO$30<0),\"不可\",\"\")),\"\")","v":""},null,null,null,null,null,null,null,null,null,null,null,null,"20:1",null,null,{"$f":"IF(OR($BE$9>0,),IF(AND(OR($D$7=\"○\"),$BE$30>=0),\"可\",IF(AND(OR($D$7=\"○\"),$BE$30<0),\"不可\",\"\")),\"\")","v":""},null,null,null,null,null,null,null,null,null,null,null,null,null,null,null,null,null,"公認心理師"]
[null,null,null,null,null,null,null,null,null,null,null,null,null,null,null,null,null,null,null,null,null,null,null,null,null,null,null,null,null,null,null,null,null,null,null,null,null,null,null,null,null,null,null,null,null,null,null,null,null,null,null,null,null,null,null,null,null,null,null,null,null,null,null,null,null,null,null,null,null,null,null,null,null,null,null,null,null,null,null,"有"]
[]
[]
[null,null,null,null,null,null,null,null,null,null,null,null,null,null,null,null,null,null,null,null,null,null,null,null,null,null,null,null,null,null,null,null,null,null,null,null,null,null,null,null,null,null,null,null,null,"従業者の職種・員数",null,null,null,null,null,null,null,null,null,"世話人",null,null,null,"生活支援員",null,null,null,"加配要員"]
[null,null,null,null,null,null,null,null,null,null,null,null,null,null,null,null,null,null,null,null,null,null,null,null,null,null,null,null,null,null,null,null,null,null,null,null,null,null,null,null,null,null,null,null,null,null,null,null,null,null,null,null,null,null,null,"専従",null,"兼務",null,"専従",null,"兼務",null,"専従",null,"兼務"]
[null,null,null,null,null,null,null,null,null,null,null,null,null,null,null,null,null,null,null,null,null,null,null,null,null,null,null,null,null,null,null,null,null,null,null,null,null,null,null,null,null,null,null,null,null,null,"従業者数",null,null,"常勤（人）",null,null,null,null,null,{"$f":"+COUNTIFS($G$47:$G$539,BD36,$O$47:$O$539,\"常勤・専従\")","v":0},null,{"$f":"+COUNTIFS($G$47:$G$539,BD36,$O$47:$O$539,\"常勤・兼務\")","v":0},null,{"$f":"+COUNTIFS($G$47:$G$539,BH36,$O$47:$O$539,\"常勤・専従\")","v":0},null,{"$f":"+COUNTIFS($G$47:$G$539,BH36,$O$47:$O$539,\"常勤・兼務\")","v":0},null,{"$f":"+COUNTIFS($G$47:$G$539,BL36,$O$47:$O$539,\"常勤・専従\")","v":0},null,{"$f":"+COUNTIFS($G$47:$G$539,BL36,$O$47:$O$539,\"常勤・兼務\")","v":0}]
[null,null,null,null,null,null,null,null,null,null,null,null,null,null,null,null,null,null,null,null,null,null,null,null,null,null,null,null,null,null,null,null,null,null,null,null,null,null,null,null,null,null,null,null,null,null,null,null,null,"非常勤（人）",null,null,null,null,null,{"$f":"+COUNTIFS($G$47:$G$539,BD36,$O$47:$O$539,\"非常勤・専従\")","v":0},null,{"$f":"+COUNTIFS($G$47:$G$539,BD36,$O$47:$O$539,\"非常勤・兼務\")","v":0},null,{"$f":"+COUNTIFS($G$47:$G$539,BH36,$O$47:$O$539,\"非常勤・専従\")","v":0},null,{"$f":"+COUNTIFS($G$47:$G$539,BH36,$O$47:$O$539,\"非常勤・兼務\")","v":0},null,{"$f":"+COUNTIFS($G$47:$G$539,BL36,$O$47:$O$539,\"非常勤・専従\")","v":0},null,{"$f":"+COUNTIFS($G$47:$G$539,BL36,$O$47:$O$539,\"非常勤・兼務\")","v":0}]
[null,null,null,null,null,null,null,null,null,null,null,null,null,null,null,null,null,null,null,null,null,null,null,null,null,null,null,null,null,null,null,null,null,null,null,null,null,null,null,null,null,null,null,null,null,null,"延べ勤務時間数",null,null,null,null,null,null,null,null,{"$f":"SUMIFS($BB47:$BB539,$G47:$G539,\"世話人\")","v":0},null,null,null,{"$f":"SUMIFS($BB47:$BB539,$G47:$G539,\"生活支援員\")","v":0},null,null,null,{"$f":"SUMIFS($BB47:$BB539,$G47:$G539,\"加配要員\")","v":0}]
[null,null,null,null,null,null,null,null,null,null,null,null,null,null,null,null,null,null,null,null,null,null,null,null,null,null,null,null,null,null,null,null,null,null,null,null,null,null,null,null,null,null,null,null,null,null,"常勤換算数",null,null,null,null,null,null,null,null,{"$f":"ROUNDDOWN(+BD40/($BL$43*4),1)","v":{"$error":"#DIV/0!"}},null,null,null,{"$f":"ROUNDDOWN(+BH40/($BL$43*4),1)","v":{"$error":"#DIV/0!"}},null,null,null,{"$f":"ROUNDDOWN(+BL40/160,1)","v":0}]
[null,"従業者の勤務体制一覧表"]
[null,"氏名",null,null,null,null,"職種",null,null,null,null,null,null,null,"勤務形態",null,null,"福祉専門職員加算\n対象者",null,null,"保有\n資格",null,null,"勤続\n3年",null,"第１週",null,null,null,null,null,null,"第２週",null,null,null,null,null,null,"第３週",null,null,null,null,null,null,"第４週",null,null,null,null,null,null,"4週の合計",null,null,"1週間に当該事業所における常勤職員の勤務すべき時間数（就業規則上に定める時間数）",null,null,null,null,null,null,{"$f":"+①はじめに!C9","v":0}]
[null,null,null,null,null,null,null,null,null,null,null,null,null,null,null,null,null,null,null,null,null,null,null,null,null,1,2,3,4,5,6,7,8,9,10,11,12,13,14,15,16,17,18,19,20,25,22,23,24,25,26,27,28]
[null,null,null,null,null,null,null,null,null,null,null,null,null,null,null,null,null,null,null,null,null,null,null,null,null,{"$f":"IF($AQ$3=\"\",\"\",+CA6)","v":{"$error":"#VALUE!"}},{"$f":"IF($AQ$2=\"\",\"\",Z45+1)","v":{"$error":"#VALUE!"}},{"$f":"IF($AQ$2=\"\",\"\",AA45+1)","v":{"$error":"#VALUE!"}},{"$error":"#VALUE!"},{"$error":"#VALUE!"},{"$error":"#VALUE!"},{"$error":"#VALUE!"},{"$error":"#VALUE!"},{"$error":"#VALUE!"},{"$error":"#VALUE!"},{"$error":"#VALUE!"},{"$error":"#VALUE!"},{"$error":"#VALUE!"},{"$error":"#VALUE!"},{"$error":"#VALUE!"},{"$error":"#VALUE!"},{"$error":"#VALUE!"},{"$error":"#VALUE!"},{"$error":"#VALUE!"},{"$error":"#VALUE!"},{"$error":"#VALUE!"},{"$error":"#VALUE!"},{"$error":"#VALUE!"},{"$error":"#VALUE!"},{"$error":"#VALUE!"},{"$error":"#VALUE!"},{"$error":"#VALUE!"},{"$error":"#VALUE!"}]
[null,null,null,null,null,null,null,null,null,null,null,null,null,null,null,null,null,null,null,null,null,null,null,null,null,{"$f":"COUNTIFS($G$47:$G$539,\"夜間支援員\",Z47:Z539,\">=0\")","v":0},0,0,0,0,0,0,0,0,0,0,0,0,0,0,0,0,0,0,0,0,0,0,0,0,0,0,0,{"$f":"SUM(Z46:BA46)","v":0},null,null,"←夜間支援員の合計"]
[null,{"$f":"+①はじめに!D10","v":0},null,null,null,null,"管理者",null,null,null,null,null,null,null,{"$f":"+①はじめに!G10","v":0},null,null,{"$f":"+①はじめに!D11&\"\"","v":""},null,null,{"$f":"+①はじめに!H11&\"\"","v":""},null,null,{"$f":"+①はじめに!F11&\"\"","v":""},null,null,null,null,null,null,null,null,null,null,null,null,null,null,null,null,null,null,null,null,null,null,null,null,null,null,null,null,null,{"$f":"SUM(Z47:BA47)","v":0},null,null,{"$f":"BB47/4","v":0},null,null,null,null,null,null,null,null,null,null,null,null,null,null,null,null,null,null,null,null,null,null,"常勤・専従",{"$f":"COUNTIF($J$53:$L$60,CB47)","v":0}]
[null,{"$f":"IF(①はじめに!C$13=TRUE,①はじめに!$D$10,\"\")","v":""},null,null,null,null,{"$f":"IF(①はじめに!C13=TRUE,\"サービス管理責任者\",\"\")","v":""},null,null,null,null,null,null,null,{"$f":"IF(①はじめに!C$13=TRUE,①はじめに!$G$10,\"\")","v":""},null,null,{"$f":"IF(①はじめに!C$13=TRUE,①はじめに!$D$11,\"\")&\"\"","v":""},null,null,{"$f":"IF(①はじめに!C$13=TRUE,①はじめに!$H$11,\"\")&\"\"","v":""},null,null,{"$f":"IF(①はじめに!C$13=TRUE,①はじめに!$F$11,\"\")&\"\"","v":""},null,null,null,null,null,null,null,null,null,null,null,null,null,null,null,null,null,null,null,null,null,null,null,null,null,null,null,null,null,{"$f":"SUM(Z48:BA48)","v":0},null,null,0,null,null,null,null,null,null,null,null,null,null,null,null,null,null,null,null,null,null,null,null,null,null,"常勤・兼務",{"$f":"COUNTIF($J$53:$L$60,CB48)","v":0}]
[null,{"$f":"IF(①はじめに!D$13=TRUE,①はじめに!$D$10,\"\")","v":""},null,null,null,null,{"$f":"IF(①はじめに!$D$13=TRUE,\"世話人\",\"\")","v":""},null,null,null,null,null,null,null,{"$f":"IF(①はじめに!D$13=TRUE,①はじめに!$G$10,\"\")","v":""},null,null,{"$f":"IF(①はじめに!D$13=TRUE,①はじめに!$D$11,\"\")&\"\"","v":""},null,null,{"$f":"IF(①はじめに!D$13=TRUE,①はじめに!$H$11,\"\")&\"\"","v":""},null,null,{"$f":"IF(①はじめに!D$13=TRUE,①はじめに!$F$11,\"\")&\"\"","v":""},null,null,null,null,null,null,null,null,null,null,null,null,null,null,null,null,null,null,null,null,null,null,null,null,null,null,null,null,null,0,null,null,0,null,null,null,null,null,null,null,null,null,null,null,null,null,null,null,null,null,null,null,null,null,null,"非常勤・専従",{"$f":"COUNTIF($J$53:$L$60,CB49)","v":0}]
[null,{"$f":"IF(①はじめに!E$13=TRUE,①はじめに!$D$10,\"\")","v":""},null,null,null,null,{"$f":"IF(①はじめに!$E$13=TRUE,\"生活支援員\",\"\")","v":""},null,null,null,null,null,null,null,{"$f":"IF(①はじめに!E$13=TRUE,①はじめに!$G$10,\"\")","v":""},null,null,{"$f":"IF(①はじめに!E$13=TRUE,①はじめに!$D$11,\"\")&\"\"","v":""},null,null,{"$f":"IF(①はじめに!E$13=TRUE,①はじめに!$H$11,\"\")&\"\"","v":""},null,null,{"$f":"IF(①はじめに!E$13=TRUE,①はじめに!$F$11,\"\")&\"\"","v":""},null,null,null,null,null,null,null,null,null,null,null,null,null,null,null,null,null,null,null,null,null,null,null,null,null,null,null,null,null,0,null,null,0,null,null,null,null,null,null,null,null,null,null,null,null,null,null,null,null,null,null,null,null,null,null,"非常勤・兼務",{"$f":"COUNTIF($J$53:$L$60,CB50)","v":0}]
[null,{"$f":"IF(①はじめに!F$13=TRUE,①はじめに!$D$10,\"\")","v":""},null,null,null,null,{"$f":"IF(①はじめに!$F$13=TRUE,\"夜間支援員\",\"\")","v":""},null,null,null,null,null,null,null,{"$f":"IF(①はじめに!F$13=TRUE,①はじめに!$G$10,\"\")","v":""},null,null,{"$f":"IF(①はじめに!F$13=TRUE,①はじめに!$D$11,\"\")&\"\"","v":""},null,null,{"$f":"IF(①はじめに!F$13=TRUE,①はじめに!$H$11,\"\")&\"\"","v":""},null,null,{"$f":"IF(①はじめに!F$13=TRUE,①はじめに!$F$11,\"\")&\"\"","v":""},null,null,null,null,null,null,null,null,null,null,null,null,null,null,null,null,null,null,null,null,null,null,null,null,null,null,null,null,null,0,null,null,0]
[null,{"$f":"IF(①はじめに!G$13=TRUE,①はじめに!$D$10,\"\")","v":""},null,null,null,null,{"$f":"IF(①はじめに!$G$13=TRUE,\"日中支援員\",\"\")","v":""},null,null,null,null,null,null,null,{"$f":"IF(①はじめに!G$13=TRUE,①はじめに!$G$10,\"\")","v":""},null,null,{"$f":"IF(①はじめに!G$13=TRUE,①はじめに!$D$11,\"\")&\"\"","v":""},null,null,{"$f":"IF(①はじめに!G$13=TRUE,①はじめに!$H$11,\"\")&\"\"","v":""},null,null,{"$f":"IF(①はじめに!G$13=TRUE,①はじめに!$F$11,\"\")&\"\"","v":""},null,null,null,null,null,null,null,null,null,null,null,null,null,null,null,null,null,null,null,null,null,null,null,null,null,null,null,null,null,0,null,null,0]
[null,{"$f":"IF(①はじめに!H$13=TRUE,①はじめに!$D$10,\"\")","v":""},null,null,null,null,{"$f":"IF(①はじめに!$H$13=TRUE,\"加配要員\",\"\")","v":""},null,null,null,null,null,null,null,{"$f":"IF(①はじめに!H$13=TRUE,①はじめに!$G$10,\"\")","v":""},null,null,{"$f":"IF(①はじめに!H$13=TRUE,①はじめに!$D$11,\"\")&\"\"","v":""},null,null,{"$f":"IF(①はじめに!H$13=TRUE,①はじめに!$H$11,\"\")&\"\"","v":""},null,null,{"$f":"IF(①はじめに!H$13=TRUE,①はじめに!$F$11,\"\")&\"\"","v":""},null,null,null,null,null,null,null,null,null,null,null,null,null,null,null,null,null,null,null,null,null,null,null,null,null,null,null,null,null,0,null,null,{"$f":"BB53/4","v":0}]
[null,{"$f":"IF(①はじめに!C$13=TRUE,\"\",①はじめに!D14)","v":0},null,null,null,null,{"$f":"IF(①はじめに!C13=TRUE,\"\",\"サービス管理責任者\")","v":"サービス管理責任者"},null,null,null,null,null,null,null,{"$f":"IF(①はじめに!C$13=TRUE,\"\",①はじめに!G$14)","v":0},null,null,{"$f":"IF(①はじめに!C$13=TRUE,\"\",①はじめに!D15)&\"\"","v":""},null,null,{"$f":"IF(①はじめに!C$13=TRUE,\"\",①はじめに!H15)&\"\"","v":""},null,null,{"$f":"IF(①はじめに!C$13=TRUE,\"\",①はじめに!F15)&\"\"","v":""},null,null,null,null,null,null,null,null,null,null,null,null,null,null,null,null,null,null,null,null,null,null,null,null,null,null,null,null,null,0,null,null,{"$f":"BB54/4","v":0}]
[null,{"$f":"IF(AND(①はじめに!$C$13=FALSE,①はじめに!D$17=TRUE),①はじめに!$D$14,\"\")","v":""},null,null,null,null,{"$f":"IF(AND(①はじめに!$C$13=FALSE,①はじめに!D$17=TRUE),\"世話人\",\"\")","v":""},null,null,null,null,null,null,null,{"$f":"IF(AND(①はじめに!$C$13=FALSE,①はじめに!D$17=TRUE),①はじめに!G14,\"\")&\"\"","v":""},null,null,{"$f":"IF(AND(①はじめに!$C$13=FALSE,①はじめに!D$17=TRUE),①はじめに!D15,\"\")&\"\"","v":""},null,null,{"$f":"IF(AND(①はじめに!$C$13=FALSE,①はじめに!D$17=TRUE),①はじめに!H15,\"\")&\"\"","v":""},null,null,{"$f":"IF(AND(①はじめに!$C$13=FALSE,①はじめに!D$17=TRUE),①はじめに!F15,\"\")&\"\"","v":""},null,null,null,null,null,null,null,null,null,null,null,null,null,null,null,null,null,null,null,null,null,null,null,null,null,null,null,null,null,0,null,null,0,null,null,null,null,null,null,null,null,null,null,null,null,null,null,null,null,null,null,null,null,null,null,"常勤・専従",{"$f":"COUNTIF($J$61:$L$83,CB55)","v":0}]
[null,{"$f":"IF(AND(①はじめに!$C$13=FALSE,①はじめに!E$17=TRUE),①はじめに!$D$14,\"\")","v":""},null,null,null,null,{"$f":"IF(AND(①はじめに!$C$13=FALSE,①はじめに!E$17=TRUE),\"生活支援員\",\"\")","v":""},null,null,null,null,null,null,null,{"$f":"IF(AND(①はじめに!$C$13=FALSE,①はじめに!E$17=TRUE),①はじめに!G14,\"\")&\"\"","v":""},null,null,{"$f":"IF(AND(①はじめに!$C$13=FALSE,①はじめに!E$17=TRUE),①はじめに!D15,\"\")&\"\"","v":""},null,null,{"$f":"IF(AND(①はじめに!$C$13=FALSE,①はじめに!E$17=TRUE),①はじめに!H15,\"\")&\"\"","v":""},null,null,{"$f":"IF(AND(①はじめに!$C$13=FALSE,①はじめに!E$17=TRUE),①はじめに!F15,\"\")&\"\"","v":""},null,null,null,null,null,null,null,null,null,null,null,null,null,null,null,null,null,null,null,null,null,null,null,null,null,null,null,null,null,0,null,null,0,null,null,null,null,null,null,null,null,null,null,null,null,null,null,null,null,null,null,null,null,null,null,"常勤・兼務",{"$f":"COUNTIF($J$61:$L$83,CB56)","v":0}]
[null,{"$f":"IF(AND(①はじめに!$C$13=FALSE,①はじめに!F$17=TRUE),①はじめに!$D$14,\"\")","v":""},null,null,null,null,{"$f":"IF(AND(①はじめに!$C$13=FALSE,①はじめに!F$17=TRUE),\"夜間支援員\",\"\")","v":""},null,null,null,null,null,null,null,{"$f":"IF(AND(①はじめに!$C$13=FALSE,①はじめに!F$17=TRUE),①はじめに!G14,\"\")&\"\"","v":""},null,null,{"$f":"IF(AND(①はじめに!$C$13=FALSE,①はじめに!F$17=TRUE),①はじめに!D15,\"\")&\"\"","v":""},null,null,{"$f":"IF(AND(①はじめに!$C$13=FALSE,①はじめに!F$17=TRUE),①はじめに!H15,\"\")&\"\"","v":""},null,null,{"$f":"IF(AND(①はじめに!$C$13=FALSE,①はじめに!F$17=TRUE),①はじめに!F15,\"\")&\"\"","v":""},null,null,null,null,null,null,null,null,null,null,null,null,null,null,null,null,null,null,null,null,null,null,null,null,null,null,null,null,null,0,null,null,0,null,null,null,null,null,null,null,null,null,null,null,null,null,null,null,null,null,null,null,null,null,null,"非常勤・専従",{"$f":"COUNTIF($J$61:$L$83,CB57)","v":0}]
[null,{"$f":"IF(AND(①はじめに!$C$13=FALSE,①はじめに!G$17=TRUE),①はじめに!$D$14,\"\")","v":""},null,null,null,null,{"$f":"IF(AND(①はじめに!$C$13=FALSE,①はじめに!G$17=TRUE),\"日中支援員\",\"\")","v":""},null,null,null,null,null,null,null,{"$f":"IF(AND(①はじめに!$C$13=FALSE,①はじめに!G$17=TRUE),①はじめに!G14,\"\")&\"\"","v":""},null,null,{"$f":"IF(AND(①はじめに!$C$13=FALSE,①はじめに!G$17=TRUE),①はじめに!D15,\"\")&\"\"","v":""},null,null,{"$f":"IF(AND(①はじめに!$C$13=FALSE,①はじめに!G$17=TRUE),①はじめに!H15,\"\")&\"\"","v":""},null,null,{"$f":"IF(AND(①はじめに!$C$13=FALSE,①はじめに!G$17=TRUE),①はじめに!F15,\"\")&\"\"","v":""},null,null,null,null,null,null,null,null,null,null,null,null,null,null,null,null,null,null,null,null,null,null,null,null,null,null,null,null,null,0,null,null,0,null,null,null,null,null,null,null,null,null,null,null,null,null,null,null,null,null,null,null,null,null,null,"非常勤・兼務",{"$f":"COUNTIF($J$61:$L$83,CB58)","v":0}]
[null,{"$f":"IF(AND(①はじめに!$C$13=FALSE,①はじめに!H$17=TRUE),①はじめに!$D$14,\"\")","v":""},null,null,null,null,{"$f":"IF(AND(①はじめに!$C$13=FALSE,①はじめに!H$17=TRUE),\"加配要員\",\"\")","v":""},null,null,null,null,null,null,null,{"$f":"IF(AND(①はじめに!$C$13=FALSE,①はじめに!H$17=TRUE),①はじめに!G14,\"\")&\"\"","v":""},null,null,{"$f":"IF(AND(①はじめに!$C$13=FALSE,①はじめに!H$17=TRUE),①はじめに!D15,\"\")&\"\"","v":""},null,null,{"$f":"IF(AND(①はじめに!$C$13=FALSE,①はじめに!H$17=TRUE),①はじめに!H15,\"\")&\"\"","v":""},null,null,{"$f":"IF(AND(①はじめに!$C$13=FALSE,①はじめに!H$17=TRUE),①はじめに!F15,\"\")&\"\"","v":""},null,null,null,null,null,null,null,null,null,null,null,null,null,null,null,null,null,null,null,null,null,null,null,null,null,null,null,null,null,0,null,null,0]
[1,{"$f":"IF(①はじめに!C$22=TRUE,①はじめに!$D$19,\"\")","v":""},null,null,null,null,{"$f":"IF(①はじめに!C22=TRUE,\"サービス管理責任者\",\"\")","v":""},null,null,null,null,null,null,null,{"$f":"IF(①はじめに!C$22=TRUE,①はじめに!G$19,\"\")","v":""},null,null,{"$f":"IF(①はじめに!C$22=TRUE,①はじめに!$D$20,\"\")&\"\"","v":""},null,null,{"$f":"IF(①はじめに!C$22=TRUE,①はじめに!$H$20,\"\")&\"\"","v":""},null,null,{"$f":"IF(①はじめに!$C22=TRUE,①はじめに!$F$20,\"\")&\"\"","v":""},null,null,null,null,null,null,null,null,null,null,null,null,null,null,null,null,null,null,null,null,null,null,null,null,null,null,null,null,null,0,null,null,0]
[{"$f":"+A60","v":1},{"$f":"IF(①はじめに!D$22=TRUE,①はじめに!$D$19,\"\")","v":""},null,null,null,null,{"$f":"IF(①はじめに!$D$22=TRUE,\"世話人\",\"\")","v":""},null,null,null,null,null,null,null,{"$f":"IF(①はじめに!$D$22=TRUE,①はじめに!G$19,\"\")","v":""},null,null,{"$f":"IF(①はじめに!$D$22=TRUE,①はじめに!$D$20,\"\")&\"\"","v":""},null,null,{"$f":"IF(①はじめに!$D$22=TRUE,①はじめに!$H$20,\"\")&\"\"","v":""},null,null,{"$f":"IF(①はじめに!$D22=TRUE,①はじめに!$F$20,\"\")&\"\"","v":""},null,null,null,null,null,null,null,null,null,null,null,null,null,null,null,null,null,null,null,null,null,null,null,null,null,null,null,null,null,0,null,null,0]
[{"$f":"+A60","v":1},{"$f":"IF(①はじめに!E$22=TRUE,①はじめに!$D$19,\"\")","v":""},null,null,null,null,{"$f":"IF(①はじめに!$E$22=TRUE,\"生活支援員\",\"\")","v":""},null,null,null,null,null,null,null,{"$f":"IF(①はじめに!$E$22=TRUE,①はじめに!G$19,\"\")","v":""},null,null,{"$f":"IF(①はじめに!$E$22=TRUE,①はじめに!$D$20,\"\")&\"\"","v":""},null,null,{"$f":"IF(①はじめに!$E$22=TRUE,①はじめに!$H$20,\"\")&\"\"","v":""},null,null,{"$f":"IF(①はじめに!$E22=TRUE,①はじめに!$F$20,\"\")&\"\"","v":""},null,null,null,null,null,null,null,null,null,null,null,null,null,null,null,null,null,null,null,null,null,null,null,null,null,null,null,null,null,0,null,null,0,null,null,null,null,null,null,null,null,null,null,null,null,null,null,null,null,null,null,null,null,null,null,"常勤・専従",{"$f":"COUNTIF($J$61:$L$83,CB62)","v":0}]
[{"$f":"+A60","v":1},{"$f":"IF(①はじめに!F$22=TRUE,①はじめに!$D$19,\"\")","v":""},null,null,null,null,{"$f":"IF(①はじめに!$F$22=TRUE,\"夜間支援員\",\"\")","v":""},null,null,null,null,null,null,null,{"$f":"IF(①はじめに!$F$22=TRUE,①はじめに!G$19,\"\")","v":""},null,null,{"$f":"IF(①はじめに!$F$22=TRUE,①はじめに!$D$20,\"\")&\"\"","v":""},null,null,{"$f":"IF(①はじめに!$F$22=TRUE,①はじめに!$H$20,\"\")&\"\"","v":""},null,null,{"$f":"IF(①はじめに!$F22=TRUE,①はじめに!$F$20,\"\")&\"\"","v":""},null,null,null,null,null,null,null,null,null,null,null,null,null,null,null,null,null,null,null,null,null,null,null,null,null,null,null,null,null,0,null,null,0,null,null,null,null,null,null,null,null,null,null,null,null,null,null,null,null,null,null,null,null,null,null,"常勤・兼務",{"$f":"COUNTIF($J$61:$L$83,CB63)","v":0}]
[{"$f":"+A60","v":1},{"$f":"IF(①はじめに!G$22=TRUE,①はじめに!$D$19,\"\")","v":""},null,null,null,null,{"$f":"IF(①はじめに!$G$22=TRUE,\"日中支援員\",\"\")","v":""},null,null,null,null,null,null,null,{"$f":"IF(①はじめに!$G$22=TRUE,①はじめに!G$19,\"\")","v":""},null,null,{"$f":"IF(①はじめに!$G$22=TRUE,①はじめに!$D$20,\"\")&\"\"","v":""},null,null,{"$f":"IF(①はじめに!$G$22=TRUE,①はじめに!$H$20,\"\")&\"\"","v":""},null,null,{"$f":"IF(①はじめに!$G22=TRUE,①はじめに!$F$20,\"\")&\"\"","v":""},null,null,null,null,null,null,null,null,null,null,null,null,null,null,null,null,null,null,null,null,null,null,null,null,null,null,null,null,null,0,null,null,0,null,null,null,null,null,null,null,null,null,null,null,null,null,null,null,null,null,null,null,null,null,null,"非常勤・専従",{"$f":"COUNTIF($J$61:$L$83,CB64)","v":0}]
[{"$f":"+A60","v":1},{"$f":"IF(①はじめに!H$22=TRUE,①はじめに!$D$19,\"\")","v":""},null,null,null,null,{"$f":"IF(①はじめに!$H$22=TRUE,\"加配要員\",\"\")","v":""},null,null,null,null,null,null,null,{"$f":"IF(①はじめに!$H$22=TRUE,①はじめに!G$19,\"\")","v":""},null,null,{"$f":"IF(①はじめに!$H$22=TRUE,①はじめに!$D$20,\"\")&\"\"","v":""},null,null,{"$f":"IF(①はじめに!$H$22=TRUE,①はじめに!$H$20,\"\")&\"\"","v":""},null,null,{"$f":"IF(①はじめに!$H22=TRUE,①はじめに!$F$20,\"\")&\"\"","v":""},null,null,null,null,null,null,null,null,null,null,null,null,null,null,null,null,null,null,null,null,null,null,null,null,null,null,null,null,null,0,null,null,0]
[{"$f":"+A60+1","v":2},{"$f":"IF(①はじめに!C28=TRUE,①はじめに!D23,\"\")","v":""},null,null,null,null,{"$f":"IF(①はじめに!C28=TRUE,\"サービス管理責任者\",\"\")","v":""},null,null,null,null,null,null,null,{"$f":"IF(①はじめに!C28=TRUE,①はじめに!G23,\"\")","v":""},null,null,{"$f":"IF(①はじめに!C28=TRUE,①はじめに!D25,\"\")&\"\"","v":""},null,null,{"$f":"IF(①はじめに!C28=TRUE,①はじめに!H25,\"\")&\"\"","v":""},null,null,{"$f":"IF(①はじめに!C28=TRUE,①はじめに!F25,\"\")&\"\"","v":""},null,null,null,null,null,null,null,null,null,null,null,null,null,null,null,null,null,null,null,null,null,null,null,null,null,null,null,null,null,0,null,null,0]
[{"$f":"+A66","v":2},{"$f":"IF(①はじめに!D28=TRUE,①はじめに!D23,\"\")","v":""},null,null,null,null,{"$f":"IF(①はじめに!D28=TRUE,\"世話人\",\"\")","v":""},null,null,null,null,null,null,null,{"$f":"IF(①はじめに!D28=TRUE,①はじめに!G23,\"\")","v":""},null,null,{"$f":"IF(①はじめに!D28=TRUE,①はじめに!D25,\"\")&\"\"","v":""},null,null,{"$f":"IF(①はじめに!D28=TRUE,①はじめに!H25,\"\")&\"\"","v":""},null,null,{"$f":"IF(①はじめに!D28=TRUE,①はじめに!F25,\"\")&\"\"","v":""},null,null,null,null,null,null,null,null,null,null,null,null,null,null,null,null,null,null,null,null,null,null,null,null,null,null,null,null,null,0,null,null,0]
[{"$f":"+A66","v":2},{"$f":"IF(①はじめに!E28=TRUE,①はじめに!D23,\"\")","v":""},null,null,null,null,{"$f":"IF(①はじめに!E28=TRUE,\"生活支援員\",\"\")","v":""},null,null,null,null,null,null,null,{"$f":"IF(①はじめに!E28=TRUE,①はじめに!G23,\"\")","v":""},null,null,{"$f":"IF(①はじめに!E28=TRUE,①はじめに!D25,\"\")&\"\"","v":""},null,null,{"$f":"IF(①はじめに!E28=TRUE,①はじめに!H25,\"\")&\"\"","v":""},null,null,{"$f":"IF(①はじめに!E28=TRUE,①はじめに!F25,\"\")&\"\"","v":""},null,null,null,null,null,null,null,null,null,null,null,null,null,null,null,null,null,null,null,null,null,null,null,null,null,null,null,null,null,0,null,null,0,null,null,null,null,null,null,null,null,null,null,null,null,null,null,null,null,null,null,null,null,null,null,"常勤・専従",{"$f":"COUNTIF($J$61:$L$83,CB68)","v":0}]
[{"$f":"+A66","v":2},{"$f":"IF(①はじめに!F28=TRUE,①はじめに!D23,\"\")","v":""},null,null,null,null,{"$f":"IF(①はじめに!F28=TRUE,\"夜間支援員\",\"\")","v":""},null,null,null,null,null,null,null,{"$f":"IF(①はじめに!F28=TRUE,①はじめに!G23,\"\")","v":""},null,null,{"$f":"IF(①はじめに!F28=TRUE,①はじめに!D25,\"\")&\"\"","v":""},null,null,{"$f":"IF(①はじめに!F28=TRUE,①はじめに!H25,\"\")&\"\"","v":""},null,null,{"$f":"IF(①はじめに!F28=TRUE,①はじめに!F25,\"\")&\"\"","v":""},null,null,null,null,null,null,null,null,null,null,null,null,null,null,null,null,null,null,null,null,null,null,null,null,null,null,null,null,null,0,null,null,0,null,null,null,null,null,null,null,null,null,null,null,null,null,null,null,null,null,null,null,null,null,null,"常勤・兼務",{"$f":"COUNTIF($J$61:$L$83,CB69)","v":0}]
[{"$f":"+A66","v":2},{"$f":"IF(①はじめに!G28=TRUE,①はじめに!D23,\"\")","v":""},null,null,null,null,{"$f":"IF(①はじめに!G28=TRUE,\"日中支援員\",\"\")","v":""},null,null,null,null,null,null,null,{"$f":"IF(①はじめに!G28=TRUE,①はじめに!G23,\"\")","v":""},null,null,{"$f":"IF(①はじめに!G28=TRUE,①はじめに!D25,\"\")&\"\"","v":""},null,null,{"$f":"IF(①はじめに!G28=TRUE,①はじめに!H25,\"\")&\"\"","v":""},null,null,{"$f":"IF(①はじめに!G28=TRUE,①はじめに!F25,\"\")&\"\"","v":""},null,null,null,null,null,null,null,null,null,null,null,null,null,null,null,null,null,null,null,null,null,null,null,null,null,null,null,null,null,0,null,null,0]
[{"$f":"+A66","v":2},{"$f":"IF(①はじめに!H28=TRUE,①はじめに!D23,\"\")","v":""},null,null,null,null,{"$f":"IF(①はじめに!H28=TRUE,\"加配要員\",\"\")","v":""},null,null,null,null,null,null,null,{"$f":"IF(①はじめに!H28=TRUE,①はじめに!G23,\"\")","v":""},null,null,{"$f":"IF(①はじめに!H28=TRUE,①はじめに!D25,\"\")&\"\"","v":""},null,null,{"$f":"IF(①はじめに!H28=TRUE,①はじめに!H25,\"\")&\"\"","v":""},null,null,{"$f":"IF(①はじめに!H28=TRUE,①はじめに!F25,\"\")&\"\"","v":""},null,null,null,null,null,null,null,null,null,null,null,null,null,null,null,null,null,null,null,null,null,null,null,null,null,null,null,null,null,0,null,null,0]
[{"$f":"+A66+1","v":3},{"$f":"IF(①はじめに!C34=TRUE,①はじめに!D29,\"\")","v":""},null,null,null,null,{"$f":"IF(①はじめに!C34=TRUE,\"サービス管理責任者\",\"\")","v":""},null,null,null,null,null,null,null,{"$f":"IF(①はじめに!C34=TRUE,①はじめに!G29,\"\")","v":""},null,null,{"$f":"IF(①はじめに!C34=TRUE,①はじめに!D31,\"\")&\"\"","v":""},null,null,{"$f":"IF(①はじめに!C34=TRUE,①はじめに!H31,\"\")&\"\"","v":""},null,null,{"$f":"IF(①はじめに!C34=TRUE,①はじめに!F31,\"\")&\"\"","v":""},null,null,null,null,null,null,null,null,null,null,null,null,null,null,null,null,null,null,null,null,null,null,null,null,null,null,null,null,null,0,null,null,0,null,null,null,null,null,null,null,null,null,null,null,null,null,null,null,null,null,null,null,null,null,null,"常勤・専従",{"$f":"COUNTIF($J$61:$L$83,CB72)","v":0}]
[{"$f":"+A72","v":3},{"$f":"IF(①はじめに!D34=TRUE,①はじめに!D29,\"\")","v":""},null,null,null,null,{"$f":"IF(①はじめに!D34=TRUE,\"世話人\",\"\")","v":""},null,null,null,null,null,null,null,{"$f":"IF(①はじめに!D34=TRUE,①はじめに!G29,\"\")","v":""},null,null,{"$f":"IF(①はじめに!D34=TRUE,①はじめに!D31,\"\")&\"\"","v":""},null,null,{"$f":"IF(①はじめに!D34=TRUE,①はじめに!H31,\"\")&\"\"","v":""},null,null,{"$f":"IF(①はじめに!D34=TRUE,①はじめに!F31,\"\")&\"\"","v":""},null,null,null,null,null,null,null,null,null,null,null,null,null,null,null,null,null,null,null,null,null,null,null,null,null,null,null,null,null,0,null,null,0,null,null,null,null,null,null,null,null,null,null,null,null,null,null,null,null,null,null,null,null,null,null,"常勤・兼務",{"$f":"COUNTIF($J$61:$L$83,CB73)","v":0}]
[{"$f":"+A72","v":3},{"$f":"IF(①はじめに!E34=TRUE,①はじめに!D29,\"\")","v":""},null,null,null,null,{"$f":"IF(①はじめに!E34=TRUE,\"生活支援員\",\"\")","v":""},null,null,null,null,null,null,null,{"$f":"IF(①はじめに!E34=TRUE,①はじめに!G29,\"\")","v":""},null,null,{"$f":"IF(①はじめに!E34=TRUE,①はじめに!D31,\"\")&\"\"","v":""},null,null,{"$f":"IF(①はじめに!E34=TRUE,①はじめに!H31,\"\")&\"\"","v":""},null,null,{"$f":"IF(①はじめに!E34=TRUE,①はじめに!F31,\"\")&\"\"","v":""},null,null,null,null,null,null,null,null,null,null,null,null,null,null,null,null,null,null,null,null,null,null,null,null,null,null,null,null,null,0,null,null,0,null,null,null,null,null,null,null,null,null,null,null,null,null,null,null,null,null,null,null,null,null,null,"非常勤・専従",{"$f":"COUNTIF($J$61:$L$83,CB74)","v":0}]
[{"$f":"+A72","v":3},{"$f":"IF(①はじめに!F34=TRUE,①はじめに!D29,\"\")","v":""},null,null,null,null,{"$f":"IF(①はじめに!F34=TRUE,\"夜間支援員\",\"\")","v":""},null,null,null,null,null,null,null,{"$f":"IF(①はじめに!F34=TRUE,①はじめに!G29,\"\")","v":""},null,null,{"$f":"IF(①はじめに!F34=TRUE,①はじめに!D31,\"\")&\"\"","v":""},null,null,{"$f":"IF(①はじめに!F34=TRUE,①はじめに!H31,\"\")&\"\"","v":""},null,null,{"$f":"IF(①はじめに!F34=TRUE,①はじめに!F31,\"\")&\"\"","v":""},null,null,null,null,null,null,null,null,null,null,null,null,null,null,null,null,null,null,null,null,null,null,null,null,null,null,null,null,null,0,null,null,0]
[{"$f":"+A72","v":3},{"$f":"IF(①はじめに!G34=TRUE,①はじめに!D29,\"\")","v":""},null,null,null,null,{"$f":"IF(①はじめに!G34=TRUE,\"日中支援員\",\"\")","v":""},null,null,null,null,null,null,null,{"$f":"IF(①はじめに!G34=TRUE,①はじめに!G29,\"\")","v":""},null,null,{"$f":"IF(①はじめに!G34=TRUE,①はじめに!D31,\"\")&\"\"","v":""},null,null,{"$f":"IF(①はじめに!G34=TRUE,①はじめに!H31,\"\")&\"\"","v":""},null,null,{"$f":"IF(①はじめに!G34=TRUE,①はじめに!F31,\"\")&\"\"","v":""},null,null,null,null,null,null,null,null,null,null,null,null,null,null,null,null,null,null,null,null,null,null,null,null,null,null,null,null,null,0,null,null,0]
[{"$f":"+A72","v":3},{"$f":"IF(①はじめに!H34=TRUE,①はじめに!D29,\"\")","v":""},null,null,null,null,{"$f":"IF(①はじめに!H34=TRUE,\"加配要員\",\"\")","v":""},null,null,null,null,null,null,null,{"$f":"IF(①はじめに!H34=TRUE,①はじめに!G29,\"\")","v":""},null,null,{"$f":"IF(①はじめに!H34=TRUE,①はじめに!D31,\"\")&\"\"","v":""},null,null,{"$f":"IF(①はじめに!H34=TRUE,①はじめに!H31,\"\")&\"\"","v":""},null,null,{"$f":"IF(①はじめに!H34=TRUE,①はじめに!F31,\"\")&\"\"","v":""},null,null,null,null,null,null,null,null,null,null,null,null,null,null,null,null,null,null,null,null,null,null,null,null,null,null,null,null,null,0,null,null,0]
[{"$f":"+A72+1","v":4},{"$f":"IF(①はじめに!C40=TRUE,①はじめに!D35,\"\")","v":""},null,null,null,null,{"$f":"IF(①はじめに!C40=TRUE,\"サービス管理責任者\",\"\")","v":""},null,null,null,null,null,null,null,{"$f":"IF(①はじめに!C40=TRUE,①はじめに!G35,\"\")","v":""},null,null,{"$f":"IF(①はじめに!C40=TRUE,①はじめに!D37,\"\")&\"\"","v":""},null,null,{"$f":"IF(①はじめに!C40=TRUE,①はじめに!H37,\"\")&\"\"","v":""},null,null,{"$f":"IF(①はじめに!C40=TRUE,①はじめに!F37,\"\")&\"\"","v":""},null,null,null,null,null,null,null,null,null,null,null,null,null,null,null,null,null,null,null,null,null,null,null,null,null,null,null,null,null,0,null,null,0]
[{"$f":"+A78","v":4},{"$f":"IF(①はじめに!D40=TRUE,①はじめに!D35,\"\")","v":""},null,null,null,null,{"$f":"IF(①はじめに!D40=TRUE,\"世話人\",\"\")","v":""},null,null,null,null,null,null,null,{"$f":"IF(①はじめに!D40=TRUE,①はじめに!G35,\"\")","v":""},null,null,{"$f":"IF(①はじめに!D40=TRUE,①はじめに!D37,\"\")&\"\"","v":""},null,null,{"$f":"IF(①はじめに!D40=TRUE,①はじめに!H37,\"\")&\"\"","v":""},null,null,{"$f":"IF(①はじめに!D40=TRUE,①はじめに!F37,\"\")&\"\"","v":""},null,null,null,null,null,null,null,null,null,null,null,null,null,null,null,null,null,null,null,null,null,null,null,null,null,null,null,null,null,0,null,null,0]
[{"$f":"+A78","v":4},{"$f":"IF(①はじめに!E40=TRUE,①はじめに!D35,\"\")","v":""},null,null,null,null,{"$f":"IF(①はじめに!E40=TRUE,\"生活支援員\",\"\")","v":""},null,null,null,null,null,null,null,{"$f":"IF(①はじめに!E40=TRUE,①はじめに!G35,\"\")","v":""},null,null,{"$f":"IF(①はじめに!E40=TRUE,①はじめに!D37,\"\")&\"\"","v":""},null,null,{"$f":"IF(①はじめに!E40=TRUE,①はじめに!H37,\"\")&\"\"","v":""},null,null,{"$f":"IF(①はじめに!E40=TRUE,①はじめに!F37,\"\")&\"\"","v":""},null,null,null,null,null,null,null,null,null,null,null,null,null,null,null,null,null,null,null,null,null,null,null,null,null,null,null,null,null,0,null,null,0,null,null,null,null,null,null,null,null,null,null,null,null,null,null,null,null,null,null,null,null,null,null,"常勤・専従",{"$f":"COUNTIF($J$61:$L$83,CB80)","v":0}]
[{"$f":"+A78","v":4},{"$f":"IF(①はじめに!F40=TRUE,①はじめに!D35,\"\")","v":""},null,null,null,null,{"$f":"IF(①はじめに!F40=TRUE,\"夜間支援員\",\"\")","v":""},null,null,null,null,null,null,null,{"$f":"IF(①はじめに!F40=TRUE,①はじめに!G35,\"\")","v":""},null,null,{"$f":"IF(①はじめに!F40=TRUE,①はじめに!D37,\"\")&\"\"","v":""},null,null,{"$f":"IF(①はじめに!F40=TRUE,①はじめに!H37,\"\")&\"\"","v":""},null,null,{"$f":"IF(①はじめに!F40=TRUE,①はじめに!F37,\"\")&\"\"","v":""},null,null,null,null,null,null,null,null,null,null,null,null,null,null,null,null,null,null,null,null,null,null,null,null,null,null,null,null,null,0,null,null,0,null,null,null,null,null,null,null,null,null,null,null,null,null,null,null,null,null,null,null,null,null,null,"常勤・兼務",{"$f":"COUNTIF($J$61:$L$83,CB81)","v":0}]
[{"$f":"+A78","v":4},{"$f":"IF(①はじめに!G40=TRUE,①はじめに!D35,\"\")","v":""},null,null,null,null,{"$f":"IF(①はじめに!G40=TRUE,\"日中支援員\",\"\")","v":""},null,null,null,null,null,null,null,{"$f":"IF(①はじめに!G40=TRUE,①はじめに!G35,\"\")","v":""},null,null,{"$f":"IF(①はじめに!G40=TRUE,①はじめに!D37,\"\")&\"\"","v":""},null,null,{"$f":"IF(①はじめに!G40=TRUE,①はじめに!H37,\"\")&\"\"","v":""},null,null,{"$f":"IF(①はじめに!G40=TRUE,①はじめに!F37,\"\")&\"\"","v":""},null,null,null,null,null,null,null,null,null,null,null,null,null,null,null,null,null,null,null,null,null,null,null,null,null,null,null,null,null,0,null,null,0]
[{"$f":"+A78","v":4},{"$f":"IF(①はじめに!H40=TRUE,①はじめに!D35,\"\")","v":""},null,null,null,null,{"$f":"IF(①はじめに!H40=TRUE,\"加配要員\",\"\")","v":""},null,null,null,null,null,null,null,{"$f":"IF(①はじめに!H40=TRUE,①はじめに!G35,\"\")","v":""},null,null,{"$f":"IF(①はじめに!H40=TRUE,①はじめに!D37,\"\")&\"\"","v":""},null,null,{"$f":"IF(①はじめに!H40=TRUE,①はじめに!H37,\"\")&\"\"","v":""},null,null,{"$f":"IF(①はじめに!H40=TRUE,①はじめに!F37,\"\")&\"\"","v":""},null,null,null,null,null,null,null,null,null,null,null,null,null,null,null,null,null,null,null,null,null,null,null,null,null,null,null,null,null,0,null,null,0]
[{"$f":"+A78+1","v":5},{"$f":"IF(①はじめに!C46=TRUE,①はじめに!D41,\"\")","v":""},null,null,null,null,{"$f":"IF(①はじめに!C46=TRUE,\"サービス管理責任者\",\"\")","v":""},null,null,null,null,null,null,null,{"$f":"IF(①はじめに!C46=TRUE,①はじめに!G41,\"\")","v":""},null,null,{"$f":"IF(①はじめに!C46=TRUE,①はじめに!D43,\"\")&\"\"","v":""},null,null,{"$f":"IF(①はじめに!C46=TRUE,①はじめに!H43,\"\")&\"\"","v":""},null,null,{"$f":"IF(①はじめに!C46=TRUE,①はじめに!F43,\"\")&\"\"","v":""},null,null,null,null,null,null,null,null,null,null,null,null,null,null,null,null,null,null,null,null,null,null,null,null,null,null,null,null,null,{"$f":"SUM(Z84:BA84)","v":0},null,null,{"$f":"BB84/4","v":0},null,null,null,null,null,null,null,null,null,null,null,null,null,null,null,null,null,null,null,null,null,null,"常勤・専従",{"$f":"COUNTIF($J$61:$L$83,CB84)","v":0}]
[{"$f":"+A84","v":5},{"$f":"IF(①はじめに!D46=TRUE,①はじめに!D41,\"\")","v":""},null,null,null,null,{"$f":"IF(①はじめに!D46=TRUE,\"世話人\",\"\")","v":""},null,null,null,null,null,null,null,{"$f":"IF(①はじめに!D46=TRUE,①はじめに!G41,\"\")","v":""},null,null,{"$f":"IF(①はじめに!D46=TRUE,①はじめに!D43,\"\")&\"\"","v":""},null,null,{"$f":"IF(①はじめに!D46=TRUE,①はじめに!H43,\"\")&\"\"","v":""},null,null,{"$f":"IF(①はじめに!D46=TRUE,①はじめに!F43,\"\")&\"\"","v":""},null,null,null,null,null,null,null,null,null,null,null,null,null,null,null,null,null,null,null,null,null,null,null,null,null,null,null,null,null,0,null,null,0,null,null,null,null,null,null,null,null,null,null,null,null,null,null,null,null,null,null,null,null,null,null,"常勤・兼務",{"$f":"COUNTIF($J$61:$L$83,CB85)","v":0}]
[{"$f":"+A84","v":5},{"$f":"IF(①はじめに!E46=TRUE,①はじめに!D41,\"\")","v":""},null,null,null,null,{"$f":"IF(①はじめに!E46=TRUE,\"生活支援員\",\"\")","v":""},null,null,null,null,null,null,null,{"$f":"IF(①はじめに!E46=TRUE,①はじめに!G41,\"\")","v":""},null,null,{"$f":"IF(①はじめに!E46=TRUE,①はじめに!D43,\"\")&\"\"","v":""},null,null,{"$f":"IF(①はじめに!E46=TRUE,①はじめに!H43,\"\")&\"\"","v":""},null,null,{"$f":"IF(①はじめに!E46=TRUE,①はじめに!F43,\"\")&\"\"","v":""},null,null,null,null,null,null,null,null,null,null,null,null,null,null,null,null,null,null,null,null,null,null,null,null,null,null,null,null,null,0,null,null,0,null,null,null,null,null,null,null,null,null,null,null,null,null,null,null,null,null,null,null,null,null,null,"非常勤・専従",{"$f":"COUNTIF($J$61:$L$83,CB86)","v":0}]
[{"$f":"+A84","v":5},{"$f":"IF(①はじめに!F46=TRUE,①はじめに!D41,\"\")","v":""},null,null,null,null,{"$f":"IF(①はじめに!F46=TRUE,\"夜間支援員\",\"\")","v":""},null,null,null,null,null,null,null,{"$f":"IF(①はじめに!F46=TRUE,①はじめに!G41,\"\")","v":""},null,null,{"$f":"IF(①はじめに!F46=TRUE,①はじめに!D43,\"\")&\"\"","v":""},null,null,{"$f":"IF(①はじめに!F46=TRUE,①はじめに!H43,\"\")&\"\"","v":""},null,null,{"$f":"IF(①はじめに!F46=TRUE,①はじめに!F43,\"\")&\"\"","v":""},null,null,null,null,null,null,null,null,null,null,null,null,null,null,null,null,null,null,null,null,null,null,null,null,null,null,null,null,null,0,null,null,0]
[{"$f":"+A84","v":5},{"$f":"IF(①はじめに!G46=TRUE,①はじめに!D41,\"\")","v":""},null,null,null,null,{"$f":"IF(①はじめに!G46=TRUE,\"日中支援員\",\"\")","v":""},null,null,null,null,null,null,null,{"$f":"IF(①はじめに!G46=TRUE,①はじめに!G41,\"\")","v":""},null,null,{"$f":"IF(①はじめに!G46=TRUE,①はじめに!D43,\"\")&\"\"","v":""},null,null,{"$f":"IF(①はじめに!G46=TRUE,①はじめに!H43,\"\")&\"\"","v":""},null,null,{"$f":"IF(①はじめに!G46=TRUE,①はじめに!F43,\"\")&\"\"","v":""},null,null,null,null,null,null,null,null,null,null,null,null,null,null,null,null,null,null,null,null,null,null,null,null,null,null,null,null,null,0,null,null,0]
[{"$f":"+A84","v":5},{"$f":"IF(①はじめに!H46=TRUE,①はじめに!D41,\"\")","v":""},null,null,null,null,{"$f":"IF(①はじめに!H46=TRUE,\"加配要員\",\"\")","v":""},null,null,null,null,null,null,null,{"$f":"IF(①はじめに!H46=TRUE,①はじめに!G41,\"\")","v":""},null,null,{"$f":"IF(①はじめに!H46=TRUE,①はじめに!D43,\"\")&\"\"","v":""},null,null,{"$f":"IF(①はじめに!H46=TRUE,①はじめに!H43,\"\")&\"\"","v":""},null,null,{"$f":"IF(①はじめに!H46=TRUE,①はじめに!F43,\"\")&\"\"","v":""},null,null,null,null,null,null,null,null,null,null,null,null,null,null,null,null,null,null,null,null,null,null,null,null,null,null,null,null,null,0,null,null,0]
[{"$f":"+A84+1","v":6},{"$f":"IF(①はじめに!C52=TRUE,①はじめに!D47,\"\")","v":""},null,null,null,null,{"$f":"IF(①はじめに!C52=TRUE,\"サービス管理責任者\",\"\")","v":""},null,null,null,null,null,null,null,{"$f":"IF(①はじめに!C52=TRUE,①はじめに!G47,\"\")","v":""},null,null,{"$f":"IF(①はじめに!C52=TRUE,①はじめに!D49,\"\")&\"\"","v":""},null,null,{"$f":"IF(①はじめに!C52=TRUE,①はじめに!H49,\"\")&\"\"","v":""},null,null,{"$f":"IF(①はじめに!C52=TRUE,①はじめに!F49,\"\")&\"\"","v":""},null,null,null,null,null,null,null,null,null,null,null,null,null,null,null,null,null,null,null,null,null,null,null,null,null,null,null,null,null,0,null,null,0]
[{"$f":"+A90","v":6},{"$f":"IF(①はじめに!D52=TRUE,①はじめに!D47,\"\")","v":""},null,null,null,null,{"$f":"IF(①はじめに!D52=TRUE,\"世話人\",\"\")","v":""},null,null,null,null,null,null,null,{"$f":"IF(①はじめに!D52=TRUE,①はじめに!G47,\"\")","v":""},null,null,{"$f":"IF(①はじめに!D52=TRUE,①はじめに!D49,\"\")&\"\"","v":""},null,null,{"$f":"IF(①はじめに!D52=TRUE,①はじめに!H49,\"\")&\"\"","v":""},null,null,{"$f":"IF(①はじめに!D52=TRUE,①はじめに!F49,\"\")&\"\"","v":""},null,null,null,null,null,null,null,null,null,null,null,null,null,null,null,null,null,null,null,null,null,null,null,null,null,null,null,null,null,0,null,null,0]
[{"$f":"+A90","v":6},{"$f":"IF(①はじめに!E52=TRUE,①はじめに!D47,\"\")","v":""},null,null,null,null,{"$f":"IF(①はじめに!E52=TRUE,\"生活支援員\",\"\")","v":""},null,null,null,null,null,null,null,{"$f":"IF(①はじめに!E52=TRUE,①はじめに!G47,\"\")","v":""},null,null,{"$f":"IF(①はじめに!E52=TRUE,①はじめに!D49,\"\")&\"\"","v":""},null,null,{"$f":"IF(①はじめに!E52=TRUE,①はじめに!H49,\"\")&\"\"","v":""},null,null,{"$f":"IF(①はじめに!E52=TRUE,①はじめに!F49,\"\")&\"\"","v":""},null,null,null,null,null,null,null,null,null,null,null,null,null,null,null,null,null,null,null,null,null,null,null,null,null,null,null,null,null,0,null,null,0,null,null,null,null,null,null,null,null,null,null,null,null,null,null,null,null,null,null,null,null,null,null,"常勤・専従",{"$f":"COUNTIF($J$61:$L$83,CB92)","v":0}]
[{"$f":"+A90","v":6},{"$f":"IF(①はじめに!F52=TRUE,①はじめに!D47,\"\")","v":""},null,null,null,null,{"$f":"IF(①はじめに!F52=TRUE,\"夜間支援員\",\"\")","v":""},null,null,null,null,null,null,null,{"$f":"IF(①はじめに!F52=TRUE,①はじめに!G47,\"\")","v":""},null,null,{"$f":"IF(①はじめに!F52=TRUE,①はじめに!D49,\"\")&\"\"","v":""},null,null,{"$f":"IF(①はじめに!F52=TRUE,①はじめに!H49,\"\")&\"\"","v":""},null,null,{"$f":"IF(①はじめに!F52=TRUE,①はじめに!F49,\"\")&\"\"","v":""},null,null,null,null,null,null,null,null,null,null,null,null,null,null,null,null,null,null,null,null,null,null,null,null,null,null,null,null,null,0,null,null,0,null,null,null,null,null,null,null,null,null,null,null,null,null,null,null,null,null,null,null,null,null,null,"常勤・兼務",{"$f":"COUNTIF($J$61:$L$83,CB93)","v":0}]
[{"$f":"+A90","v":6},{"$f":"IF(①はじめに!G52=TRUE,①はじめに!D47,\"\")","v":""},null,null,null,null,{"$f":"IF(①はじめに!G52=TRUE,\"日中支援員\",\"\")","v":""},null,null,null,null,null,null,null,{"$f":"IF(①はじめに!G52=TRUE,①はじめに!G47,\"\")","v":""},null,null,{"$f":"IF(①はじめに!G52=TRUE,①はじめに!D49,\"\")&\"\"","v":""},null,null,{"$f":"IF(①はじめに!G52=TRUE,①はじめに!H49,\"\")&\"\"","v":""},null,null,{"$f":"IF(①はじめに!G52=TRUE,①はじめに!F49,\"\")&\"\"","v":""},null,null,null,null,null,null,null,null,null,null,null,null,null,null,null,null,null,null,null,null,null,null,null,null,null,null,null,null,null,0,null,null,0,null,null,null,null,null,null,null,null,null,null,null,null,null,null,null,null,null,null,null,null,null,null,"非常勤・専従",{"$f":"COUNTIF($J$61:$L$83,CB94)","v":0}]
[{"$f":"+A90","v":6},{"$f":"IF(①はじめに!H52=TRUE,①はじめに!D47,\"\")","v":""},null,null,null,null,{"$f":"IF(①はじめに!H52=TRUE,\"加配要員\",\"\")","v":""},null,null,null,null,null,null,null,{"$f":"IF(①はじめに!H52=TRUE,①はじめに!G47,\"\")","v":""},null,null,{"$f":"IF(①はじめに!H52=TRUE,①はじめに!D49,\"\")&\"\"","v":""},null,null,{"$f":"IF(①はじめに!H52=TRUE,①はじめに!H49,\"\")&\"\"","v":""},null,null,{"$f":"IF(①はじめに!H52=TRUE,①はじめに!F49,\"\")&\"\"","v":""},null,null,null,null,null,null,null,null,null,null,null,null,null,null,null,null,null,null,null,null,null,null,null,null,null,null,null,null,null,0,null,null,0]
[{"$f":"+A90+1","v":7},{"$f":"IF(①はじめに!C58=TRUE,①はじめに!D53,\"\")","v":""},null,null,null,null,{"$f":"IF(①はじめに!C58=TRUE,\"サービス管理責任者\",\"\")","v":""},null,null,null,null,null,null,null,{"$f":"IF(①はじめに!C58=TRUE,①はじめに!G53,\"\")","v":""},null,null,{"$f":"IF(①はじめに!C58=TRUE,①はじめに!D55,\"\")&\"\"","v":""},null,null,{"$f":"IF(①はじめに!C58=TRUE,①はじめに!H55,\"\")&\"\"","v":""},null,null,{"$f":"IF(①はじめに!C58=TRUE,①はじめに!F55,\"\")&\"\"","v":""},null,null,null,null,null,null,null,null,null,null,null,null,null,null,null,null,null,null,null,null,null,null,null,null,null,null,null,null,null,0,null,null,0]
[{"$f":"+A96","v":7},{"$f":"IF(①はじめに!D58=TRUE,①はじめに!D53,\"\")","v":""},null,null,null,null,{"$f":"IF(①はじめに!D58=TRUE,\"世話人\",\"\")","v":""},null,null,null,null,null,null,null,{"$f":"IF(①はじめに!D58=TRUE,①はじめに!G53,\"\")","v":""},null,null,{"$f":"IF(①はじめに!D58=TRUE,①はじめに!D55,\"\")&\"\"","v":""},null,null,{"$f":"IF(①はじめに!D58=TRUE,①はじめに!H55,\"\")&\"\"","v":""},null,null,{"$f":"IF(①はじめに!D58=TRUE,①はじめに!F55,\"\")&\"\"","v":""},null,null,null,null,null,null,null,null,null,null,null,null,null,null,null,null,null,null,null,null,null,null,null,null,null,null,null,null,null,0,null,null,0]
[{"$f":"+A96","v":7},{"$f":"IF(①はじめに!E58=TRUE,①はじめに!D53,\"\")","v":""},null,null,null,null,{"$f":"IF(①はじめに!E58=TRUE,\"生活支援員\",\"\")","v":""},null,null,null,null,null,null,null,{"$f":"IF(①はじめに!E58=TRUE,①はじめに!G53,\"\")","v":""},null,null,{"$f":"IF(①はじめに!E58=TRUE,①はじめに!D55,\"\")&\"\"","v":""},null,null,{"$f":"IF(①はじめに!E58=TRUE,①はじめに!H55,\"\")&\"\"","v":""},null,null,{"$f":"IF(①はじめに!E58=TRUE,①はじめに!F55,\"\")&\"\"","v":""},null,null,null,null,null,null,null,null,null,null,null,null,null,null,null,null,null,null,null,null,null,null,null,null,null,null,null,null,null,0,null,null,0,null,null,null,null,null,null,null,null,null,null,null,null,null,null,null,null,null,null,null,null,null,null,"常勤・専従",{"$f":"COUNTIF($J$61:$L$83,CB98)","v":0}]
[{"$f":"+A96","v":7},{"$f":"IF(①はじめに!F58=TRUE,①はじめに!D53,\"\")","v":""},null,null,null,null,{"$f":"IF(①はじめに!F58=TRUE,\"夜間支援員\",\"\")","v":""},null,null,null,null,null,null,null,{"$f":"IF(①はじめに!F58=TRUE,①はじめに!G53,\"\")","v":""},null,null,{"$f":"IF(①はじめに!F58=TRUE,①はじめに!D55,\"\")&\"\"","v":""},null,null,{"$f":"IF(①はじめに!F58=TRUE,①はじめに!H55,\"\")&\"\"","v":""},null,null,{"$f":"IF(①はじめに!F58=TRUE,①はじめに!F55,\"\")&\"\"","v":""},null,null,null,null,null,null,null,null,null,null,null,null,null,null,null,null,null,null,null,null,null,null,null,null,null,null,null,null,null,0,null,null,0,null,null,null,null,null,null,null,null,null,null,null,null,null,null,null,null,null,null,null,null,null,null,"常勤・兼務",{"$f":"COUNTIF($J$61:$L$83,CB99)","v":0}]
[{"$f":"+A96","v":7},{"$f":"IF(①はじめに!G58=TRUE,①はじめに!D53,\"\")","v":""},null,null,null,null,{"$f":"IF(①はじめに!G58=TRUE,\"日中支援員\",\"\")","v":""},null,null,null,null,null,null,null,{"$f":"IF(①はじめに!G58=TRUE,①はじめに!G53,\"\")","v":""},null,null,{"$f":"IF(①はじめに!G58=TRUE,①はじめに!D55,\"\")&\"\"","v":""},null,null,{"$f":"IF(①はじめに!G58=TRUE,①はじめに!H55,\"\")&\"\"","v":""},null,null,{"$f":"IF(①はじめに!G58=TRUE,①はじめに!F55,\"\")&\"\"","v":""},null,null,null,null,null,null,null,null,null,null,null,null,null,null,null,null,null,null,null,null,null,null,null,null,null,null,null,null,null,0,null,null,0]
[{"$f":"+A96","v":7},{"$f":"IF(①はじめに!H58=TRUE,①はじめに!D53,\"\")","v":""},null,null,null,null,{"$f":"IF(①はじめに!H58=TRUE,\"加配要員\",\"\")","v":""},null,null,null,null,null,null,null,{"$f":"IF(①はじめに!H58=TRUE,①はじめに!G53,\"\")","v":""},null,null,{"$f":"IF(①はじめに!H58=TRUE,①はじめに!D55,\"\")&\"\"","v":""},null,null,{"$f":"IF(①はじめに!H58=TRUE,①はじめに!H55,\"\")&\"\"","v":""},null,null,{"$f":"IF(①はじめに!H58=TRUE,①はじめに!F55,\"\")&\"\"","v":""},null,null,null,null,null,null,null,null,null,null,null,null,null,null,null,null,null,null,null,null,null,null,null,null,null,null,null,null,null,0,null,null,0]
[{"$f":"+A96+1","v":8},{"$f":"IF(①はじめに!C64=TRUE,①はじめに!D59,\"\")","v":""},null,null,null,null,{"$f":"IF(①はじめに!C64=TRUE,\"サービス管理責任者\",\"\")","v":""},null,null,null,null,null,null,null,{"$f":"IF(①はじめに!C64=TRUE,①はじめに!G59,\"\")","v":""},null,null,{"$f":"IF(①はじめに!C64=TRUE,①はじめに!D61,\"\")&\"\"","v":""},null,null,{"$f":"IF(①はじめに!C64=TRUE,①はじめに!H61,\"\")&\"\"","v":""},null,null,{"$f":"IF(①はじめに!C64=TRUE,①はじめに!F61,\"\")&\"\"","v":""},null,null,null,null,null,null,null,null,null,null,null,null,null,null,null,null,null,null,null,null,null,null,null,null,null,null,null,null,null,0,null,null,0,null,null,null,null,null,null,null,null,null,null,null,null,null,null,null,null,null,null,null,null,null,null,"常勤・専従",{"$f":"COUNTIF($J$61:$L$83,CB102)","v":0}]
[{"$f":"+A102","v":8},{"$f":"IF(①はじめに!D64=TRUE,①はじめに!D59,\"\")","v":""},null,null,null,null,{"$f":"IF(①はじめに!D64=TRUE,\"世話人\",\"\")","v":""},null,null,null,null,null,null,null,{"$f":"IF(①はじめに!D64=TRUE,①はじめに!G59,\"\")","v":""},null,null,{"$f":"IF(①はじめに!D64=TRUE,①はじめに!D61,\"\")&\"\"","v":""},null,null,{"$f":"IF(①はじめに!D64=TRUE,①はじめに!H61,\"\")&\"\"","v":""},null,null,{"$f":"IF(①はじめに!D64=TRUE,①はじめに!F61,\"\")&\"\"","v":""},null,null,null,null,null,null,null,null,null,null,null,null,null,null,null,null,null,null,null,null,null,null,null,null,null,null,null,null,null,0,null,null,0,null,null,null,null,null,null,null,null,null,null,null,null,null,null,null,null,null,null,null,null,null,null,"常勤・兼務",{"$f":"COUNTIF($J$61:$L$83,CB103)","v":0}]
[{"$f":"+A102","v":8},{"$f":"IF(①はじめに!E64=TRUE,①はじめに!D59,\"\")","v":""},null,null,null,null,{"$f":"IF(①はじめに!E64=TRUE,\"生活支援員\",\"\")","v":""},null,null,null,null,null,null,null,{"$f":"IF(①はじめに!E64=TRUE,①はじめに!G59,\"\")","v":""},null,null,{"$f":"IF(①はじめに!E64=TRUE,①はじめに!D61,\"\")&\"\"","v":""},null,null,{"$f":"IF(①はじめに!E64=TRUE,①はじめに!H61,\"\")&\"\"","v":""},null,null,{"$f":"IF(①はじめに!E64=TRUE,①はじめに!F61,\"\")&\"\"","v":""},null,null,null,null,null,null,null,null,null,null,null,null,null,null,null,null,null,null,null,null,null,null,null,null,null,null,null,null,null,0,null,null,0,null,null,null,null,null,null,null,null,null,null,null,null,null,null,null,null,null,null,null,null,null,null,"非常勤・専従",{"$f":"COUNTIF($J$61:$L$83,CB104)","v":0}]
[{"$f":"+A102","v":8},{"$f":"IF(①はじめに!F64=TRUE,①はじめに!D59,\"\")","v":""},null,null,null,null,{"$f":"IF(①はじめに!F64=TRUE,\"夜間支援員\",\"\")","v":""},null,null,null,null,null,null,null,{"$f":"IF(①はじめに!F64=TRUE,①はじめに!G59,\"\")","v":""},null,null,{"$f":"IF(①はじめに!F64=TRUE,①はじめに!D61,\"\")&\"\"","v":""},null,null,{"$f":"IF(①はじめに!F64=TRUE,①はじめに!H61,\"\")&\"\"","v":""},null,null,{"$f":"IF(①はじめに!F64=TRUE,①はじめに!F61,\"\")&\"\"","v":""},null,null,null,null,null,null,null,null,null,null,null,null,null,null,null,null,null,null,null,null,null,null,null,null,null,null,null,null,null,0,null,null,0]
[{"$f":"+A102","v":8},{"$f":"IF(①はじめに!G64=TRUE,①はじめに!D59,\"\")","v":""},null,null,null,null,{"$f":"IF(①はじめに!G64=TRUE,\"日中支援員\",\"\")","v":""},null,null,null,null,null,null,null,{"$f":"IF(①はじめに!G64=TRUE,①はじめに!G59,\"\")","v":""},null,null,{"$f":"IF(①はじめに!G64=TRUE,①はじめに!D61,\"\")&\"\"","v":""},null,null,{"$f":"IF(①はじめに!G64=TRUE,①はじめに!H61,\"\")&\"\"","v":""},null,null,{"$f":"IF(①はじめに!G64=TRUE,①はじめに!F61,\"\")&\"\"","v":""},null,null,null,null,null,null,null,null,null,null,null,null,null,null,null,null,null,null,null,null,null,null,null,null,null,null,null,null,null,0,null,null,0]
[{"$f":"+A102","v":8},{"$f":"IF(①はじめに!H64=TRUE,①はじめに!D59,\"\")","v":""},null,null,null,null,{"$f":"IF(①はじめに!H64=TRUE,\"加配要員\",\"\")","v":""},null,null,null,null,null,null,null,{"$f":"IF(①はじめに!H64=TRUE,①はじめに!G59,\"\")","v":""},null,null,{"$f":"IF(①はじめに!H64=TRUE,①はじめに!D61,\"\")&\"\"","v":""},null,null,{"$f":"IF(①はじめに!H64=TRUE,①はじめに!H61,\"\")&\"\"","v":""},null,null,{"$f":"IF(①はじめに!H64=TRUE,①はじめに!F61,\"\")&\"\"","v":""},null,null,null,null,null,null,null,null,null,null,null,null,null,null,null,null,null,null,null,null,null,null,null,null,null,null,null,null,null,0,null,null,0]
[{"$f":"+A102+1","v":9},{"$f":"IF(①はじめに!C70=TRUE,①はじめに!D65,\"\")","v":""},null,null,null,null,{"$f":"IF(①はじめに!C70=TRUE,\"サービス管理責任者\",\"\")","v":""},null,null,null,null,null,null,null,{"$f":"IF(①はじめに!C70=TRUE,①はじめに!G65,\"\")","v":""},null,null,{"$f":"IF(①はじめに!C70=TRUE,①はじめに!D67,\"\")&\"\"","v":""},null,null,{"$f":"IF(①はじめに!C70=TRUE,①はじめに!H67,\"\")&\"\"","v":""},null,null,{"$f":"IF(①はじめに!C70=TRUE,①はじめに!F67,\"\")&\"\"","v":""},null,null,null,null,null,null,null,null,null,null,null,null,null,null,null,null,null,null,null,null,null,null,null,null,null,null,null,null,null,0,null,null,0]
[{"$f":"+A108","v":9},{"$f":"IF(①はじめに!D70=TRUE,①はじめに!D65,\"\")","v":""},null,null,null,null,{"$f":"IF(①はじめに!D70=TRUE,\"世話人\",\"\")","v":""},null,null,null,null,null,null,null,{"$f":"IF(①はじめに!D70=TRUE,①はじめに!G65,\"\")","v":""},null,null,{"$f":"IF(①はじめに!D70=TRUE,①はじめに!D67,\"\")&\"\"","v":""},null,null,{"$f":"IF(①はじめに!D70=TRUE,①はじめに!H67,\"\")&\"\"","v":""},null,null,{"$f":"IF(①はじめに!D70=TRUE,①はじめに!F67,\"\")&\"\"","v":""},null,null,null,null,null,null,null,null,null,null,null,null,null,null,null,null,null,null,null,null,null,null,null,null,null,null,null,null,null,0,null,null,0]
[{"$f":"+A108","v":9},{"$f":"IF(①はじめに!E70=TRUE,①はじめに!D65,\"\")","v":""},null,null,null,null,{"$f":"IF(①はじめに!E70=TRUE,\"生活支援員\",\"\")","v":""},null,null,null,null,null,null,null,{"$f":"IF(①はじめに!E70=TRUE,①はじめに!G65,\"\")","v":""},null,null,{"$f":"IF(①はじめに!E70=TRUE,①はじめに!D67,\"\")&\"\"","v":""},null,null,{"$f":"IF(①はじめに!E70=TRUE,①はじめに!H67,\"\")&\"\"","v":""},null,null,{"$f":"IF(①はじめに!E70=TRUE,①はじめに!F67,\"\")&\"\"","v":""},null,null,null,null,null,null,null,null,null,null,null,null,null,null,null,null,null,null,null,null,null,null,null,null,null,null,null,null,null,0,null,null,0,null,null,null,null,null,null,null,null,null,null,null,null,null,null,null,null,null,null,null,null,null,null,"常勤・専従",{"$f":"COUNTIF($J$61:$L$83,CB110)","v":0}]
[{"$f":"+A108","v":9},{"$f":"IF(①はじめに!F70=TRUE,①はじめに!D65,\"\")","v":""},null,null,null,null,{"$f":"IF(①はじめに!F70=TRUE,\"夜間支援員\",\"\")","v":""},null,null,null,null,null,null,null,{"$f":"IF(①はじめに!F70=TRUE,①はじめに!G65,\"\")","v":""},null,null,{"$f":"IF(①はじめに!F70=TRUE,①はじめに!D67,\"\")&\"\"","v":""},null,null,{"$f":"IF(①はじめに!F70=TRUE,①はじめに!H67,\"\")&\"\"","v":""},null,null,{"$f":"IF(①はじめに!F70=TRUE,①はじめに!F67,\"\")&\"\"","v":""},null,null,null,null,null,null,null,null,null,null,null,null,null,null,null,null,null,null,null,null,null,null,null,null,null,null,null,null,null,0,null,null,0,null,null,null,null,null,null,null,null,null,null,null,null,null,null,null,null,null,null,null,null,null,null,"常勤・兼務",{"$f":"COUNTIF($J$61:$L$83,CB111)","v":0}]
[{"$f":"+A108","v":9},{"$f":"IF(①はじめに!G70=TRUE,①はじめに!D65,\"\")","v":""},null,null,null,null,{"$f":"IF(①はじめに!G70=TRUE,\"日中支援員\",\"\")","v":""},null,null,null,null,null,null,null,{"$f":"IF(①はじめに!G70=TRUE,①はじめに!G65,\"\")","v":""},null,null,{"$f":"IF(①はじめに!G70=TRUE,①はじめに!D67,\"\")&\"\"","v":""},null,null,{"$f":"IF(①はじめに!G70=TRUE,①はじめに!H67,\"\")&\"\"","v":""},null,null,{"$f":"IF(①はじめに!G70=TRUE,①はじめに!F67,\"\")&\"\"","v":""},null,null,null,null,null,null,null,null,null,null,null,null,null,null,null,null,null,null,null,null,null,null,null,null,null,null,null,null,null,0,null,null,0]
[{"$f":"+A108","v":9},{"$f":"IF(①はじめに!H70=TRUE,①はじめに!D65,\"\")","v":""},null,null,null,null,{"$f":"IF(①はじめに!H70=TRUE,\"加配要員\",\"\")","v":""},null,null,null,null,null,null,null,{"$f":"IF(①はじめに!H70=TRUE,①はじめに!G65,\"\")","v":""},null,null,{"$f":"IF(①はじめに!H70=TRUE,①はじめに!D67,\"\")&\"\"","v":""},null,null,{"$f":"IF(①はじめに!H70=TRUE,①はじめに!H67,\"\")&\"\"","v":""},null,null,{"$f":"IF(①はじめに!H70=TRUE,①はじめに!F67,\"\")&\"\"","v":""},null,null,null,null,null,null,null,null,null,null,null,null,null,null,null,null,null,null,null,null,null,null,null,null,null,null,null,null,null,0,null,null,0]
[{"$f":"+A108+1","v":10},{"$f":"IF(①はじめに!C76=TRUE,①はじめに!D71,\"\")","v":""},null,null,null,null,{"$f":"IF(①はじめに!C76=TRUE,\"サービス管理責任者\",\"\")","v":""},null,null,null,null,null,null,null,{"$f":"IF(①はじめに!C76=TRUE,①はじめに!G71,\"\")","v":""},null,null,{"$f":"IF(①はじめに!C76=TRUE,①はじめに!D73,\"\")&\"\"","v":""},null,null,{"$f":"IF(①はじめに!C76=TRUE,①はじめに!H73,\"\")&\"\"","v":""},null,null,{"$f":"IF(①はじめに!C76=TRUE,①はじめに!F73,\"\")&\"\"","v":""},null,null,null,null,null,null,null,null,null,null,null,null,null,null,null,null,null,null,null,null,null,null,null,null,null,null,null,null,null,{"$f":"SUM(Z114:BA114)","v":0},null,null,{"$f":"BB114/4","v":0},null,null,null,null,null,null,null,null,null,null,null,null,null,null,null,null,null,null,null,null,null,null,"常勤・専従",{"$f":"COUNTIF($J$61:$L$83,CB114)","v":0}]
[{"$f":"+A114","v":10},{"$f":"IF(①はじめに!D76=TRUE,①はじめに!D71,\"\")","v":""},null,null,null,null,{"$f":"IF(①はじめに!D76=TRUE,\"世話人\",\"\")","v":""},null,null,null,null,null,null,null,{"$f":"IF(①はじめに!D76=TRUE,①はじめに!G71,\"\")","v":""},null,null,{"$f":"IF(①はじめに!D76=TRUE,①はじめに!D73,\"\")&\"\"","v":""},null,null,{"$f":"IF(①はじめに!D76=TRUE,①はじめに!H73,\"\")&\"\"","v":""},null,null,{"$f":"IF(①はじめに!D76=TRUE,①はじめに!F73,\"\")&\"\"","v":""},null,null,null,null,null,null,null,null,null,null,null,null,null,null,null,null,null,null,null,null,null,null,null,null,null,null,null,null,null,0,null,null,0,null,null,null,null,null,null,null,null,null,null,null,null,null,null,null,null,null,null,null,null,null,null,"常勤・兼務",{"$f":"COUNTIF($J$61:$L$83,CB115)","v":0}]
[{"$f":"+A114","v":10},{"$f":"IF(①はじめに!E76=TRUE,①はじめに!D71,\"\")","v":""},null,null,null,null,{"$f":"IF(①はじめに!E76=TRUE,\"生活支援員\",\"\")","v":""},null,null,null,null,null,null,null,{"$f":"IF(①はじめに!E76=TRUE,①はじめに!G71,\"\")","v":""},null,null,{"$f":"IF(①はじめに!E76=TRUE,①はじめに!D73,\"\")&\"\"","v":""},null,null,{"$f":"IF(①はじめに!E76=TRUE,①はじめに!H73,\"\")&\"\"","v":""},null,null,{"$f":"IF(①はじめに!E76=TRUE,①はじめに!F73,\"\")&\"\"","v":""},null,null,null,null,null,null,null,null,null,null,null,null,null,null,null,null,null,null,null,null,null,null,null,null,null,null,null,null,null,0,null,null,0,null,null,null,null,null,null,null,null,null,null,null,null,null,null,null,null,null,null,null,null,null,null,"非常勤・専従",{"$f":"COUNTIF($J$61:$L$83,CB116)","v":0}]
[{"$f":"+A114","v":10},{"$f":"IF(①はじめに!F76=TRUE,①はじめに!D71,\"\")","v":""},null,null,null,null,{"$f":"IF(①はじめに!F76=TRUE,\"夜間支援員\",\"\")","v":""},null,null,null,null,null,null,null,{"$f":"IF(①はじめに!F76=TRUE,①はじめに!G71,\"\")","v":""},null,null,{"$f":"IF(①はじめに!F76=TRUE,①はじめに!D73,\"\")&\"\"","v":""},null,null,{"$f":"IF(①はじめに!F76=TRUE,①はじめに!H73,\"\")&\"\"","v":""},null,null,{"$f":"IF(①はじめに!F76=TRUE,①はじめに!F73,\"\")&\"\"","v":""},null,null,null,null,null,null,null,null,null,null,null,null,null,null,null,null,null,null,null,null,null,null,null,null,null,null,null,null,null,0,null,null,0]
[{"$f":"+A114","v":10},{"$f":"IF(①はじめに!G76=TRUE,①はじめに!D71,\"\")","v":""},null,null,null,null,{"$f":"IF(①はじめに!G76=TRUE,\"日中支援員\",\"\")","v":""},null,null,null,null,null,null,null,{"$f":"IF(①はじめに!G76=TRUE,①はじめに!G71,\"\")","v":""},null,null,{"$f":"IF(①はじめに!G76=TRUE,①はじめに!D73,\"\")&\"\"","v":""},null,null,{"$f":"IF(①はじめに!G76=TRUE,①はじめに!H73,\"\")&\"\"","v":""},null,null,{"$f":"IF(①はじめに!G76=TRUE,①はじめに!F73,\"\")&\"\"","v":""},null,null,null,null,null,null,null,null,null,null,null,null,null,null,null,null,null,null,null,null,null,null,null,null,null,null,null,null,null,0,null,null,0]
[{"$f":"+A114","v":10},{"$f":"IF(①はじめに!H76=TRUE,①はじめに!D71,\"\")","v":""},null,null,null,null,{"$f":"IF(①はじめに!H76=TRUE,\"加配要員\",\"\")","v":""},null,null,null,null,null,null,null,{"$f":"IF(①はじめに!H76=TRUE,①はじめに!G71,\"\")","v":""},null,null,{"$f":"IF(①はじめに!H76=TRUE,①はじめに!D73,\"\")&\"\"","v":""},null,null,{"$f":"IF(①はじめに!H76=TRUE,①はじめに!H73,\"\")&\"\"","v":""},null,null,{"$f":"IF(①はじめに!H76=TRUE,①はじめに!F73,\"\")&\"\"","v":""},null,null,null,null,null,null,null,null,null,null,null,null,null,null,null,null,null,null,null,null,null,null,null,null,null,null,null,null,null,0,null,null,0]
[{"$f":"+A114+1","v":11},{"$f":"IF(①はじめに!C82=TRUE,①はじめに!D77,\"\")","v":""},null,null,null,null,{"$f":"IF(①はじめに!C82=TRUE,\"サービス管理責任者\",\"\")","v":""},null,null,null,null,null,null,null,{"$f":"IF(①はじめに!C82=TRUE,①はじめに!G77,\"\")","v":""},null,null,{"$f":"IF(①はじめに!C82=TRUE,①はじめに!D79,\"\")&\"\"","v":""},null,null,{"$f":"IF(①はじめに!C82=TRUE,①はじめに!H79,\"\")&\"\"","v":""},null,null,{"$f":"IF(①はじめに!C82=TRUE,①はじめに!F79,\"\")&\"\"","v":""},null,null,null,null,null,null,null,null,null,null,null,null,null,null,null,null,null,null,null,null,null,null,null,null,null,null,null,null,null,0,null,null,0]
[{"$f":"+A120","v":11},{"$f":"IF(①はじめに!D82=TRUE,①はじめに!D77,\"\")","v":""},null,null,null,null,{"$f":"IF(①はじめに!D82=TRUE,\"世話人\",\"\")","v":""},null,null,null,null,null,null,null,{"$f":"IF(①はじめに!D82=TRUE,①はじめに!G77,\"\")","v":""},null,null,{"$f":"IF(①はじめに!D82=TRUE,①はじめに!D79,\"\")&\"\"","v":""},null,null,{"$f":"IF(①はじめに!D82=TRUE,①はじめに!H79,\"\")&\"\"","v":""},null,null,{"$f":"IF(①はじめに!D82=TRUE,①はじめに!F79,\"\")&\"\"","v":""},null,null,null,null,null,null,null,null,null,null,null,null,null,null,null,null,null,null,null,null,null,null,null,null,null,null,null,null,null,0,null,null,0]
[{"$f":"+A120","v":11},{"$f":"IF(①はじめに!E82=TRUE,①はじめに!D77,\"\")","v":""},null,null,null,null,{"$f":"IF(①はじめに!E82=TRUE,\"生活支援員\",\"\")","v":""},null,null,null,null,null,null,null,{"$f":"IF(①はじめに!E82=TRUE,①はじめに!G77,\"\")","v":""},null,null,{"$f":"IF(①はじめに!E82=TRUE,①はじめに!D79,\"\")&\"\"","v":""},null,null,{"$f":"IF(①はじめに!E82=TRUE,①はじめに!H79,\"\")&\"\"","v":""},null,null,{"$f":"IF(①はじめに!E82=TRUE,①はじめに!F79,\"\")&\"\"","v":""},null,null,null,null,null,null,null,null,null,null,null,null,null,null,null,null,null,null,null,null,null,null,null,null,null,null,null,null,null,0,null,null,0,null,null,null,null,null,null,null,null,null,null,null,null,null,null,null,null,null,null,null,null,null,null,"常勤・専従",{"$f":"COUNTIF($J$61:$L$83,CB122)","v":0}]
[{"$f":"+A120","v":11},{"$f":"IF(①はじめに!F82=TRUE,①はじめに!D77,\"\")","v":""},null,null,null,null,{"$f":"IF(①はじめに!F82=TRUE,\"夜間支援員\",\"\")","v":""},null,null,null,null,null,null,null,{"$f":"IF(①はじめに!F82=TRUE,①はじめに!G77,\"\")","v":""},null,null,{"$f":"IF(①はじめに!F82=TRUE,①はじめに!D79,\"\")&\"\"","v":""},null,null,{"$f":"IF(①はじめに!F82=TRUE,①はじめに!H79,\"\")&\"\"","v":""},null,null,{"$f":"IF(①はじめに!F82=TRUE,①はじめに!F79,\"\")&\"\"","v":""},null,null,null,null,null,null,null,null,null,null,null,null,null,null,null,null,null,null,null,null,null,null,null,null,null,null,null,null,null,0,null,null,0,null,null,null,null,null,null,null,null,null,null,null,null,null,null,null,null,null,null,null,null,null,null,"常勤・兼務",{"$f":"COUNTIF($J$61:$L$83,CB123)","v":0}]
[{"$f":"+A120","v":11},{"$f":"IF(①はじめに!G82=TRUE,①はじめに!D77,\"\")","v":""},null,null,null,null,{"$f":"IF(①はじめに!G82=TRUE,\"日中支援員\",\"\")","v":""},null,null,null,null,null,null,null,{"$f":"IF(①はじめに!G82=TRUE,①はじめに!G77,\"\")","v":""},null,null,{"$f":"IF(①はじめに!G82=TRUE,①はじめに!D79,\"\")&\"\"","v":""},null,null,{"$f":"IF(①はじめに!G82=TRUE,①はじめに!H79,\"\")&\"\"","v":""},null,null,{"$f":"IF(①はじめに!G82=TRUE,①はじめに!F79,\"\")&\"\"","v":""},null,null,null,null,null,null,null,null,null,null,null,null,null,null,null,null,null,null,null,null,null,null,null,null,null,null,null,null,null,0,null,null,0,null,null,null,null,null,null,null,null,null,null,null,null,null,null,null,null,null,null,null,null,null,null,"非常勤・専従",{"$f":"COUNTIF($J$61:$L$83,CB124)","v":0}]
[{"$f":"+A120","v":11},{"$f":"IF(①はじめに!H82=TRUE,①はじめに!D77,\"\")","v":""},null,null,null,null,{"$f":"IF(①はじめに!H82=TRUE,\"加配要員\",\"\")","v":""},null,null,null,null,null,null,null,{"$f":"IF(①はじめに!H82=TRUE,①はじめに!G77,\"\")","v":""},null,null,{"$f":"IF(①はじめに!H82=TRUE,①はじめに!D79,\"\")&\"\"","v":""},null,null,{"$f":"IF(①はじめに!H82=TRUE,①はじめに!H79,\"\")&\"\"","v":""},null,null,{"$f":"IF(①はじめに!H82=TRUE,①はじめに!F79,\"\")&\"\"","v":""},null,null,null,null,null,null,null,null,null,null,null,null,null,null,null,null,null,null,null,null,null,null,null,null,null,null,null,null,null,0,null,null,0]
[{"$f":"+A120+1","v":12},{"$f":"IF(①はじめに!C88=TRUE,①はじめに!D83,\"\")","v":""},null,null,null,null,{"$f":"IF(①はじめに!C88=TRUE,\"サービス管理責任者\",\"\")","v":""},null,null,null,null,null,null,null,{"$f":"IF(①はじめに!C88=TRUE,①はじめに!G83,\"\")","v":""},null,null,{"$f":"IF(①はじめに!C88=TRUE,①はじめに!D85,\"\")&\"\"","v":""},null,null,{"$f":"IF(①はじめに!C88=TRUE,①はじめに!H85,\"\")&\"\"","v":""},null,null,{"$f":"IF(①はじめに!C88=TRUE,①はじめに!F85,\"\")&\"\"","v":""},null,null,null,null,null,null,null,null,null,null,null,null,null,null,null,null,null,null,null,null,null,null,null,null,null,null,null,null,null,0,null,null,0]
[{"$f":"+A126","v":12},{"$f":"IF(①はじめに!D88=TRUE,①はじめに!D83,\"\")","v":""},null,null,null,null,{"$f":"IF(①はじめに!D88=TRUE,\"世話人\",\"\")","v":""},null,null,null,null,null,null,null,{"$f":"IF(①はじめに!D88=TRUE,①はじめに!G83,\"\")","v":""},null,null,{"$f":"IF(①はじめに!D88=TRUE,①はじめに!D85,\"\")&\"\"","v":""},null,null,{"$f":"IF(①はじめに!D88=TRUE,①はじめに!H85,\"\")&\"\"","v":""},null,null,{"$f":"IF(①はじめに!D88=TRUE,①はじめに!F85,\"\")&\"\"","v":""},null,null,null,null,null,null,null,null,null,null,null,null,null,null,null,null,null,null,null,null,null,null,null,null,null,null,null,null,null,0,null,null,0]
[{"$f":"+A126","v":12},{"$f":"IF(①はじめに!E88=TRUE,①はじめに!D83,\"\")","v":""},null,null,null,null,{"$f":"IF(①はじめに!E88=TRUE,\"生活支援員\",\"\")","v":""},null,null,null,null,null,null,null,{"$f":"IF(①はじめに!E88=TRUE,①はじめに!G83,\"\")","v":""},null,null,{"$f":"IF(①はじめに!E88=TRUE,①はじめに!D85,\"\")&\"\"","v":""},null,null,{"$f":"IF(①はじめに!E88=TRUE,①はじめに!H85,\"\")&\"\"","v":""},null,null,{"$f":"IF(①はじめに!E88=TRUE,①はじめに!F85,\"\")&\"\"","v":""},null,null,null,null,null,null,null,null,null,null,null,null,null,null,null,null,null,null,null,null,null,null,null,null,null,null,null,null,null,0,null,null,0,null,null,null,null,null,null,null,null,null,null,null,null,null,null,null,null,null,null,null,null,null,null,"常勤・専従",{"$f":"COUNTIF($J$61:$L$83,CB128)","v":0}]
[{"$f":"+A126","v":12},{"$f":"IF(①はじめに!F88=TRUE,①はじめに!D83,\"\")","v":""},null,null,null,null,{"$f":"IF(①はじめに!F88=TRUE,\"夜間支援員\",\"\")","v":""},null,null,null,null,null,null,null,{"$f":"IF(①はじめに!F88=TRUE,①はじめに!G83,\"\")","v":""},null,null,{"$f":"IF(①はじめに!F88=TRUE,①はじめに!D85,\"\")&\"\"","v":""},null,null,{"$f":"IF(①はじめに!F88=TRUE,①はじめに!H85,\"\")&\"\"","v":""},null,null,{"$f":"IF(①はじめに!F88=TRUE,①はじめに!F85,\"\")&\"\"","v":""},null,null,null,null,null,null,null,null,null,null,null,null,null,null,null,null,null,null,null,null,null,null,null,null,null,null,null,null,null,0,null,null,0,null,null,null,null,null,null,null,null,null,null,null,null,null,null,null,null,null,null,null,null,null,null,"常勤・兼務",{"$f":"COUNTIF($J$61:$L$83,CB129)","v":0}]
[{"$f":"+A126","v":12},{"$f":"IF(①はじめに!G88=TRUE,①はじめに!D83,\"\")","v":""},null,null,null,null,{"$f":"IF(①はじめに!G88=TRUE,\"日中支援員\",\"\")","v":""},null,null,null,null,null,null,null,{"$f":"IF(①はじめに!G88=TRUE,①はじめに!G83,\"\")","v":""},null,null,{"$f":"IF(①はじめに!G88=TRUE,①はじめに!D85,\"\")&\"\"","v":""},null,null,{"$f":"IF(①はじめに!G88=TRUE,①はじめに!H85,\"\")&\"\"","v":""},null,null,{"$f":"IF(①はじめに!G88=TRUE,①はじめに!F85,\"\")&\"\"","v":""},null,null,null,null,null,null,null,null,null,null,null,null,null,null,null,null,null,null,null,null,null,null,null,null,null,null,null,null,null,0,null,null,0]
[{"$f":"+A126","v":12},{"$f":"IF(①はじめに!H88=TRUE,①はじめに!D83,\"\")","v":""},null,null,null,null,{"$f":"IF(①はじめに!H88=TRUE,\"加配要員\",\"\")","v":""},null,null,null,null,null,null,null,{"$f":"IF(①はじめに!H88=TRUE,①はじめに!G83,\"\")","v":""},null,null,{"$f":"IF(①はじめに!H88=TRUE,①はじめに!D85,\"\")&\"\"","v":""},null,null,{"$f":"IF(①はじめに!H88=TRUE,①はじめに!H85,\"\")&\"\"","v":""},null,null,{"$f":"IF(①はじめに!H88=TRUE,①はじめに!F85,\"\")&\"\"","v":""},null,null,null,null,null,null,null,null,null,null,null,null,null,null,null,null,null,null,null,null,null,null,null,null,null,null,null,null,null,0,null,null,0]
[{"$f":"+A126+1","v":13},{"$f":"IF(①はじめに!C94=TRUE,①はじめに!D89,\"\")","v":""},null,null,null,null,{"$f":"IF(①はじめに!C94=TRUE,\"サービス管理責任者\",\"\")","v":""},null,null,null,null,null,null,null,{"$f":"IF(①はじめに!C94=TRUE,①はじめに!G89,\"\")","v":""},null,null,{"$f":"IF(①はじめに!C94=TRUE,①はじめに!D91,\"\")&\"\"","v":""},null,null,{"$f":"IF(①はじめに!C94=TRUE,①はじめに!H91,\"\")&\"\"","v":""},null,null,{"$f":"IF(①はじめに!C94=TRUE,①はじめに!F91,\"\")&\"\"","v":""},null,null,null,null,null,null,null,null,null,null,null,null,null,null,null,null,null,null,null,null,null,null,null,null,null,null,null,null,null,0,null,null,0,null,null,null,null,null,null,null,null,null,null,null,null,null,null,null,null,null,null,null,null,null,null,"常勤・専従",{"$f":"COUNTIF($J$61:$L$83,CB132)","v":0}]
[{"$f":"+A132","v":13},{"$f":"IF(①はじめに!D94=TRUE,①はじめに!D89,\"\")","v":""},null,null,null,null,{"$f":"IF(①はじめに!D94=TRUE,\"世話人\",\"\")","v":""},null,null,null,null,null,null,null,{"$f":"IF(①はじめに!D94=TRUE,①はじめに!G89,\"\")","v":""},null,null,{"$f":"IF(①はじめに!D94=TRUE,①はじめに!D91,\"\")&\"\"","v":""},null,null,{"$f":"IF(①はじめに!D94=TRUE,①はじめに!H91,\"\")&\"\"","v":""},null,null,{"$f":"IF(①はじめに!D94=TRUE,①はじめに!F91,\"\")&\"\"","v":""},null,null,null,null,null,null,null,null,null,null,null,null,null,null,null,null,null,null,null,null,null,null,null,null,null,null,null,null,null,0,null,null,0,null,null,null,null,null,null,null,null,null,null,null,null,null,null,null,null,null,null,null,null,null,null,"常勤・兼務",{"$f":"COUNTIF($J$61:$L$83,CB133)","v":0}]
[{"$f":"+A132","v":13},{"$f":"IF(①はじめに!E94=TRUE,①はじめに!D89,\"\")","v":""},null,null,null,null,{"$f":"IF(①はじめに!E94=TRUE,\"生活支援員\",\"\")","v":""},null,null,null,null,null,null,null,{"$f":"IF(①はじめに!E94=TRUE,①はじめに!G89,\"\")","v":""},null,null,{"$f":"IF(①はじめに!E94=TRUE,①はじめに!D91,\"\")&\"\"","v":""},null,null,{"$f":"IF(①はじめに!E94=TRUE,①はじめに!H91,\"\")&\"\"","v":""},null,null,{"$f":"IF(①はじめに!E94=TRUE,①はじめに!F91,\"\")&\"\"","v":""},null,null,null,null,null,null,null,null,null,null,null,null,null,null,null,null,null,null,null,null,null,null,null,null,null,null,null,null,null,0,null,null,0,null,null,null,null,null,null,null,null,null,null,null,null,null,null,null,null,null,null,null,null,null,null,"非常勤・専従",{"$f":"COUNTIF($J$61:$L$83,CB134)","v":0}]
[{"$f":"+A132","v":13},{"$f":"IF(①はじめに!F94=TRUE,①はじめに!D89,\"\")","v":""},null,null,null,null,{"$f":"IF(①はじめに!F94=TRUE,\"夜間支援員\",\"\")","v":""},null,null,null,null,null,null,null,{"$f":"IF(①はじめに!F94=TRUE,①はじめに!G89,\"\")","v":""},null,null,{"$f":"IF(①はじめに!F94=TRUE,①はじめに!D91,\"\")&\"\"","v":""},null,null,{"$f":"IF(①はじめに!F94=TRUE,①はじめに!H91,\"\")&\"\"","v":""},null,null,{"$f":"IF(①はじめに!F94=TRUE,①はじめに!F91,\"\")&\"\"","v":""},null,null,null,null,null,null,null,null,null,null,null,null,null,null,null,null,null,null,null,null,null,null,null,null,null,null,null,null,null,0,null,null,0]
[{"$f":"+A132","v":13},{"$f":"IF(①はじめに!G94=TRUE,①はじめに!D89,\"\")","v":""},null,null,null,null,{"$f":"IF(①はじめに!G94=TRUE,\"日中支援員\",\"\")","v":""},null,null,null,null,null,null,null,{"$f":"IF(①はじめに!G94=TRUE,①はじめに!G89,\"\")","v":""},null,null,{"$f":"IF(①はじめに!G94=TRUE,①はじめに!D91,\"\")&\"\"","v":""},null,null,{"$f":"IF(①はじめに!G94=TRUE,①はじめに!H91,\"\")&\"\"","v":""},null,null,{"$f":"IF(①はじめに!G94=TRUE,①はじめに!F91,\"\")&\"\"","v":""},null,null,null,null,null,null,null,null,null,null,null,null,null,null,null,null,null,null,null,null,null,null,null,null,null,null,null,null,null,0,null,null,0]
[{"$f":"+A132","v":13},{"$f":"IF(①はじめに!H94=TRUE,①はじめに!D89,\"\")","v":""},null,null,null,null,{"$f":"IF(①はじめに!H94=TRUE,\"加配要員\",\"\")","v":""},null,null,null,null,null,null,null,{"$f":"IF(①はじめに!H94=TRUE,①はじめに!G89,\"\")","v":""},null,null,{"$f":"IF(①はじめに!H94=TRUE,①はじめに!D91,\"\")&\"\"","v":""},null,null,{"$f":"IF(①はじめに!H94=TRUE,①はじめに!H91,\"\")&\"\"","v":""},null,null,{"$f":"IF(①はじめに!H94=TRUE,①はじめに!F91,\"\")&\"\"","v":""},null,null,null,null,null,null,null,null,null,null,null,null,null,null,null,null,null,null,null,null,null,null,null,null,null,null,null,null,null,0,null,null,0]
[{"$f":"+A132+1","v":14},{"$f":"IF(①はじめに!C100=TRUE,①はじめに!D95,\"\")","v":""},null,null,null,null,{"$f":"IF(①はじめに!C100=TRUE,\"サービス管理責任者\",\"\")","v":""},null,null,null,null,null,null,null,{"$f":"IF(①はじめに!C100=TRUE,①はじめに!G95,\"\")","v":""},null,null,{"$f":"IF(①はじめに!C100=TRUE,①はじめに!D97,\"\")&\"\"","v":""},null,null,{"$f":"IF(①はじめに!C100=TRUE,①はじめに!H97,\"\")&\"\"","v":""},null,null,{"$f":"IF(①はじめに!C100=TRUE,①はじめに!F97,\"\")&\"\"","v":""},null,null,null,null,null,null,null,null,null,null,null,null,null,null,null,null,null,null,null,null,null,null,null,null,null,null,null,null,null,0,null,null,0]
[{"$f":"+A138","v":14},{"$f":"IF(①はじめに!D100=TRUE,①はじめに!D95,\"\")","v":""},null,null,null,null,{"$f":"IF(①はじめに!D100=TRUE,\"世話人\",\"\")","v":""},null,null,null,null,null,null,null,{"$f":"IF(①はじめに!D100=TRUE,①はじめに!G95,\"\")","v":""},null,null,{"$f":"IF(①はじめに!D100=TRUE,①はじめに!D97,\"\")&\"\"","v":""},null,null,{"$f":"IF(①はじめに!D100=TRUE,①はじめに!H97,\"\")&\"\"","v":""},null,null,{"$f":"IF(①はじめに!D100=TRUE,①はじめに!F97,\"\")&\"\"","v":""},null,null,null,null,null,null,null,null,null,null,null,null,null,null,null,null,null,null,null,null,null,null,null,null,null,null,null,null,null,0,null,null,0]
[{"$f":"+A138","v":14},{"$f":"IF(①はじめに!E100=TRUE,①はじめに!D95,\"\")","v":""},null,null,null,null,{"$f":"IF(①はじめに!E100=TRUE,\"生活支援員\",\"\")","v":""},null,null,null,null,null,null,null,{"$f":"IF(①はじめに!E100=TRUE,①はじめに!G95,\"\")","v":""},null,null,{"$f":"IF(①はじめに!E100=TRUE,①はじめに!D97,\"\")&\"\"","v":""},null,null,{"$f":"IF(①はじめに!E100=TRUE,①はじめに!H97,\"\")&\"\"","v":""},null,null,{"$f":"IF(①はじめに!E100=TRUE,①はじめに!F97,\"\")&\"\"","v":""},null,null,null,null,null,null,null,null,null,null,null,null,null,null,null,null,null,null,null,null,null,null,null,null,null,null,null,null,null,0,null,null,0,null,null,null,null,null,null,null,null,null,null,null,null,null,null,null,null,null,null,null,null,null,null,"常勤・専従",{"$f":"COUNTIF($J$61:$L$83,CB140)","v":0}]
[{"$f":"+A138","v":14},{"$f":"IF(①はじめに!F100=TRUE,①はじめに!D95,\"\")","v":""},null,null,null,null,{"$f":"IF(①はじめに!F100=TRUE,\"夜間支援員\",\"\")","v":""},null,null,null,null,null,null,null,{"$f":"IF(①はじめに!F100=TRUE,①はじめに!G95,\"\")","v":""},null,null,{"$f":"IF(①はじめに!F100=TRUE,①はじめに!D97,\"\")&\"\"","v":""},null,null,{"$f":"IF(①はじめに!F100=TRUE,①はじめに!H97,\"\")&\"\"","v":""},null,null,{"$f":"IF(①はじめに!F100=TRUE,①はじめに!F97,\"\")&\"\"","v":""},null,null,null,null,null,null,null,null,null,null,null,null,null,null,null,null,null,null,null,null,null,null,null,null,null,null,null,null,null,0,null,null,0,null,null,null,null,null,null,null,null,null,null,null,null,null,null,null,null,null,null,null,null,null,null,"常勤・兼務",{"$f":"COUNTIF($J$61:$L$83,CB141)","v":0}]
[{"$f":"+A138","v":14},{"$f":"IF(①はじめに!G100=TRUE,①はじめに!D95,\"\")","v":""},null,null,null,null,{"$f":"IF(①はじめに!G100=TRUE,\"日中支援員\",\"\")","v":""},null,null,null,null,null,null,null,{"$f":"IF(①はじめに!G100=TRUE,①はじめに!G95,\"\")","v":""},null,null,{"$f":"IF(①はじめに!G100=TRUE,①はじめに!D97,\"\")&\"\"","v":""},null,null,{"$f":"IF(①はじめに!G100=TRUE,①はじめに!H97,\"\")&\"\"","v":""},null,null,{"$f":"IF(①はじめに!G100=TRUE,①はじめに!F97,\"\")&\"\"","v":""},null,null,null,null,null,null,null,null,null,null,null,null,null,null,null,null,null,null,null,null,null,null,null,null,null,null,null,null,null,0,null,null,0]
[{"$f":"+A138","v":14},{"$f":"IF(①はじめに!H100=TRUE,①はじめに!D95,\"\")","v":""},null,null,null,null,{"$f":"IF(①はじめに!H100=TRUE,\"加配要員\",\"\")","v":""},null,null,null,null,null,null,null,{"$f":"IF(①はじめに!H100=TRUE,①はじめに!G95,\"\")","v":""},null,null,{"$f":"IF(①はじめに!H100=TRUE,①はじめに!D97,\"\")&\"\"","v":""},null,null,{"$f":"IF(①はじめに!H100=TRUE,①はじめに!H97,\"\")&\"\"","v":""},null,null,{"$f":"IF(①はじめに!H100=TRUE,①はじめに!F97,\"\")&\"\"","v":""},null,null,null,null,null,null,null,null,null,null,null,null,null,null,null,null,null,null,null,null,null,null,null,null,null,null,null,null,null,0,null,null,0]
[{"$f":"+A138+1","v":15},{"$f":"IF(①はじめに!C106=TRUE,①はじめに!D101,\"\")","v":""},null,null,null,null,{"$f":"IF(①はじめに!C106=TRUE,\"サービス管理責任者\",\"\")","v":""},null,null,null,null,null,null,null,{"$f":"IF(①はじめに!C106=TRUE,①はじめに!G101,\"\")","v":""},null,null,{"$f":"IF(①はじめに!C106=TRUE,①はじめに!D103,\"\")&\"\"","v":""},null,null,{"$f":"IF(①はじめに!C106=TRUE,①はじめに!H103,\"\")&\"\"","v":""},null,null,{"$f":"IF(①はじめに!C106=TRUE,①はじめに!F103,\"\")&\"\"","v":""},null,null,null,null,null,null,null,null,null,null,null,null,null,null,null,null,null,null,null,null,null,null,null,null,null,null,null,null,null,0,null,null,0,null,null,null,null,null,null,null,null,null,null,null,null,null,null,null,null,null,null,null,null,null,null,"常勤・専従",{"$f":"COUNTIF($J$61:$L$83,CB144)","v":0}]
[{"$f":"+A144","v":15},{"$f":"IF(①はじめに!D106=TRUE,①はじめに!D101,\"\")","v":""},null,null,null,null,{"$f":"IF(①はじめに!D106=TRUE,\"世話人\",\"\")","v":""},null,null,null,null,null,null,null,{"$f":"IF(①はじめに!D106=TRUE,①はじめに!G101,\"\")","v":""},null,null,{"$f":"IF(①はじめに!D106=TRUE,①はじめに!D103,\"\")&\"\"","v":""},null,null,{"$f":"IF(①はじめに!D106=TRUE,①はじめに!H103,\"\")&\"\"","v":""},null,null,{"$f":"IF(①はじめに!D106=TRUE,①はじめに!F103,\"\")&\"\"","v":""},null,null,null,null,null,null,null,null,null,null,null,null,null,null,null,null,null,null,null,null,null,null,null,null,null,null,null,null,null,0,null,null,0,null,null,null,null,null,null,null,null,null,null,null,null,null,null,null,null,null,null,null,null,null,null,"常勤・兼務",{"$f":"COUNTIF($J$61:$L$83,CB145)","v":0}]
[{"$f":"+A144","v":15},{"$f":"IF(①はじめに!E106=TRUE,①はじめに!D101,\"\")","v":""},null,null,null,null,{"$f":"IF(①はじめに!E106=TRUE,\"生活支援員\",\"\")","v":""},null,null,null,null,null,null,null,{"$f":"IF(①はじめに!E106=TRUE,①はじめに!G101,\"\")","v":""},null,null,{"$f":"IF(①はじめに!E106=TRUE,①はじめに!D103,\"\")&\"\"","v":""},null,null,{"$f":"IF(①はじめに!E106=TRUE,①はじめに!H103,\"\")&\"\"","v":""},null,null,{"$f":"IF(①はじめに!E106=TRUE,①はじめに!F103,\"\")&\"\"","v":""},null,null,null,null,null,null,null,null,null,null,null,null,null,null,null,null,null,null,null,null,null,null,null,null,null,null,null,null,null,0,null,null,0,null,null,null,null,null,null,null,null,null,null,null,null,null,null,null,null,null,null,null,null,null,null,"非常勤・専従",{"$f":"COUNTIF($J$61:$L$83,CB146)","v":0}]
[{"$f":"+A144","v":15},{"$f":"IF(①はじめに!F106=TRUE,①はじめに!D101,\"\")","v":""},null,null,null,null,{"$f":"IF(①はじめに!F106=TRUE,\"夜間支援員\",\"\")","v":""},null,null,null,null,null,null,null,{"$f":"IF(①はじめに!F106=TRUE,①はじめに!G101,\"\")","v":""},null,null,{"$f":"IF(①はじめに!F106=TRUE,①はじめに!D103,\"\")&\"\"","v":""},null,null,{"$f":"IF(①はじめに!F106=TRUE,①はじめに!H103,\"\")&\"\"","v":""},null,null,{"$f":"IF(①はじめに!F106=TRUE,①はじめに!F103,\"\")&\"\"","v":""},null,null,null,null,null,null,null,null,null,null,null,null,null,null,null,null,null,null,null,null,null,null,null,null,null,null,null,null,null,0,null,null,0]
[{"$f":"+A144","v":15},{"$f":"IF(①はじめに!G106=TRUE,①はじめに!D101,\"\")","v":""},null,null,null,null,{"$f":"IF(①はじめに!G106=TRUE,\"日中支援員\",\"\")","v":""},null,null,null,null,null,null,null,{"$f":"IF(①はじめに!G106=TRUE,①はじめに!G101,\"\")","v":""},null,null,{"$f":"IF(①はじめに!G106=TRUE,①はじめに!D103,\"\")&\"\"","v":""},null,null,{"$f":"IF(①はじめに!G106=TRUE,①はじめに!H103,\"\")&\"\"","v":""},null,null,{"$f":"IF(①はじめに!G106=TRUE,①はじめに!F103,\"\")&\"\"","v":""},null,null,null,null,null,null,null,null,null,null,null,null,null,null,null,null,null,null,null,null,null,null,null,null,null,null,null,null,null,0,null,null,0]
[{"$f":"+A144","v":15},{"$f":"IF(①はじめに!H106=TRUE,①はじめに!D101,\"\")","v":""},null,null,null,null,{"$f":"IF(①はじめに!H106=TRUE,\"加配要員\",\"\")","v":""},null,null,null,null,null,null,null,{"$f":"IF(①はじめに!H106=TRUE,①はじめに!G101,\"\")","v":""},null,null,{"$f":"IF(①はじめに!H106=TRUE,①はじめに!D103,\"\")&\"\"","v":""},null,null,{"$f":"IF(①はじめに!H106=TRUE,①はじめに!H103,\"\")&\"\"","v":""},null,null,{"$f":"IF(①はじめに!H106=TRUE,①はじめに!F103,\"\")&\"\"","v":""},null,null,null,null,null,null,null,null,null,null,null,null,null,null,null,null,null,null,null,null,null,null,null,null,null,null,null,null,null,0,null,null,0]
[{"$f":"+A144+1","v":16},{"$f":"IF(①はじめに!C112=TRUE,①はじめに!D107,\"\")","v":""},null,null,null,null,{"$f":"IF(①はじめに!C112=TRUE,\"サービス管理責任者\",\"\")","v":""},null,null,null,null,null,null,null,{"$f":"IF(①はじめに!C112=TRUE,①はじめに!G107,\"\")","v":""},null,null,{"$f":"IF(①はじめに!C112=TRUE,①はじめに!D109,\"\")&\"\"","v":""},null,null,{"$f":"IF(①はじめに!C112=TRUE,①はじめに!H109,\"\")&\"\"","v":""},null,null,{"$f":"IF(①はじめに!C112=TRUE,①はじめに!F109,\"\")&\"\"","v":""},null,null,null,null,null,null,null,null,null,null,null,null,null,null,null,null,null,null,null,null,null,null,null,null,null,null,null,null,null,0,null,null,0]
[{"$f":"+A150","v":16},{"$f":"IF(①はじめに!D112=TRUE,①はじめに!D107,\"\")","v":""},null,null,null,null,{"$f":"IF(①はじめに!D112=TRUE,\"世話人\",\"\")","v":""},null,null,null,null,null,null,null,{"$f":"IF(①はじめに!D112=TRUE,①はじめに!G107,\"\")","v":""},null,null,{"$f":"IF(①はじめに!D112=TRUE,①はじめに!D109,\"\")&\"\"","v":""},null,null,{"$f":"IF(①はじめに!D112=TRUE,①はじめに!H109,\"\")&\"\"","v":""},null,null,{"$f":"IF(①はじめに!D112=TRUE,①はじめに!F109,\"\")&\"\"","v":""},null,null,null,null,null,null,null,null,null,null,null,null,null,null,null,null,null,null,null,null,null,null,null,null,null,null,null,null,null,0,null,null,0]
[{"$f":"+A150","v":16},{"$f":"IF(①はじめに!E112=TRUE,①はじめに!D107,\"\")","v":""},null,null,null,null,{"$f":"IF(①はじめに!E112=TRUE,\"生活支援員\",\"\")","v":""},null,null,null,null,null,null,null,{"$f":"IF(①はじめに!E112=TRUE,①はじめに!G107,\"\")","v":""},null,null,{"$f":"IF(①はじめに!E112=TRUE,①はじめに!D109,\"\")&\"\"","v":""},null,null,{"$f":"IF(①はじめに!E112=TRUE,①はじめに!H109,\"\")&\"\"","v":""},null,null,{"$f":"IF(①はじめに!E112=TRUE,①はじめに!F109,\"\")&\"\"","v":""},null,null,null,null,null,null,null,null,null,null,null,null,null,null,null,null,null,null,null,null,null,null,null,null,null,null,null,null,null,0,null,null,0,null,null,null,null,null,null,null,null,null,null,null,null,null,null,null,null,null,null,null,null,null,null,"常勤・専従",{"$f":"COUNTIF($J$61:$L$83,CB152)","v":0}]
[{"$f":"+A150","v":16},{"$f":"IF(①はじめに!F112=TRUE,①はじめに!D107,\"\")","v":""},null,null,null,null,{"$f":"IF(①はじめに!F112=TRUE,\"夜間支援員\",\"\")","v":""},null,null,null,null,null,null,null,{"$f":"IF(①はじめに!F112=TRUE,①はじめに!G107,\"\")","v":""},null,null,{"$f":"IF(①はじめに!F112=TRUE,①はじめに!D109,\"\")&\"\"","v":""},null,null,{"$f":"IF(①はじめに!F112=TRUE,①はじめに!H109,\"\")&\"\"","v":""},null,null,{"$f":"IF(①はじめに!F112=TRUE,①はじめに!F109,\"\")&\"\"","v":""},null,null,null,null,null,null,null,null,null,null,null,null,null,null,null,null,null,null,null,null,null,null,null,null,null,null,null,null,null,0,null,null,0,null,null,null,null,null,null,null,null,null,null,null,null,null,null,null,null,null,null,null,null,null,null,"常勤・兼務",{"$f":"COUNTIF($J$61:$L$83,CB153)","v":0}]
[{"$f":"+A150","v":16},{"$f":"IF(①はじめに!G112=TRUE,①はじめに!D107,\"\")","v":""},null,null,null,null,{"$f":"IF(①はじめに!G112=TRUE,\"日中支援員\",\"\")","v":""},null,null,null,null,null,null,null,{"$f":"IF(①はじめに!G112=TRUE,①はじめに!G107,\"\")","v":""},null,null,{"$f":"IF(①はじめに!G112=TRUE,①はじめに!D109,\"\")&\"\"","v":""},null,null,{"$f":"IF(①はじめに!G112=TRUE,①はじめに!H109,\"\")&\"\"","v":""},null,null,{"$f":"IF(①はじめに!G112=TRUE,①はじめに!F109,\"\")&\"\"","v":""},null,null,null,null,null,null,null,null,null,null,null,null,null,null,null,null,null,null,null,null,null,null,null,null,null,null,null,null,null,0,null,null,0,null,null,null,null,null,null,null,null,null,null,null,null,null,null,null,null,null,null,null,null,null,null,"非常勤・専従",{"$f":"COUNTIF($J$61:$L$83,CB154)","v":0}]
[{"$f":"+A150","v":16},{"$f":"IF(①はじめに!H112=TRUE,①はじめに!D107,\"\")","v":""},null,null,null,null,{"$f":"IF(①はじめに!H112=TRUE,\"加配要員\",\"\")","v":""},null,null,null,null,null,null,null,{"$f":"IF(①はじめに!H112=TRUE,①はじめに!G107,\"\")","v":""},null,null,{"$f":"IF(①はじめに!H112=TRUE,①はじめに!D109,\"\")&\"\"","v":""},null,null,{"$f":"IF(①はじめに!H112=TRUE,①はじめに!H109,\"\")&\"\"","v":""},null,null,{"$f":"IF(①はじめに!H112=TRUE,①はじめに!F109,\"\")&\"\"","v":""},null,null,null,null,null,null,null,null,null,null,null,null,null,null,null,null,null,null,null,null,null,null,null,null,null,null,null,null,null,0,null,null,0]
[{"$f":"+A150+1","v":17},{"$f":"IF(①はじめに!C118=TRUE,①はじめに!D113,\"\")","v":""},null,null,null,null,{"$f":"IF(①はじめに!C118=TRUE,\"サービス管理責任者\",\"\")","v":""},null,null,null,null,null,null,null,{"$f":"IF(①はじめに!C118=TRUE,①はじめに!G113,\"\")","v":""},null,null,{"$f":"IF(①はじめに!C118=TRUE,①はじめに!D115,\"\")&\"\"","v":""},null,null,{"$f":"IF(①はじめに!C118=TRUE,①はじめに!H115,\"\")&\"\"","v":""},null,null,{"$f":"IF(①はじめに!C118=TRUE,①はじめに!F115,\"\")&\"\"","v":""},null,null,null,null,null,null,null,null,null,null,null,null,null,null,null,null,null,null,null,null,null,null,null,null,null,null,null,null,null,0,null,null,0]
[{"$f":"+A156","v":17},{"$f":"IF(①はじめに!D118=TRUE,①はじめに!D113,\"\")","v":""},null,null,null,null,{"$f":"IF(①はじめに!D118=TRUE,\"世話人\",\"\")","v":""},null,null,null,null,null,null,null,{"$f":"IF(①はじめに!D118=TRUE,①はじめに!G113,\"\")","v":""},null,null,{"$f":"IF(①はじめに!D118=TRUE,①はじめに!D115,\"\")&\"\"","v":""},null,null,{"$f":"IF(①はじめに!D118=TRUE,①はじめに!H115,\"\")&\"\"","v":""},null,null,{"$f":"IF(①はじめに!D118=TRUE,①はじめに!F115,\"\")&\"\"","v":""},null,null,null,null,null,null,null,null,null,null,null,null,null,null,null,null,null,null,null,null,null,null,null,null,null,null,null,null,null,0,null,null,0]
[{"$f":"+A156","v":17},{"$f":"IF(①はじめに!E118=TRUE,①はじめに!D113,\"\")","v":""},null,null,null,null,{"$f":"IF(①はじめに!E118=TRUE,\"生活支援員\",\"\")","v":""},null,null,null,null,null,null,null,{"$f":"IF(①はじめに!E118=TRUE,①はじめに!G113,\"\")","v":""},null,null,{"$f":"IF(①はじめに!E118=TRUE,①はじめに!D115,\"\")&\"\"","v":""},null,null,{"$f":"IF(①はじめに!E118=TRUE,①はじめに!H115,\"\")&\"\"","v":""},null,null,{"$f":"IF(①はじめに!E118=TRUE,①はじめに!F115,\"\")&\"\"","v":""},null,null,null,null,null,null,null,null,null,null,null,null,null,null,null,null,null,null,null,null,null,null,null,null,null,null,null,null,null,0,null,null,0,null,null,null,null,null,null,null,null,null,null,null,null,null,null,null,null,null,null,null,null,null,null,"常勤・専従",{"$f":"COUNTIF($J$61:$L$83,CB158)","v":0}]
[{"$f":"+A156","v":17},{"$f":"IF(①はじめに!F118=TRUE,①はじめに!D113,\"\")","v":""},null,null,null,null,{"$f":"IF(①はじめに!F118=TRUE,\"夜間支援員\",\"\")","v":""},null,null,null,null,null,null,null,{"$f":"IF(①はじめに!F118=TRUE,①はじめに!G113,\"\")","v":""},null,null,{"$f":"IF(①はじめに!F118=TRUE,①はじめに!D115,\"\")&\"\"","v":""},null,null,{"$f":"IF(①はじめに!F118=TRUE,①はじめに!H115,\"\")&\"\"","v":""},null,null,{"$f":"IF(①はじめに!F118=TRUE,①はじめに!F115,\"\")&\"\"","v":""},null,null,null,null,null,null,null,null,null,null,null,null,null,null,null,null,null,null,null,null,null,null,null,null,null,null,null,null,null,0,null,null,0,null,null,null,null,null,null,null,null,null,null,null,null,null,null,null,null,null,null,null,null,null,null,"常勤・兼務",{"$f":"COUNTIF($J$61:$L$83,CB159)","v":0}]
[{"$f":"+A156","v":17},{"$f":"IF(①はじめに!G118=TRUE,①はじめに!D113,\"\")","v":""},null,null,null,null,{"$f":"IF(①はじめに!G118=TRUE,\"日中支援員\",\"\")","v":""},null,null,null,null,null,null,null,{"$f":"IF(①はじめに!G118=TRUE,①はじめに!G113,\"\")","v":""},null,null,{"$f":"IF(①はじめに!G118=TRUE,①はじめに!D115,\"\")&\"\"","v":""},null,null,{"$f":"IF(①はじめに!G118=TRUE,①はじめに!H115,\"\")&\"\"","v":""},null,null,{"$f":"IF(①はじめに!G118=TRUE,①はじめに!F115,\"\")&\"\"","v":""},null,null,null,null,null,null,null,null,null,null,null,null,null,null,null,null,null,null,null,null,null,null,null,null,null,null,null,null,null,0,null,null,0]
[{"$f":"+A156","v":17},{"$f":"IF(①はじめに!H118=TRUE,①はじめに!D113,\"\")","v":""},null,null,null,null,{"$f":"IF(①はじめに!H118=TRUE,\"加配要員\",\"\")","v":""},null,null,null,null,null,null,null,{"$f":"IF(①はじめに!H118=TRUE,①はじめに!G113,\"\")","v":""},null,null,{"$f":"IF(①はじめに!H118=TRUE,①はじめに!D115,\"\")&\"\"","v":""},null,null,{"$f":"IF(①はじめに!H118=TRUE,①はじめに!H115,\"\")&\"\"","v":""},null,null,{"$f":"IF(①はじめに!H118=TRUE,①はじめに!F115,\"\")&\"\"","v":""},null,null,null,null,null,null,null,null,null,null,null,null,null,null,null,null,null,null,null,null,null,null,null,null,null,null,null,null,null,0,null,null,0]
[{"$f":"+A156+1","v":18},{"$f":"IF(①はじめに!C124=TRUE,①はじめに!D119,\"\")","v":""},null,null,null,null,{"$f":"IF(①はじめに!C124=TRUE,\"サービス管理責任者\",\"\")","v":""},null,null,null,null,null,null,null,{"$f":"IF(①はじめに!C124=TRUE,①はじめに!G119,\"\")","v":""},null,null,{"$f":"IF(①はじめに!C124=TRUE,①はじめに!D121,\"\")&\"\"","v":""},null,null,{"$f":"IF(①はじめに!C124=TRUE,①はじめに!H121,\"\")&\"\"","v":""},null,null,{"$f":"IF(①はじめに!C124=TRUE,①はじめに!F121,\"\")&\"\"","v":""},null,null,null,null,null,null,null,null,null,null,null,null,null,null,null,null,null,null,null,null,null,null,null,null,null,null,null,null,null,0,null,null,0,null,null,null,null,null,null,null,null,null,null,null,null,null,null,null,null,null,null,null,null,null,null,"常勤・専従",{"$f":"COUNTIF($J$61:$L$83,CB162)","v":0}]
[{"$f":"+A162","v":18},{"$f":"IF(①はじめに!D124=TRUE,①はじめに!D119,\"\")","v":""},null,null,null,null,{"$f":"IF(①はじめに!D124=TRUE,\"世話人\",\"\")","v":""},null,null,null,null,null,null,null,{"$f":"IF(①はじめに!D124=TRUE,①はじめに!G119,\"\")","v":""},null,null,{"$f":"IF(①はじめに!D124=TRUE,①はじめに!D121,\"\")&\"\"","v":""},null,null,{"$f":"IF(①はじめに!D124=TRUE,①はじめに!H121,\"\")&\"\"","v":""},null,null,{"$f":"IF(①はじめに!D124=TRUE,①はじめに!F121,\"\")&\"\"","v":""},null,null,null,null,null,null,null,null,null,null,null,null,null,null,null,null,null,null,null,null,null,null,null,null,null,null,null,null,null,0,null,null,0,null,null,null,null,null,null,null,null,null,null,null,null,null,null,null,null,null,null,null,null,null,null,"常勤・兼務",{"$f":"COUNTIF($J$61:$L$83,CB163)","v":0}]
[{"$f":"+A162","v":18},{"$f":"IF(①はじめに!E124=TRUE,①はじめに!D119,\"\")","v":""},null,null,null,null,{"$f":"IF(①はじめに!E124=TRUE,\"生活支援員\",\"\")","v":""},null,null,null,null,null,null,null,{"$f":"IF(①はじめに!E124=TRUE,①はじめに!G119,\"\")","v":""},null,null,{"$f":"IF(①はじめに!E124=TRUE,①はじめに!D121,\"\")&\"\"","v":""},null,null,{"$f":"IF(①はじめに!E124=TRUE,①はじめに!H121,\"\")&\"\"","v":""},null,null,{"$f":"IF(①はじめに!E124=TRUE,①はじめに!F121,\"\")&\"\"","v":""},null,null,null,null,null,null,null,null,null,null,null,null,null,null,null,null,null,null,null,null,null,null,null,null,null,null,null,null,null,0,null,null,0,null,null,null,null,null,null,null,null,null,null,null,null,null,null,null,null,null,null,null,null,null,null,"非常勤・専従",{"$f":"COUNTIF($J$61:$L$83,CB164)","v":0}]
[{"$f":"+A162","v":18},{"$f":"IF(①はじめに!F124=TRUE,①はじめに!D119,\"\")","v":""},null,null,null,null,{"$f":"IF(①はじめに!F124=TRUE,\"夜間支援員\",\"\")","v":""},null,null,null,null,null,null,null,{"$f":"IF(①はじめに!F124=TRUE,①はじめに!G119,\"\")","v":""},null,null,{"$f":"IF(①はじめに!F124=TRUE,①はじめに!D121,\"\")&\"\"","v":""},null,null,{"$f":"IF(①はじめに!F124=TRUE,①はじめに!H121,\"\")&\"\"","v":""},null,null,{"$f":"IF(①はじめに!F124=TRUE,①はじめに!F121,\"\")&\"\"","v":""},null,null,null,null,null,null,null,null,null,null,null,null,null,null,null,null,null,null,null,null,null,null,null,null,null,null,null,null,null,0,null,null,0]
[{"$f":"+A162","v":18},{"$f":"IF(①はじめに!G124=TRUE,①はじめに!D119,\"\")","v":""},null,null,null,null,{"$f":"IF(①はじめに!G124=TRUE,\"日中支援員\",\"\")","v":""},null,null,null,null,null,null,null,{"$f":"IF(①はじめに!G124=TRUE,①はじめに!G119,\"\")","v":""},null,null,{"$f":"IF(①はじめに!G124=TRUE,①はじめに!D121,\"\")&\"\"","v":""},null,null,{"$f":"IF(①はじめに!G124=TRUE,①はじめに!H121,\"\")&\"\"","v":""},null,null,{"$f":"IF(①はじめに!G124=TRUE,①はじめに!F121,\"\")&\"\"","v":""},null,null,null,null,null,null,null,null,null,null,null,null,null,null,null,null,null,null,null,null,null,null,null,null,null,null,null,null,null,0,null,null,0]
[{"$f":"+A162","v":18},{"$f":"IF(①はじめに!H124=TRUE,①はじめに!D119,\"\")","v":""},null,null,null,null,{"$f":"IF(①はじめに!H124=TRUE,\"加配要員\",\"\")","v":""},null,null,null,null,null,null,null,{"$f":"IF(①はじめに!H124=TRUE,①はじめに!G119,\"\")","v":""},null,null,{"$f":"IF(①はじめに!H124=TRUE,①はじめに!D121,\"\")&\"\"","v":""},null,null,{"$f":"IF(①はじめに!H124=TRUE,①はじめに!H121,\"\")&\"\"","v":""},null,null,{"$f":"IF(①はじめに!H124=TRUE,①はじめに!F121,\"\")&\"\"","v":""},null,null,null,null,null,null,null,null,null,null,null,null,null,null,null,null,null,null,null,null,null,null,null,null,null,null,null,null,null,0,null,null,0]
[{"$f":"+A162+1","v":19},{"$f":"IF(①はじめに!C130=TRUE,①はじめに!D125,\"\")","v":""},null,null,null,null,{"$f":"IF(①はじめに!C130=TRUE,\"サービス管理責任者\",\"\")","v":""},null,null,null,null,null,null,null,{"$f":"IF(①はじめに!C130=TRUE,①はじめに!G125,\"\")","v":""},null,null,{"$f":"IF(①はじめに!C130=TRUE,①はじめに!D127,\"\")&\"\"","v":""},null,null,{"$f":"IF(①はじめに!C130=TRUE,①はじめに!H127,\"\")&\"\"","v":""},null,null,{"$f":"IF(①はじめに!C130=TRUE,①はじめに!F127,\"\")&\"\"","v":""},null,null,null,null,null,null,null,null,null,null,null,null,null,null,null,null,null,null,null,null,null,null,null,null,null,null,null,null,null,0,null,null,0]
[{"$f":"+A168","v":19},{"$f":"IF(①はじめに!D130=TRUE,①はじめに!D125,\"\")","v":""},null,null,null,null,{"$f":"IF(①はじめに!D130=TRUE,\"世話人\",\"\")","v":""},null,null,null,null,null,null,null,{"$f":"IF(①はじめに!D130=TRUE,①はじめに!G125,\"\")","v":""},null,null,{"$f":"IF(①はじめに!D130=TRUE,①はじめに!D127,\"\")&\"\"","v":""},null,null,{"$f":"IF(①はじめに!D130=TRUE,①はじめに!H127,\"\")&\"\"","v":""},null,null,{"$f":"IF(①はじめに!D130=TRUE,①はじめに!F127,\"\")&\"\"","v":""},null,null,null,null,null,null,null,null,null,null,null,null,null,null,null,null,null,null,null,null,null,null,null,null,null,null,null,null,null,0,null,null,0]
[{"$f":"+A168","v":19},{"$f":"IF(①はじめに!E130=TRUE,①はじめに!D125,\"\")","v":""},null,null,null,null,{"$f":"IF(①はじめに!E130=TRUE,\"生活支援員\",\"\")","v":""},null,null,null,null,null,null,null,{"$f":"IF(①はじめに!E130=TRUE,①はじめに!G125,\"\")","v":""},null,null,{"$f":"IF(①はじめに!E130=TRUE,①はじめに!D127,\"\")&\"\"","v":""},null,null,{"$f":"IF(①はじめに!E130=TRUE,①はじめに!H127,\"\")&\"\"","v":""},null,null,{"$f":"IF(①はじめに!E130=TRUE,①はじめに!F127,\"\")&\"\"","v":""},null,null,null,null,null,null,null,null,null,null,null,null,null,null,null,null,null,null,null,null,null,null,null,null,null,null,null,null,null,0,null,null,0,null,null,null,null,null,null,null,null,null,null,null,null,null,null,null,null,null,null,null,null,null,null,"常勤・専従",{"$f":"COUNTIF($J$61:$L$83,CB170)","v":0}]
[{"$f":"+A168","v":19},{"$f":"IF(①はじめに!F130=TRUE,①はじめに!D125,\"\")","v":""},null,null,null,null,{"$f":"IF(①はじめに!F130=TRUE,\"夜間支援員\",\"\")","v":""},null,null,null,null,null,null,null,{"$f":"IF(①はじめに!F130=TRUE,①はじめに!G125,\"\")","v":""},null,null,{"$f":"IF(①はじめに!F130=TRUE,①はじめに!D127,\"\")&\"\"","v":""},null,null,{"$f":"IF(①はじめに!F130=TRUE,①はじめに!H127,\"\")&\"\"","v":""},null,null,{"$f":"IF(①はじめに!F130=TRUE,①はじめに!F127,\"\")&\"\"","v":""},null,null,null,null,null,null,null,null,null,null,null,null,null,null,null,null,null,null,null,null,null,null,null,null,null,null,null,null,null,0,null,null,0,null,null,null,null,null,null,null,null,null,null,null,null,null,null,null,null,null,null,null,null,null,null,"常勤・兼務",{"$f":"COUNTIF($J$61:$L$83,CB171)","v":0}]
[{"$f":"+A168","v":19},{"$f":"IF(①はじめに!G130=TRUE,①はじめに!D125,\"\")","v":""},null,null,null,null,{"$f":"IF(①はじめに!G130=TRUE,\"日中支援員\",\"\")","v":""},null,null,null,null,null,null,null,{"$f":"IF(①はじめに!G130=TRUE,①はじめに!G125,\"\")","v":""},null,null,{"$f":"IF(①はじめに!G130=TRUE,①はじめに!D127,\"\")&\"\"","v":""},null,null,{"$f":"IF(①はじめに!G130=TRUE,①はじめに!H127,\"\")&\"\"","v":""},null,null,{"$f":"IF(①はじめに!G130=TRUE,①はじめに!F127,\"\")&\"\"","v":""},null,null,null,null,null,null,null,null,null,null,null,null,null,null,null,null,null,null,null,null,null,null,null,null,null,null,null,null,null,0,null,null,0]
[{"$f":"+A168","v":19},{"$f":"IF(①はじめに!H130=TRUE,①はじめに!D125,\"\")","v":""},null,null,null,null,{"$f":"IF(①はじめに!H130=TRUE,\"加配要員\",\"\")","v":""},null,null,null,null,null,null,null,{"$f":"IF(①はじめに!H130=TRUE,①はじめに!G125,\"\")","v":""},null,null,{"$f":"IF(①はじめに!H130=TRUE,①はじめに!D127,\"\")&\"\"","v":""},null,null,{"$f":"IF(①はじめに!H130=TRUE,①はじめに!H127,\"\")&\"\"","v":""},null,null,{"$f":"IF(①はじめに!H130=TRUE,①はじめに!F127,\"\")&\"\"","v":""},null,null,null,null,null,null,null,null,null,null,null,null,null,null,null,null,null,null,null,null,null,null,null,null,null,null,null,null,null,0,null,null,0]
[{"$f":"+A168+1","v":20},{"$f":"IF(①はじめに!C136=TRUE,①はじめに!D131,\"\")","v":""},null,null,null,null,{"$f":"IF(①はじめに!C136=TRUE,\"サービス管理責任者\",\"\")","v":""},null,null,null,null,null,null,null,{"$f":"IF(①はじめに!C136=TRUE,①はじめに!G131,\"\")","v":""},null,null,{"$f":"IF(①はじめに!C136=TRUE,①はじめに!D133,\"\")&\"\"","v":""},null,null,{"$f":"IF(①はじめに!C136=TRUE,①はじめに!H133,\"\")&\"\"","v":""},null,null,{"$f":"IF(①はじめに!C136=TRUE,①はじめに!F133,\"\")&\"\"","v":""},null,null,null,null,null,null,null,null,null,null,null,null,null,null,null,null,null,null,null,null,null,null,null,null,null,null,null,null,null,{"$f":"SUM(Z174:BA174)","v":0},null,null,{"$f":"BB174/4","v":0},null,null,null,null,null,null,null,null,null,null,null,null,null,null,null,null,null,null,null,null,null,null,"常勤・専従",{"$f":"COUNTIF($J$61:$L$83,CB174)","v":0}]
[{"$f":"+A174","v":20},{"$f":"IF(①はじめに!D136=TRUE,①はじめに!D131,\"\")","v":""},null,null,null,null,{"$f":"IF(①はじめに!D136=TRUE,\"世話人\",\"\")","v":""},null,null,null,null,null,null,null,{"$f":"IF(①はじめに!D136=TRUE,①はじめに!G131,\"\")","v":""},null,null,{"$f":"IF(①はじめに!D136=TRUE,①はじめに!D133,\"\")&\"\"","v":""},null,null,{"$f":"IF(①はじめに!D136=TRUE,①はじめに!H133,\"\")&\"\"","v":""},null,null,{"$f":"IF(①はじめに!D136=TRUE,①はじめに!F133,\"\")&\"\"","v":""},null,null,null,null,null,null,null,null,null,null,null,null,null,null,null,null,null,null,null,null,null,null,null,null,null,null,null,null,null,0,null,null,0,null,null,null,null,null,null,null,null,null,null,null,null,null,null,null,null,null,null,null,null,null,null,"常勤・兼務",{"$f":"COUNTIF($J$61:$L$83,CB175)","v":0}]
[{"$f":"+A174","v":20},{"$f":"IF(①はじめに!E136=TRUE,①はじめに!D131,\"\")","v":""},null,null,null,null,{"$f":"IF(①はじめに!E136=TRUE,\"生活支援員\",\"\")","v":""},null,null,null,null,null,null,null,{"$f":"IF(①はじめに!E136=TRUE,①はじめに!G131,\"\")","v":""},null,null,{"$f":"IF(①はじめに!E136=TRUE,①はじめに!D133,\"\")&\"\"","v":""},null,null,{"$f":"IF(①はじめに!E136=TRUE,①はじめに!H133,\"\")&\"\"","v":""},null,null,{"$f":"IF(①はじめに!E136=TRUE,①はじめに!F133,\"\")&\"\"","v":""},null,null,null,null,null,null,null,null,null,null,null,null,null,null,null,null,null,null,null,null,null,null,null,null,null,null,null,null,null,0,null,null,0,null,null,null,null,null,null,null,null,null,null,null,null,null,null,null,null,null,null,null,null,null,null,"非常勤・専従",{"$f":"COUNTIF($J$61:$L$83,CB176)","v":0}]
[{"$f":"+A174","v":20},{"$f":"IF(①はじめに!F136=TRUE,①はじめに!D131,\"\")","v":""},null,null,null,null,{"$f":"IF(①はじめに!F136=TRUE,\"夜間支援員\",\"\")","v":""},null,null,null,null,null,null,null,{"$f":"IF(①はじめに!F136=TRUE,①はじめに!G131,\"\")","v":""},null,null,{"$f":"IF(①はじめに!F136=TRUE,①はじめに!D133,\"\")&\"\"","v":""},null,null,{"$f":"IF(①はじめに!F136=TRUE,①はじめに!H133,\"\")&\"\"","v":""},null,null,{"$f":"IF(①はじめに!F136=TRUE,①はじめに!F133,\"\")&\"\"","v":""},null,null,null,null,null,null,null,null,null,null,null,null,null,null,null,null,null,null,null,null,null,null,null,null,null,null,null,null,null,0,null,null,0]
[{"$f":"+A174","v":20},{"$f":"IF(①はじめに!G136=TRUE,①はじめに!D131,\"\")","v":""},null,null,null,null,{"$f":"IF(①はじめに!G136=TRUE,\"日中支援員\",\"\")","v":""},null,null,null,null,null,null,null,{"$f":"IF(①はじめに!G136=TRUE,①はじめに!G131,\"\")","v":""},null,null,{"$f":"IF(①はじめに!G136=TRUE,①はじめに!D133,\"\")&\"\"","v":""},null,null,{"$f":"IF(①はじめに!G136=TRUE,①はじめに!H133,\"\")&\"\"","v":""},null,null,{"$f":"IF(①はじめに!G136=TRUE,①はじめに!F133,\"\")&\"\"","v":""},null,null,null,null,null,null,null,null,null,null,null,null,null,null,null,null,null,null,null,null,null,null,null,null,null,null,null,null,null,0,null,null,0]
[{"$f":"+A174","v":20},{"$f":"IF(①はじめに!H136=TRUE,①はじめに!D131,\"\")","v":""},null,null,null,null,{"$f":"IF(①はじめに!H136=TRUE,\"加配要員\",\"\")","v":""},null,null,null,null,null,null,null,{"$f":"IF(①はじめに!H136=TRUE,①はじめに!G131,\"\")","v":""},null,null,{"$f":"IF(①はじめに!H136=TRUE,①はじめに!D133,\"\")&\"\"","v":""},null,null,{"$f":"IF(①はじめに!H136=TRUE,①はじめに!H133,\"\")&\"\"","v":""},null,null,{"$f":"IF(①はじめに!H136=TRUE,①はじめに!F133,\"\")&\"\"","v":""},null,null,null,null,null,null,null,null,null,null,null,null,null,null,null,null,null,null,null,null,null,null,null,null,null,null,null,null,null,0,null,null,0]
[{"$f":"+A174+1","v":21},{"$f":"IF(①はじめに!C142=TRUE,①はじめに!D137,\"\")","v":""},null,null,null,null,{"$f":"IF(①はじめに!C142=TRUE,\"サービス管理責任者\",\"\")","v":""},null,null,null,null,null,null,null,{"$f":"IF(①はじめに!C142=TRUE,①はじめに!G137,\"\")","v":""},null,null,{"$f":"IF(①はじめに!C142=TRUE,①はじめに!D139,\"\")&\"\"","v":""},null,null,{"$f":"IF(①はじめに!C142=TRUE,①はじめに!H139,\"\")&\"\"","v":""},null,null,{"$f":"IF(①はじめに!C142=TRUE,①はじめに!F139,\"\")&\"\"","v":""},null,null,null,null,null,null,null,null,null,null,null,null,null,null,null,null,null,null,null,null,null,null,null,null,null,null,null,null,null,0,null,null,0]
[{"$f":"+A180","v":21},{"$f":"IF(①はじめに!D142=TRUE,①はじめに!D137,\"\")","v":""},null,null,null,null,{"$f":"IF(①はじめに!D142=TRUE,\"世話人\",\"\")","v":""},null,null,null,null,null,null,null,{"$f":"IF(①はじめに!D142=TRUE,①はじめに!G137,\"\")","v":""},null,null,{"$f":"IF(①はじめに!D142=TRUE,①はじめに!D139,\"\")&\"\"","v":""},null,null,{"$f":"IF(①はじめに!D142=TRUE,①はじめに!H139,\"\")&\"\"","v":""},null,null,{"$f":"IF(①はじめに!D142=TRUE,①はじめに!F139,\"\")&\"\"","v":""},null,null,null,null,null,null,null,null,null,null,null,null,null,null,null,null,null,null,null,null,null,null,null,null,null,null,null,null,null,0,null,null,0]
[{"$f":"+A180","v":21},{"$f":"IF(①はじめに!E142=TRUE,①はじめに!D137,\"\")","v":""},null,null,null,null,{"$f":"IF(①はじめに!E142=TRUE,\"生活支援員\",\"\")","v":""},null,null,null,null,null,null,null,{"$f":"IF(①はじめに!E142=TRUE,①はじめに!G137,\"\")","v":""},null,null,{"$f":"IF(①はじめに!E142=TRUE,①はじめに!D139,\"\")&\"\"","v":""},null,null,{"$f":"IF(①はじめに!E142=TRUE,①はじめに!H139,\"\")&\"\"","v":""},null,null,{"$f":"IF(①はじめに!E142=TRUE,①はじめに!F139,\"\")&\"\"","v":""},null,null,null,null,null,null,null,null,null,null,null,null,null,null,null,null,null,null,null,null,null,null,null,null,null,null,null,null,null,0,null,null,0,null,null,null,null,null,null,null,null,null,null,null,null,null,null,null,null,null,null,null,null,null,null,"常勤・専従",{"$f":"COUNTIF($J$61:$L$83,CB182)","v":0}]
[{"$f":"+A180","v":21},{"$f":"IF(①はじめに!F142=TRUE,①はじめに!D137,\"\")","v":""},null,null,null,null,{"$f":"IF(①はじめに!F142=TRUE,\"夜間支援員\",\"\")","v":""},null,null,null,null,null,null,null,{"$f":"IF(①はじめに!F142=TRUE,①はじめに!G137,\"\")","v":""},null,null,{"$f":"IF(①はじめに!F142=TRUE,①はじめに!D139,\"\")&\"\"","v":""},null,null,{"$f":"IF(①はじめに!F142=TRUE,①はじめに!H139,\"\")&\"\"","v":""},null,null,{"$f":"IF(①はじめに!F142=TRUE,①はじめに!F139,\"\")&\"\"","v":""},null,null,null,null,null,null,null,null,null,null,null,null,null,null,null,null,null,null,null,null,null,null,null,null,null,null,null,null,null,0,null,null,0,null,null,null,null,null,null,null,null,null,null,null,null,null,null,null,null,null,null,null,null,null,null,"常勤・兼務",{"$f":"COUNTIF($J$61:$L$83,CB183)","v":0}]
[{"$f":"+A180","v":21},{"$f":"IF(①はじめに!G142=TRUE,①はじめに!D137,\"\")","v":""},null,null,null,null,{"$f":"IF(①はじめに!G142=TRUE,\"日中支援員\",\"\")","v":""},null,null,null,null,null,null,null,{"$f":"IF(①はじめに!G142=TRUE,①はじめに!G137,\"\")","v":""},null,null,{"$f":"IF(①はじめに!G142=TRUE,①はじめに!D139,\"\")&\"\"","v":""},null,null,{"$f":"IF(①はじめに!G142=TRUE,①はじめに!H139,\"\")&\"\"","v":""},null,null,{"$f":"IF(①はじめに!G142=TRUE,①はじめに!F139,\"\")&\"\"","v":""},null,null,null,null,null,null,null,null,null,null,null,null,null,null,null,null,null,null,null,null,null,null,null,null,null,null,null,null,null,0,null,null,0,null,null,null,null,null,null,null,null,null,null,null,null,null,null,null,null,null,null,null,null,null,null,"非常勤・専従",{"$f":"COUNTIF($J$61:$L$83,CB184)","v":0}]
[{"$f":"+A180","v":21},{"$f":"IF(①はじめに!H142=TRUE,①はじめに!D137,\"\")","v":""},null,null,null,null,{"$f":"IF(①はじめに!H142=TRUE,\"加配要員\",\"\")","v":""},null,null,null,null,null,null,null,{"$f":"IF(①はじめに!H142=TRUE,①はじめに!G137,\"\")","v":""},null,null,{"$f":"IF(①はじめに!H142=TRUE,①はじめに!D139,\"\")&\"\"","v":""},null,null,{"$f":"IF(①はじめに!H142=TRUE,①はじめに!H139,\"\")&\"\"","v":""},null,null,{"$f":"IF(①はじめに!H142=TRUE,①はじめに!F139,\"\")&\"\"","v":""},null,null,null,null,null,null,null,null,null,null,null,null,null,null,null,null,null,null,null,null,null,null,null,null,null,null,null,null,null,0,null,null,0]
[{"$f":"+A180+1","v":22},{"$f":"IF(①はじめに!C148=TRUE,①はじめに!D143,\"\")","v":""},null,null,null,null,{"$f":"IF(①はじめに!C148=TRUE,\"サービス管理責任者\",\"\")","v":""},null,null,null,null,null,null,null,{"$f":"IF(①はじめに!C148=TRUE,①はじめに!G143,\"\")","v":""},null,null,{"$f":"IF(①はじめに!C148=TRUE,①はじめに!D145,\"\")&\"\"","v":""},null,null,{"$f":"IF(①はじめに!C148=TRUE,①はじめに!H145,\"\")&\"\"","v":""},null,null,{"$f":"IF(①はじめに!C148=TRUE,①はじめに!F145,\"\")&\"\"","v":""},null,null,null,null,null,null,null,null,null,null,null,null,null,null,null,null,null,null,null,null,null,null,null,null,null,null,null,null,null,0,null,null,0]
[{"$f":"+A186","v":22},{"$f":"IF(①はじめに!D148=TRUE,①はじめに!D143,\"\")","v":""},null,null,null,null,{"$f":"IF(①はじめに!D148=TRUE,\"世話人\",\"\")","v":""},null,null,null,null,null,null,null,{"$f":"IF(①はじめに!D148=TRUE,①はじめに!G143,\"\")","v":""},null,null,{"$f":"IF(①はじめに!D148=TRUE,①はじめに!D145,\"\")&\"\"","v":""},null,null,{"$f":"IF(①はじめに!D148=TRUE,①はじめに!H145,\"\")&\"\"","v":""},null,null,{"$f":"IF(①はじめに!D148=TRUE,①はじめに!F145,\"\")&\"\"","v":""},null,null,null,null,null,null,null,null,null,null,null,null,null,null,null,null,null,null,null,null,null,null,null,null,null,null,null,null,null,0,null,null,0]
[{"$f":"+A186","v":22},{"$f":"IF(①はじめに!E148=TRUE,①はじめに!D143,\"\")","v":""},null,null,null,null,{"$f":"IF(①はじめに!E148=TRUE,\"生活支援員\",\"\")","v":""},null,null,null,null,null,null,null,{"$f":"IF(①はじめに!E148=TRUE,①はじめに!G143,\"\")","v":""},null,null,{"$f":"IF(①はじめに!E148=TRUE,①はじめに!D145,\"\")&\"\"","v":""},null,null,{"$f":"IF(①はじめに!E148=TRUE,①はじめに!H145,\"\")&\"\"","v":""},null,null,{"$f":"IF(①はじめに!E148=TRUE,①はじめに!F145,\"\")&\"\"","v":""},null,null,null,null,null,null,null,null,null,null,null,null,null,null,null,null,null,null,null,null,null,null,null,null,null,null,null,null,null,0,null,null,0,null,null,null,null,null,null,null,null,null,null,null,null,null,null,null,null,null,null,null,null,null,null,"常勤・専従",{"$f":"COUNTIF($J$61:$L$83,CB188)","v":0}]
[{"$f":"+A186","v":22},{"$f":"IF(①はじめに!F148=TRUE,①はじめに!D143,\"\")","v":""},null,null,null,null,{"$f":"IF(①はじめに!F148=TRUE,\"夜間支援員\",\"\")","v":""},null,null,null,null,null,null,null,{"$f":"IF(①はじめに!F148=TRUE,①はじめに!G143,\"\")","v":""},null,null,{"$f":"IF(①はじめに!F148=TRUE,①はじめに!D145,\"\")&\"\"","v":""},null,null,{"$f":"IF(①はじめに!F148=TRUE,①はじめに!H145,\"\")&\"\"","v":""},null,null,{"$f":"IF(①はじめに!F148=TRUE,①はじめに!F145,\"\")&\"\"","v":""},null,null,null,null,null,null,null,null,null,null,null,null,null,null,null,null,null,null,null,null,null,null,null,null,null,null,null,null,null,0,null,null,0,null,null,null,null,null,null,null,null,null,null,null,null,null,null,null,null,null,null,null,null,null,null,"常勤・兼務",{"$f":"COUNTIF($J$61:$L$83,CB189)","v":0}]
[{"$f":"+A186","v":22},{"$f":"IF(①はじめに!G148=TRUE,①はじめに!D143,\"\")","v":""},null,null,null,null,{"$f":"IF(①はじめに!G148=TRUE,\"日中支援員\",\"\")","v":""},null,null,null,null,null,null,null,{"$f":"IF(①はじめに!G148=TRUE,①はじめに!G143,\"\")","v":""},null,null,{"$f":"IF(①はじめに!G148=TRUE,①はじめに!D145,\"\")&\"\"","v":""},null,null,{"$f":"IF(①はじめに!G148=TRUE,①はじめに!H145,\"\")&\"\"","v":""},null,null,{"$f":"IF(①はじめに!G148=TRUE,①はじめに!F145,\"\")&\"\"","v":""},null,null,null,null,null,null,null,null,null,null,null,null,null,null,null,null,null,null,null,null,null,null,null,null,null,null,null,null,null,0,null,null,0]
[{"$f":"+A186","v":22},{"$f":"IF(①はじめに!H148=TRUE,①はじめに!D143,\"\")","v":""},null,null,null,null,{"$f":"IF(①はじめに!H148=TRUE,\"加配要員\",\"\")","v":""},null,null,null,null,null,null,null,{"$f":"IF(①はじめに!H148=TRUE,①はじめに!G143,\"\")","v":""},null,null,{"$f":"IF(①はじめに!H148=TRUE,①はじめに!D145,\"\")&\"\"","v":""},null,null,{"$f":"IF(①はじめに!H148=TRUE,①はじめに!H145,\"\")&\"\"","v":""},null,null,{"$f":"IF(①はじめに!H148=TRUE,①はじめに!F145,\"\")&\"\"","v":""},null,null,null,null,null,null,null,null,null,null,null,null,null,null,null,null,null,null,null,null,null,null,null,null,null,null,null,null,null,0,null,null,0]
[{"$f":"+A186+1","v":23},{"$f":"IF(①はじめに!C154=TRUE,①はじめに!D149,\"\")","v":""},null,null,null,null,{"$f":"IF(①はじめに!C154=TRUE,\"サービス管理責任者\",\"\")","v":""},null,null,null,null,null,null,null,{"$f":"IF(①はじめに!C154=TRUE,①はじめに!G149,\"\")","v":""},null,null,{"$f":"IF(①はじめに!C154=TRUE,①はじめに!D151,\"\")&\"\"","v":""},null,null,{"$f":"IF(①はじめに!C154=TRUE,①はじめに!H151,\"\")&\"\"","v":""},null,null,{"$f":"IF(①はじめに!C154=TRUE,①はじめに!F151,\"\")&\"\"","v":""},null,null,null,null,null,null,null,null,null,null,null,null,null,null,null,null,null,null,null,null,null,null,null,null,null,null,null,null,null,0,null,null,0,null,null,null,null,null,null,null,null,null,null,null,null,null,null,null,null,null,null,null,null,null,null,"常勤・専従",{"$f":"COUNTIF($J$61:$L$83,CB192)","v":0}]
[{"$f":"+A192","v":23},{"$f":"IF(①はじめに!D154=TRUE,①はじめに!D149,\"\")","v":""},null,null,null,null,{"$f":"IF(①はじめに!D154=TRUE,\"世話人\",\"\")","v":""},null,null,null,null,null,null,null,{"$f":"IF(①はじめに!D154=TRUE,①はじめに!G149,\"\")","v":""},null,null,{"$f":"IF(①はじめに!D154=TRUE,①はじめに!D151,\"\")&\"\"","v":""},null,null,{"$f":"IF(①はじめに!D154=TRUE,①はじめに!H151,\"\")&\"\"","v":""},null,null,{"$f":"IF(①はじめに!D154=TRUE,①はじめに!F151,\"\")&\"\"","v":""},null,null,null,null,null,null,null,null,null,null,null,null,null,null,null,null,null,null,null,null,null,null,null,null,null,null,null,null,null,0,null,null,0,null,null,null,null,null,null,null,null,null,null,null,null,null,null,null,null,null,null,null,null,null,null,"常勤・兼務",{"$f":"COUNTIF($J$61:$L$83,CB193)","v":0}]
[{"$f":"+A192","v":23},{"$f":"IF(①はじめに!E154=TRUE,①はじめに!D149,\"\")","v":""},null,null,null,null,{"$f":"IF(①はじめに!E154=TRUE,\"生活支援員\",\"\")","v":""},null,null,null,null,null,null,null,{"$f":"IF(①はじめに!E154=TRUE,①はじめに!G149,\"\")","v":""},null,null,{"$f":"IF(①はじめに!E154=TRUE,①はじめに!D151,\"\")&\"\"","v":""},null,null,{"$f":"IF(①はじめに!E154=TRUE,①はじめに!H151,\"\")&\"\"","v":""},null,null,{"$f":"IF(①はじめに!E154=TRUE,①はじめに!F151,\"\")&\"\"","v":""},null,null,null,null,null,null,null,null,null,null,null,null,null,null,null,null,null,null,null,null,null,null,null,null,null,null,null,null,null,0,null,null,0,null,null,null,null,null,null,null,null,null,null,null,null,null,null,null,null,null,null,null,null,null,null,"非常勤・専従",{"$f":"COUNTIF($J$61:$L$83,CB194)","v":0}]
[{"$f":"+A192","v":23},{"$f":"IF(①はじめに!F154=TRUE,①はじめに!D149,\"\")","v":""},null,null,null,null,{"$f":"IF(①はじめに!F154=TRUE,\"夜間支援員\",\"\")","v":""},null,null,null,null,null,null,null,{"$f":"IF(①はじめに!F154=TRUE,①はじめに!G149,\"\")","v":""},null,null,{"$f":"IF(①はじめに!F154=TRUE,①はじめに!D151,\"\")&\"\"","v":""},null,null,{"$f":"IF(①はじめに!F154=TRUE,①はじめに!H151,\"\")&\"\"","v":""},null,null,{"$f":"IF(①はじめに!F154=TRUE,①はじめに!F151,\"\")&\"\"","v":""},null,null,null,null,null,null,null,null,null,null,null,null,null,null,null,null,null,null,null,null,null,null,null,null,null,null,null,null,null,0,null,null,0]
[{"$f":"+A192","v":23},{"$f":"IF(①はじめに!G154=TRUE,①はじめに!D149,\"\")","v":""},null,null,null,null,{"$f":"IF(①はじめに!G154=TRUE,\"日中支援員\",\"\")","v":""},null,null,null,null,null,null,null,{"$f":"IF(①はじめに!G154=TRUE,①はじめに!G149,\"\")","v":""},null,null,{"$f":"IF(①はじめに!G154=TRUE,①はじめに!D151,\"\")&\"\"","v":""},null,null,{"$f":"IF(①はじめに!G154=TRUE,①はじめに!H151,\"\")&\"\"","v":""},null,null,{"$f":"IF(①はじめに!G154=TRUE,①はじめに!F151,\"\")&\"\"","v":""},null,null,null,null,null,null,null,null,null,null,null,null,null,null,null,null,null,null,null,null,null,null,null,null,null,null,null,null,null,0,null,null,0]
[{"$f":"+A192","v":23},{"$f":"IF(①はじめに!H154=TRUE,①はじめに!D149,\"\")","v":""},null,null,null,null,{"$f":"IF(①はじめに!H154=TRUE,\"加配要員\",\"\")","v":""},null,null,null,null,null,null,null,{"$f":"IF(①はじめに!H154=TRUE,①はじめに!G149,\"\")","v":""},null,null,{"$f":"IF(①はじめに!H154=TRUE,①はじめに!D151,\"\")&\"\"","v":""},null,null,{"$f":"IF(①はじめに!H154=TRUE,①はじめに!H151,\"\")&\"\"","v":""},null,null,{"$f":"IF(①はじめに!H154=TRUE,①はじめに!F151,\"\")&\"\"","v":""},null,null,null,null,null,null,null,null,null,null,null,null,null,null,null,null,null,null,null,null,null,null,null,null,null,null,null,null,null,0,null,null,0]
[{"$f":"+A192+1","v":24},{"$f":"IF(①はじめに!C160=TRUE,①はじめに!D155,\"\")","v":""},null,null,null,null,{"$f":"IF(①はじめに!C160=TRUE,\"サービス管理責任者\",\"\")","v":""},null,null,null,null,null,null,null,{"$f":"IF(①はじめに!C160=TRUE,①はじめに!G155,\"\")","v":""},null,null,{"$f":"IF(①はじめに!C160=TRUE,①はじめに!D157,\"\")&\"\"","v":""},null,null,{"$f":"IF(①はじめに!C160=TRUE,①はじめに!H157,\"\")&\"\"","v":""},null,null,{"$f":"IF(①はじめに!C160=TRUE,①はじめに!F157,\"\")&\"\"","v":""},null,null,null,null,null,null,null,null,null,null,null,null,null,null,null,null,null,null,null,null,null,null,null,null,null,null,null,null,null,0,null,null,0]
[{"$f":"+A198","v":24},{"$f":"IF(①はじめに!D160=TRUE,①はじめに!D155,\"\")","v":""},null,null,null,null,{"$f":"IF(①はじめに!D160=TRUE,\"世話人\",\"\")","v":""},null,null,null,null,null,null,null,{"$f":"IF(①はじめに!D160=TRUE,①はじめに!G155,\"\")","v":""},null,null,{"$f":"IF(①はじめに!D160=TRUE,①はじめに!D157,\"\")&\"\"","v":""},null,null,{"$f":"IF(①はじめに!D160=TRUE,①はじめに!H157,\"\")&\"\"","v":""},null,null,{"$f":"IF(①はじめに!D160=TRUE,①はじめに!F157,\"\")&\"\"","v":""},null,null,null,null,null,null,null,null,null,null,null,null,null,null,null,null,null,null,null,null,null,null,null,null,null,null,null,null,null,0,null,null,0]
[{"$f":"+A198","v":24},{"$f":"IF(①はじめに!E160=TRUE,①はじめに!D155,\"\")","v":""},null,null,null,null,{"$f":"IF(①はじめに!E160=TRUE,\"生活支援員\",\"\")","v":""},null,null,null,null,null,null,null,{"$f":"IF(①はじめに!E160=TRUE,①はじめに!G155,\"\")","v":""},null,null,{"$f":"IF(①はじめに!E160=TRUE,①はじめに!D157,\"\")&\"\"","v":""},null,null,{"$f":"IF(①はじめに!E160=TRUE,①はじめに!H157,\"\")&\"\"","v":""},null,null,{"$f":"IF(①はじめに!E160=TRUE,①はじめに!F157,\"\")&\"\"","v":""},null,null,null,null,null,null,null,null,null,null,null,null,null,null,null,null,null,null,null,null,null,null,null,null,null,null,null,null,null,0,null,null,0,null,null,null,null,null,null,null,null,null,null,null,null,null,null,null,null,null,null,null,null,null,null,"常勤・専従",{"$f":"COUNTIF($J$61:$L$83,CB200)","v":0}]
[{"$f":"+A198","v":24},{"$f":"IF(①はじめに!F160=TRUE,①はじめに!D155,\"\")","v":""},null,null,null,null,{"$f":"IF(①はじめに!F160=TRUE,\"夜間支援員\",\"\")","v":""},null,null,null,null,null,null,null,{"$f":"IF(①はじめに!F160=TRUE,①はじめに!G155,\"\")","v":""},null,null,{"$f":"IF(①はじめに!F160=TRUE,①はじめに!D157,\"\")&\"\"","v":""},null,null,{"$f":"IF(①はじめに!F160=TRUE,①はじめに!H157,\"\")&\"\"","v":""},null,null,{"$f":"IF(①はじめに!F160=TRUE,①はじめに!F157,\"\")&\"\"","v":""},null,null,null,null,null,null,null,null,null,null,null,null,null,null,null,null,null,null,null,null,null,null,null,null,null,null,null,null,null,0,null,null,0,null,null,null,null,null,null,null,null,null,null,null,null,null,null,null,null,null,null,null,null,null,null,"常勤・兼務",{"$f":"COUNTIF($J$61:$L$83,CB201)","v":0}]
[{"$f":"+A198","v":24},{"$f":"IF(①はじめに!G160=TRUE,①はじめに!D155,\"\")","v":""},null,null,null,null,{"$f":"IF(①はじめに!G160=TRUE,\"日中支援員\",\"\")","v":""},null,null,null,null,null,null,null,{"$f":"IF(①はじめに!G160=TRUE,①はじめに!G155,\"\")","v":""},null,null,{"$f":"IF(①はじめに!G160=TRUE,①はじめに!D157,\"\")&\"\"","v":""},null,null,{"$f":"IF(①はじめに!G160=TRUE,①はじめに!H157,\"\")&\"\"","v":""},null,null,{"$f":"IF(①はじめに!G160=TRUE,①はじめに!F157,\"\")&\"\"","v":""},null,null,null,null,null,null,null,null,null,null,null,null,null,null,null,null,null,null,null,null,null,null,null,null,null,null,null,null,null,0,null,null,0]
[{"$f":"+A198","v":24},{"$f":"IF(①はじめに!H160=TRUE,①はじめに!D155,\"\")","v":""},null,null,null,null,{"$f":"IF(①はじめに!H160=TRUE,\"加配要員\",\"\")","v":""},null,null,null,null,null,null,null,{"$f":"IF(①はじめに!H160=TRUE,①はじめに!G155,\"\")","v":""},null,null,{"$f":"IF(①はじめに!H160=TRUE,①はじめに!D157,\"\")&\"\"","v":""},null,null,{"$f":"IF(①はじめに!H160=TRUE,①はじめに!H157,\"\")&\"\"","v":""},null,null,{"$f":"IF(①はじめに!H160=TRUE,①はじめに!F157,\"\")&\"\"","v":""},null,null,null,null,null,null,null,null,null,null,null,null,null,null,null,null,null,null,null,null,null,null,null,null,null,null,null,null,null,0,null,null,0]
[{"$f":"+A198+1","v":25},{"$f":"IF(①はじめに!C166=TRUE,①はじめに!D161,\"\")","v":""},null,null,null,null,{"$f":"IF(①はじめに!C166=TRUE,\"サービス管理責任者\",\"\")","v":""},null,null,null,null,null,null,null,{"$f":"IF(①はじめに!C166=TRUE,①はじめに!G161,\"\")","v":""},null,null,{"$f":"IF(①はじめに!C166=TRUE,①はじめに!D163,\"\")&\"\"","v":""},null,null,{"$f":"IF(①はじめに!C166=TRUE,①はじめに!H163,\"\")&\"\"","v":""},null,null,{"$f":"IF(①はじめに!C166=TRUE,①はじめに!F163,\"\")&\"\"","v":""},null,null,null,null,null,null,null,null,null,null,null,null,null,null,null,null,null,null,null,null,null,null,null,null,null,null,null,null,null,0,null,null,0,null,null,null,null,null,null,null,null,null,null,null,null,null,null,null,null,null,null,null,null,null,null,"常勤・専従",{"$f":"COUNTIF($J$61:$L$83,CB204)","v":0}]
[{"$f":"+A204","v":25},{"$f":"IF(①はじめに!D166=TRUE,①はじめに!D161,\"\")","v":""},null,null,null,null,{"$f":"IF(①はじめに!D166=TRUE,\"世話人\",\"\")","v":""},null,null,null,null,null,null,null,{"$f":"IF(①はじめに!D166=TRUE,①はじめに!G161,\"\")","v":""},null,null,{"$f":"IF(①はじめに!D166=TRUE,①はじめに!D163,\"\")&\"\"","v":""},null,null,{"$f":"IF(①はじめに!D166=TRUE,①はじめに!H163,\"\")&\"\"","v":""},null,null,{"$f":"IF(①はじめに!D166=TRUE,①はじめに!F163,\"\")&\"\"","v":""},null,null,null,null,null,null,null,null,null,null,null,null,null,null,null,null,null,null,null,null,null,null,null,null,null,null,null,null,null,0,null,null,0,null,null,null,null,null,null,null,null,null,null,null,null,null,null,null,null,null,null,null,null,null,null,"常勤・兼務",{"$f":"COUNTIF($J$61:$L$83,CB205)","v":0}]
[{"$f":"+A204","v":25},{"$f":"IF(①はじめに!E166=TRUE,①はじめに!D161,\"\")","v":""},null,null,null,null,{"$f":"IF(①はじめに!E166=TRUE,\"生活支援員\",\"\")","v":""},null,null,null,null,null,null,null,{"$f":"IF(①はじめに!E166=TRUE,①はじめに!G161,\"\")","v":""},null,null,{"$f":"IF(①はじめに!E166=TRUE,①はじめに!D163,\"\")&\"\"","v":""},null,null,{"$f":"IF(①はじめに!E166=TRUE,①はじめに!H163,\"\")&\"\"","v":""},null,null,{"$f":"IF(①はじめに!E166=TRUE,①はじめに!F163,\"\")&\"\"","v":""},null,null,null,null,null,null,null,null,null,null,null,null,null,null,null,null,null,null,null,null,null,null,null,null,null,null,null,null,null,0,null,null,0,null,null,null,null,null,null,null,null,null,null,null,null,null,null,null,null,null,null,null,null,null,null,"非常勤・専従",{"$f":"COUNTIF($J$61:$L$83,CB206)","v":0}]
[{"$f":"+A204","v":25},{"$f":"IF(①はじめに!F166=TRUE,①はじめに!D161,\"\")","v":""},null,null,null,null,{"$f":"IF(①はじめに!F166=TRUE,\"夜間支援員\",\"\")","v":""},null,null,null,null,null,null,null,{"$f":"IF(①はじめに!F166=TRUE,①はじめに!G161,\"\")","v":""},null,null,{"$f":"IF(①はじめに!F166=TRUE,①はじめに!D163,\"\")&\"\"","v":""},null,null,{"$f":"IF(①はじめに!F166=TRUE,①はじめに!H163,\"\")&\"\"","v":""},null,null,{"$f":"IF(①はじめに!F166=TRUE,①はじめに!F163,\"\")&\"\"","v":""},null,null,null,null,null,null,null,null,null,null,null,null,null,null,null,null,null,null,null,null,null,null,null,null,null,null,null,null,null,0,null,null,0]
[{"$f":"+A204","v":25},{"$f":"IF(①はじめに!G166=TRUE,①はじめに!D161,\"\")","v":""},null,null,null,null,{"$f":"IF(①はじめに!G166=TRUE,\"日中支援員\",\"\")","v":""},null,null,null,null,null,null,null,{"$f":"IF(①はじめに!G166=TRUE,①はじめに!G161,\"\")","v":""},null,null,{"$f":"IF(①はじめに!G166=TRUE,①はじめに!D163,\"\")&\"\"","v":""},null,null,{"$f":"IF(①はじめに!G166=TRUE,①はじめに!H163,\"\")&\"\"","v":""},null,null,{"$f":"IF(①はじめに!G166=TRUE,①はじめに!F163,\"\")&\"\"","v":""},null,null,null,null,null,null,null,null,null,null,null,null,null,null,null,null,null,null,null,null,null,null,null,null,null,null,null,null,null,0,null,null,0]
[{"$f":"+A204","v":25},{"$f":"IF(①はじめに!H166=TRUE,①はじめに!D161,\"\")","v":""},null,null,null,null,{"$f":"IF(①はじめに!H166=TRUE,\"加配要員\",\"\")","v":""},null,null,null,null,null,null,null,{"$f":"IF(①はじめに!H166=TRUE,①はじめに!G161,\"\")","v":""},null,null,{"$f":"IF(①はじめに!H166=TRUE,①はじめに!D163,\"\")&\"\"","v":""},null,null,{"$f":"IF(①はじめに!H166=TRUE,①はじめに!H163,\"\")&\"\"","v":""},null,null,{"$f":"IF(①はじめに!H166=TRUE,①はじめに!F163,\"\")&\"\"","v":""},null,null,null,null,null,null,null,null,null,null,null,null,null,null,null,null,null,null,null,null,null,null,null,null,null,null,null,null,null,0,null,null,0]
[{"$f":"+A204+1","v":26},{"$f":"IF(①はじめに!C172=TRUE,①はじめに!D167,\"\")","v":""},null,null,null,null,{"$f":"IF(①はじめに!C172=TRUE,\"サービス管理責任者\",\"\")","v":""},null,null,null,null,null,null,null,{"$f":"IF(①はじめに!C172=TRUE,①はじめに!G167,\"\")","v":""},null,null,{"$f":"IF(①はじめに!C172=TRUE,①はじめに!D169,\"\")&\"\"","v":""},null,null,{"$f":"IF(①はじめに!C172=TRUE,①はじめに!H169,\"\")&\"\"","v":""},null,null,{"$f":"IF(①はじめに!C172=TRUE,①はじめに!F169,\"\")&\"\"","v":""},null,null,null,null,null,null,null,null,null,null,null,null,null,null,null,null,null,null,null,null,null,null,null,null,null,null,null,null,null,0,null,null,0]
[{"$f":"+A210","v":26},{"$f":"IF(①はじめに!D172=TRUE,①はじめに!D167,\"\")","v":""},null,null,null,null,{"$f":"IF(①はじめに!D172=TRUE,\"世話人\",\"\")","v":""},null,null,null,null,null,null,null,{"$f":"IF(①はじめに!D172=TRUE,①はじめに!G167,\"\")","v":""},null,null,{"$f":"IF(①はじめに!D172=TRUE,①はじめに!D169,\"\")&\"\"","v":""},null,null,{"$f":"IF(①はじめに!D172=TRUE,①はじめに!H169,\"\")&\"\"","v":""},null,null,{"$f":"IF(①はじめに!D172=TRUE,①はじめに!F169,\"\")&\"\"","v":""},null,null,null,null,null,null,null,null,null,null,null,null,null,null,null,null,null,null,null,null,null,null,null,null,null,null,null,null,null,0,null,null,0]
[{"$f":"+A210","v":26},{"$f":"IF(①はじめに!E172=TRUE,①はじめに!D167,\"\")","v":""},null,null,null,null,{"$f":"IF(①はじめに!E172=TRUE,\"生活支援員\",\"\")","v":""},null,null,null,null,null,null,null,{"$f":"IF(①はじめに!E172=TRUE,①はじめに!G167,\"\")","v":""},null,null,{"$f":"IF(①はじめに!E172=TRUE,①はじめに!D169,\"\")&\"\"","v":""},null,null,{"$f":"IF(①はじめに!E172=TRUE,①はじめに!H169,\"\")&\"\"","v":""},null,null,{"$f":"IF(①はじめに!E172=TRUE,①はじめに!F169,\"\")&\"\"","v":""},null,null,null,null,null,null,null,null,null,null,null,null,null,null,null,null,null,null,null,null,null,null,null,null,null,null,null,null,null,0,null,null,0,null,null,null,null,null,null,null,null,null,null,null,null,null,null,null,null,null,null,null,null,null,null,"常勤・専従",{"$f":"COUNTIF($J$61:$L$83,CB212)","v":0}]
[{"$f":"+A210","v":26},{"$f":"IF(①はじめに!F172=TRUE,①はじめに!D167,\"\")","v":""},null,null,null,null,{"$f":"IF(①はじめに!F172=TRUE,\"夜間支援員\",\"\")","v":""},null,null,null,null,null,null,null,{"$f":"IF(①はじめに!F172=TRUE,①はじめに!G167,\"\")","v":""},null,null,{"$f":"IF(①はじめに!F172=TRUE,①はじめに!D169,\"\")&\"\"","v":""},null,null,{"$f":"IF(①はじめに!F172=TRUE,①はじめに!H169,\"\")&\"\"","v":""},null,null,{"$f":"IF(①はじめに!F172=TRUE,①はじめに!F169,\"\")&\"\"","v":""},null,null,null,null,null,null,null,null,null,null,null,null,null,null,null,null,null,null,null,null,null,null,null,null,null,null,null,null,null,0,null,null,0,null,null,null,null,null,null,null,null,null,null,null,null,null,null,null,null,null,null,null,null,null,null,"常勤・兼務",{"$f":"COUNTIF($J$61:$L$83,CB213)","v":0}]
[{"$f":"+A210","v":26},{"$f":"IF(①はじめに!G172=TRUE,①はじめに!D167,\"\")","v":""},null,null,null,null,{"$f":"IF(①はじめに!G172=TRUE,\"日中支援員\",\"\")","v":""},null,null,null,null,null,null,null,{"$f":"IF(①はじめに!G172=TRUE,①はじめに!G167,\"\")","v":""},null,null,{"$f":"IF(①はじめに!G172=TRUE,①はじめに!D169,\"\")&\"\"","v":""},null,null,{"$f":"IF(①はじめに!G172=TRUE,①はじめに!H169,\"\")&\"\"","v":""},null,null,{"$f":"IF(①はじめに!G172=TRUE,①はじめに!F169,\"\")&\"\"","v":""},null,null,null,null,null,null,null,null,null,null,null,null,null,null,null,null,null,null,null,null,null,null,null,null,null,null,null,null,null,0,null,null,0,null,null,null,null,null,null,null,null,null,null,null,null,null,null,null,null,null,null,null,null,null,null,"非常勤・専従",{"$f":"COUNTIF($J$61:$L$83,CB214)","v":0}]
[{"$f":"+A210","v":26},{"$f":"IF(①はじめに!H172=TRUE,①はじめに!D167,\"\")","v":""},null,null,null,null,{"$f":"IF(①はじめに!H172=TRUE,\"加配要員\",\"\")","v":""},null,null,null,null,null,null,null,{"$f":"IF(①はじめに!H172=TRUE,①はじめに!G167,\"\")","v":""},null,null,{"$f":"IF(①はじめに!H172=TRUE,①はじめに!D169,\"\")&\"\"","v":""},null,null,{"$f":"IF(①はじめに!H172=TRUE,①はじめに!H169,\"\")&\"\"","v":""},null,null,{"$f":"IF(①はじめに!H172=TRUE,①はじめに!F169,\"\")&\"\"","v":""},null,null,null,null,null,null,null,null,null,null,null,null,null,null,null,null,null,null,null,null,null,null,null,null,null,null,null,null,null,0,null,null,0]
[{"$f":"+A210+1","v":27},{"$f":"IF(①はじめに!C178=TRUE,①はじめに!D173,\"\")","v":""},null,null,null,null,{"$f":"IF(①はじめに!C178=TRUE,\"サービス管理責任者\",\"\")","v":""},null,null,null,null,null,null,null,{"$f":"IF(①はじめに!C178=TRUE,①はじめに!G173,\"\")","v":""},null,null,{"$f":"IF(①はじめに!C178=TRUE,①はじめに!D175,\"\")&\"\"","v":""},null,null,{"$f":"IF(①はじめに!C178=TRUE,①はじめに!H175,\"\")&\"\"","v":""},null,null,{"$f":"IF(①はじめに!C178=TRUE,①はじめに!F175,\"\")&\"\"","v":""},null,null,null,null,null,null,null,null,null,null,null,null,null,null,null,null,null,null,null,null,null,null,null,null,null,null,null,null,null,0,null,null,0]
[{"$f":"+A216","v":27},{"$f":"IF(①はじめに!D178=TRUE,①はじめに!D173,\"\")","v":""},null,null,null,null,{"$f":"IF(①はじめに!D178=TRUE,\"世話人\",\"\")","v":""},null,null,null,null,null,null,null,{"$f":"IF(①はじめに!D178=TRUE,①はじめに!G173,\"\")","v":""},null,null,{"$f":"IF(①はじめに!D178=TRUE,①はじめに!D175,\"\")&\"\"","v":""},null,null,{"$f":"IF(①はじめに!D178=TRUE,①はじめに!H175,\"\")&\"\"","v":""},null,null,{"$f":"IF(①はじめに!D178=TRUE,①はじめに!F175,\"\")&\"\"","v":""},null,null,null,null,null,null,null,null,null,null,null,null,null,null,null,null,null,null,null,null,null,null,null,null,null,null,null,null,null,0,null,null,0]
[{"$f":"+A216","v":27},{"$f":"IF(①はじめに!E178=TRUE,①はじめに!D173,\"\")","v":""},null,null,null,null,{"$f":"IF(①はじめに!E178=TRUE,\"生活支援員\",\"\")","v":""},null,null,null,null,null,null,null,{"$f":"IF(①はじめに!E178=TRUE,①はじめに!G173,\"\")","v":""},null,null,{"$f":"IF(①はじめに!E178=TRUE,①はじめに!D175,\"\")&\"\"","v":""},null,null,{"$f":"IF(①はじめに!E178=TRUE,①はじめに!H175,\"\")&\"\"","v":""},null,null,{"$f":"IF(①はじめに!E178=TRUE,①はじめに!F175,\"\")&\"\"","v":""},null,null,null,null,null,null,null,null,null,null,null,null,null,null,null,null,null,null,null,null,null,null,null,null,null,null,null,null,null,0,null,null,0,null,null,null,null,null,null,null,null,null,null,null,null,null,null,null,null,null,null,null,null,null,null,"常勤・専従",{"$f":"COUNTIF($J$61:$L$83,CB218)","v":0}]
[{"$f":"+A216","v":27},{"$f":"IF(①はじめに!F178=TRUE,①はじめに!D173,\"\")","v":""},null,null,null,null,{"$f":"IF(①はじめに!F178=TRUE,\"夜間支援員\",\"\")","v":""},null,null,null,null,null,null,null,{"$f":"IF(①はじめに!F178=TRUE,①はじめに!G173,\"\")","v":""},null,null,{"$f":"IF(①はじめに!F178=TRUE,①はじめに!D175,\"\")&\"\"","v":""},null,null,{"$f":"IF(①はじめに!F178=TRUE,①はじめに!H175,\"\")&\"\"","v":""},null,null,{"$f":"IF(①はじめに!F178=TRUE,①はじめに!F175,\"\")&\"\"","v":""},null,null,null,null,null,null,null,null,null,null,null,null,null,null,null,null,null,null,null,null,null,null,null,null,null,null,null,null,null,0,null,null,0,null,null,null,null,null,null,null,null,null,null,null,null,null,null,null,null,null,null,null,null,null,null,"常勤・兼務",{"$f":"COUNTIF($J$61:$L$83,CB219)","v":0}]
[{"$f":"+A216","v":27},{"$f":"IF(①はじめに!G178=TRUE,①はじめに!D173,\"\")","v":""},null,null,null,null,{"$f":"IF(①はじめに!G178=TRUE,\"日中支援員\",\"\")","v":""},null,null,null,null,null,null,null,{"$f":"IF(①はじめに!G178=TRUE,①はじめに!G173,\"\")","v":""},null,null,{"$f":"IF(①はじめに!G178=TRUE,①はじめに!D175,\"\")&\"\"","v":""},null,null,{"$f":"IF(①はじめに!G178=TRUE,①はじめに!H175,\"\")&\"\"","v":""},null,null,{"$f":"IF(①はじめに!G178=TRUE,①はじめに!F175,\"\")&\"\"","v":""},null,null,null,null,null,null,null,null,null,null,null,null,null,null,null,null,null,null,null,null,null,null,null,null,null,null,null,null,null,0,null,null,0]
[{"$f":"+A216","v":27},{"$f":"IF(①はじめに!H178=TRUE,①はじめに!D173,\"\")","v":""},null,null,null,null,{"$f":"IF(①はじめに!H178=TRUE,\"加配要員\",\"\")","v":""},null,null,null,null,null,null,null,{"$f":"IF(①はじめに!H178=TRUE,①はじめに!G173,\"\")","v":""},null,null,{"$f":"IF(①はじめに!H178=TRUE,①はじめに!D175,\"\")&\"\"","v":""},null,null,{"$f":"IF(①はじめに!H178=TRUE,①はじめに!H175,\"\")&\"\"","v":""},null,null,{"$f":"IF(①はじめに!H178=TRUE,①はじめに!F175,\"\")&\"\"","v":""},null,null,null,null,null,null,null,null,null,null,null,null,null,null,null,null,null,null,null,null,null,null,null,null,null,null,null,null,null,0,null,null,0]
[{"$f":"+A216+1","v":28},{"$f":"IF(①はじめに!C184=TRUE,①はじめに!D179,\"\")","v":""},null,null,null,null,{"$f":"IF(①はじめに!C184=TRUE,\"サービス管理責任者\",\"\")","v":""},null,null,null,null,null,null,null,{"$f":"IF(①はじめに!C184=TRUE,①はじめに!G179,\"\")","v":""},null,null,{"$f":"IF(①はじめに!C184=TRUE,①はじめに!D181,\"\")&\"\"","v":""},null,null,{"$f":"IF(①はじめに!C184=TRUE,①はじめに!H181,\"\")&\"\"","v":""},null,null,{"$f":"IF(①はじめに!C184=TRUE,①はじめに!F181,\"\")&\"\"","v":""},null,null,null,null,null,null,null,null,null,null,null,null,null,null,null,null,null,null,null,null,null,null,null,null,null,null,null,null,null,0,null,null,0,null,null,null,null,null,null,null,null,null,null,null,null,null,null,null,null,null,null,null,null,null,null,"常勤・専従",{"$f":"COUNTIF($J$61:$L$83,CB222)","v":0}]
[{"$f":"+A222","v":28},{"$f":"IF(①はじめに!D184=TRUE,①はじめに!D179,\"\")","v":""},null,null,null,null,{"$f":"IF(①はじめに!D184=TRUE,\"世話人\",\"\")","v":""},null,null,null,null,null,null,null,{"$f":"IF(①はじめに!D184=TRUE,①はじめに!G179,\"\")","v":""},null,null,{"$f":"IF(①はじめに!D184=TRUE,①はじめに!D181,\"\")&\"\"","v":""},null,null,{"$f":"IF(①はじめに!D184=TRUE,①はじめに!H181,\"\")&\"\"","v":""},null,null,{"$f":"IF(①はじめに!D184=TRUE,①はじめに!F181,\"\")&\"\"","v":""},null,null,null,null,null,null,null,null,null,null,null,null,null,null,null,null,null,null,null,null,null,null,null,null,null,null,null,null,null,0,null,null,0,null,null,null,null,null,null,null,null,null,null,null,null,null,null,null,null,null,null,null,null,null,null,"常勤・兼務",{"$f":"COUNTIF($J$61:$L$83,CB223)","v":0}]
[{"$f":"+A222","v":28},{"$f":"IF(①はじめに!E184=TRUE,①はじめに!D179,\"\")","v":""},null,null,null,null,{"$f":"IF(①はじめに!E184=TRUE,\"生活支援員\",\"\")","v":""},null,null,null,null,null,null,null,{"$f":"IF(①はじめに!E184=TRUE,①はじめに!G179,\"\")","v":""},null,null,{"$f":"IF(①はじめに!E184=TRUE,①はじめに!D181,\"\")&\"\"","v":""},null,null,{"$f":"IF(①はじめに!E184=TRUE,①はじめに!H181,\"\")&\"\"","v":""},null,null,{"$f":"IF(①はじめに!E184=TRUE,①はじめに!F181,\"\")&\"\"","v":""},null,null,null,null,null,null,null,null,null,null,null,null,null,null,null,null,null,null,null,null,null,null,null,null,null,null,null,null,null,0,null,null,0,null,null,null,null,null,null,null,null,null,null,null,null,null,null,null,null,null,null,null,null,null,null,"非常勤・専従",{"$f":"COUNTIF($J$61:$L$83,CB224)","v":0}]
[{"$f":"+A222","v":28},{"$f":"IF(①はじめに!F184=TRUE,①はじめに!D179,\"\")","v":""},null,null,null,null,{"$f":"IF(①はじめに!F184=TRUE,\"夜間支援員\",\"\")","v":""},null,null,null,null,null,null,null,{"$f":"IF(①はじめに!F184=TRUE,①はじめに!G179,\"\")","v":""},null,null,{"$f":"IF(①はじめに!F184=TRUE,①はじめに!D181,\"\")&\"\"","v":""},null,null,{"$f":"IF(①はじめに!F184=TRUE,①はじめに!H181,\"\")&\"\"","v":""},null,null,{"$f":"IF(①はじめに!F184=TRUE,①はじめに!F181,\"\")&\"\"","v":""},null,null,null,null,null,null,null,null,null,null,null,null,null,null,null,null,null,null,null,null,null,null,null,null,null,null,null,null,null,0,null,null,0]
[{"$f":"+A222","v":28},{"$f":"IF(①はじめに!G184=TRUE,①はじめに!D179,\"\")","v":""},null,null,null,null,{"$f":"IF(①はじめに!G184=TRUE,\"日中支援員\",\"\")","v":""},null,null,null,null,null,null,null,{"$f":"IF(①はじめに!G184=TRUE,①はじめに!G179,\"\")","v":""},null,null,{"$f":"IF(①はじめに!G184=TRUE,①はじめに!D181,\"\")&\"\"","v":""},null,null,{"$f":"IF(①はじめに!G184=TRUE,①はじめに!H181,\"\")&\"\"","v":""},null,null,{"$f":"IF(①はじめに!G184=TRUE,①はじめに!F181,\"\")&\"\"","v":""},null,null,null,null,null,null,null,null,null,null,null,null,null,null,null,null,null,null,null,null,null,null,null,null,null,null,null,null,null,0,null,null,0]
[{"$f":"+A222","v":28},{"$f":"IF(①はじめに!H184=TRUE,①はじめに!D179,\"\")","v":""},null,null,null,null,{"$f":"IF(①はじめに!H184=TRUE,\"加配要員\",\"\")","v":""},null,null,null,null,null,null,null,{"$f":"IF(①はじめに!H184=TRUE,①はじめに!G179,\"\")","v":""},null,null,{"$f":"IF(①はじめに!H184=TRUE,①はじめに!D181,\"\")&\"\"","v":""},null,null,{"$f":"IF(①はじめに!H184=TRUE,①はじめに!H181,\"\")&\"\"","v":""},null,null,{"$f":"IF(①はじめに!H184=TRUE,①はじめに!F181,\"\")&\"\"","v":""},null,null,null,null,null,null,null,null,null,null,null,null,null,null,null,null,null,null,null,null,null,null,null,null,null,null,null,null,null,0,null,null,0]
[{"$f":"+A222+1","v":29},{"$f":"IF(①はじめに!C190=TRUE,①はじめに!D185,\"\")","v":""},null,null,null,null,{"$f":"IF(①はじめに!C190=TRUE,\"サービス管理責任者\",\"\")","v":""},null,null,null,null,null,null,null,{"$f":"IF(①はじめに!C190=TRUE,①はじめに!G185,\"\")","v":""},null,null,{"$f":"IF(①はじめに!C190=TRUE,①はじめに!D187,\"\")&\"\"","v":""},null,null,{"$f":"IF(①はじめに!C190=TRUE,①はじめに!H187,\"\")&\"\"","v":""},null,null,{"$f":"IF(①はじめに!C190=TRUE,①はじめに!F187,\"\")&\"\"","v":""},null,null,null,null,null,null,null,null,null,null,null,null,null,null,null,null,null,null,null,null,null,null,null,null,null,null,null,null,null,0,null,null,0]
[{"$f":"+A228","v":29},{"$f":"IF(①はじめに!D190=TRUE,①はじめに!D185,\"\")","v":""},null,null,null,null,{"$f":"IF(①はじめに!D190=TRUE,\"世話人\",\"\")","v":""},null,null,null,null,null,null,null,{"$f":"IF(①はじめに!D190=TRUE,①はじめに!G185,\"\")","v":""},null,null,{"$f":"IF(①はじめに!D190=TRUE,①はじめに!D187,\"\")&\"\"","v":""},null,null,{"$f":"IF(①はじめに!D190=TRUE,①はじめに!H187,\"\")&\"\"","v":""},null,null,{"$f":"IF(①はじめに!D190=TRUE,①はじめに!F187,\"\")&\"\"","v":""},null,null,null,null,null,null,null,null,null,null,null,null,null,null,null,null,null,null,null,null,null,null,null,null,null,null,null,null,null,0,null,null,0]
[{"$f":"+A228","v":29},{"$f":"IF(①はじめに!E190=TRUE,①はじめに!D185,\"\")","v":""},null,null,null,null,{"$f":"IF(①はじめに!E190=TRUE,\"生活支援員\",\"\")","v":""},null,null,null,null,null,null,null,{"$f":"IF(①はじめに!E190=TRUE,①はじめに!G185,\"\")","v":""},null,null,{"$f":"IF(①はじめに!E190=TRUE,①はじめに!D187,\"\")&\"\"","v":""},null,null,{"$f":"IF(①はじめに!E190=TRUE,①はじめに!H187,\"\")&\"\"","v":""},null,null,{"$f":"IF(①はじめに!E190=TRUE,①はじめに!F187,\"\")&\"\"","v":""},null,null,null,null,null,null,null,null,null,null,null,null,null,null,null,null,null,null,null,null,null,null,null,null,null,null,null,null,null,0,null,null,0,null,null,null,null,null,null,null,null,null,null,null,null,null,null,null,null,null,null,null,null,null,null,"常勤・専従",{"$f":"COUNTIF($J$61:$L$83,CB230)","v":0}]
[{"$f":"+A228","v":29},{"$f":"IF(①はじめに!F190=TRUE,①はじめに!D185,\"\")","v":""},null,null,null,null,{"$f":"IF(①はじめに!F190=TRUE,\"夜間支援員\",\"\")","v":""},null,null,null,null,null,null,null,{"$f":"IF(①はじめに!F190=TRUE,①はじめに!G185,\"\")","v":""},null,null,{"$f":"IF(①はじめに!F190=TRUE,①はじめに!D187,\"\")&\"\"","v":""},null,null,{"$f":"IF(①はじめに!F190=TRUE,①はじめに!H187,\"\")&\"\"","v":""},null,null,{"$f":"IF(①はじめに!F190=TRUE,①はじめに!F187,\"\")&\"\"","v":""},null,null,null,null,null,null,null,null,null,null,null,null,null,null,null,null,null,null,null,null,null,null,null,null,null,null,null,null,null,0,null,null,0,null,null,null,null,null,null,null,null,null,null,null,null,null,null,null,null,null,null,null,null,null,null,"常勤・兼務",{"$f":"COUNTIF($J$61:$L$83,CB231)","v":0}]
[{"$f":"+A228","v":29},{"$f":"IF(①はじめに!G190=TRUE,①はじめに!D185,\"\")","v":""},null,null,null,null,{"$f":"IF(①はじめに!G190=TRUE,\"日中支援員\",\"\")","v":""},null,null,null,null,null,null,null,{"$f":"IF(①はじめに!G190=TRUE,①はじめに!G185,\"\")","v":""},null,null,{"$f":"IF(①はじめに!G190=TRUE,①はじめに!D187,\"\")&\"\"","v":""},null,null,{"$f":"IF(①はじめに!G190=TRUE,①はじめに!H187,\"\")&\"\"","v":""},null,null,{"$f":"IF(①はじめに!G190=TRUE,①はじめに!F187,\"\")&\"\"","v":""},null,null,null,null,null,null,null,null,null,null,null,null,null,null,null,null,null,null,null,null,null,null,null,null,null,null,null,null,null,0,null,null,0]
[{"$f":"+A228","v":29},{"$f":"IF(①はじめに!H190=TRUE,①はじめに!D185,\"\")","v":""},null,null,null,null,{"$f":"IF(①はじめに!H190=TRUE,\"加配要員\",\"\")","v":""},null,null,null,null,null,null,null,{"$f":"IF(①はじめに!H190=TRUE,①はじめに!G185,\"\")","v":""},null,null,{"$f":"IF(①はじめに!H190=TRUE,①はじめに!D187,\"\")&\"\"","v":""},null,null,{"$f":"IF(①はじめに!H190=TRUE,①はじめに!H187,\"\")&\"\"","v":""},null,null,{"$f":"IF(①はじめに!H190=TRUE,①はじめに!F187,\"\")&\"\"","v":""},null,null,null,null,null,null,null,null,null,null,null,null,null,null,null,null,null,null,null,null,null,null,null,null,null,null,null,null,null,0,null,null,0]
[{"$f":"+A228+1","v":30},{"$f":"IF(①はじめに!C196=TRUE,①はじめに!D191,\"\")","v":""},null,null,null,null,{"$f":"IF(①はじめに!C196=TRUE,\"サービス管理責任者\",\"\")","v":""},null,null,null,null,null,null,null,{"$f":"IF(①はじめに!C196=TRUE,①はじめに!G191,\"\")","v":""},null,null,{"$f":"IF(①はじめに!C196=TRUE,①はじめに!D193,\"\")&\"\"","v":""},null,null,{"$f":"IF(①はじめに!C196=TRUE,①はじめに!H193,\"\")&\"\"","v":""},null,null,{"$f":"IF(①はじめに!C196=TRUE,①はじめに!F193,\"\")&\"\"","v":""},null,null,null,null,null,null,null,null,null,null,null,null,null,null,null,null,null,null,null,null,null,null,null,null,null,null,null,null,null,0,null,null,0,null,null,null,null,null,null,null,null,null,null,null,null,null,null,null,null,null,null,null,null,null,null,"常勤・専従",{"$f":"COUNTIF($J$61:$L$83,CB234)","v":0}]
[{"$f":"+A234","v":30},{"$f":"IF(①はじめに!D196=TRUE,①はじめに!D191,\"\")","v":""},null,null,null,null,{"$f":"IF(①はじめに!D196=TRUE,\"世話人\",\"\")","v":""},null,null,null,null,null,null,null,{"$f":"IF(①はじめに!D196=TRUE,①はじめに!G191,\"\")","v":""},null,null,{"$f":"IF(①はじめに!D196=TRUE,①はじめに!D193,\"\")&\"\"","v":""},null,null,{"$f":"IF(①はじめに!D196=TRUE,①はじめに!H193,\"\")&\"\"","v":""},null,null,{"$f":"IF(①はじめに!D196=TRUE,①はじめに!F193,\"\")&\"\"","v":""},null,null,null,null,null,null,null,null,null,null,null,null,null,null,null,null,null,null,null,null,null,null,null,null,null,null,null,null,null,0,null,null,0,null,null,null,null,null,null,null,null,null,null,null,null,null,null,null,null,null,null,null,null,null,null,"常勤・兼務",{"$f":"COUNTIF($J$61:$L$83,CB235)","v":0}]
[{"$f":"+A234","v":30},{"$f":"IF(①はじめに!E196=TRUE,①はじめに!D191,\"\")","v":""},null,null,null,null,{"$f":"IF(①はじめに!E196=TRUE,\"生活支援員\",\"\")","v":""},null,null,null,null,null,null,null,{"$f":"IF(①はじめに!E196=TRUE,①はじめに!G191,\"\")","v":""},null,null,{"$f":"IF(①はじめに!E196=TRUE,①はじめに!D193,\"\")&\"\"","v":""},null,null,{"$f":"IF(①はじめに!E196=TRUE,①はじめに!H193,\"\")&\"\"","v":""},null,null,{"$f":"IF(①はじめに!E196=TRUE,①はじめに!F193,\"\")&\"\"","v":""},null,null,null,null,null,null,null,null,null,null,null,null,null,null,null,null,null,null,null,null,null,null,null,null,null,null,null,null,null,0,null,null,0,null,null,null,null,null,null,null,null,null,null,null,null,null,null,null,null,null,null,null,null,null,null,"非常勤・専従",{"$f":"COUNTIF($J$61:$L$83,CB236)","v":0}]
[{"$f":"+A234","v":30},{"$f":"IF(①はじめに!F196=TRUE,①はじめに!D191,\"\")","v":""},null,null,null,null,{"$f":"IF(①はじめに!F196=TRUE,\"夜間支援員\",\"\")","v":""},null,null,null,null,null,null,null,{"$f":"IF(①はじめに!F196=TRUE,①はじめに!G191,\"\")","v":""},null,null,{"$f":"IF(①はじめに!F196=TRUE,①はじめに!D193,\"\")&\"\"","v":""},null,null,{"$f":"IF(①はじめに!F196=TRUE,①はじめに!H193,\"\")&\"\"","v":""},null,null,{"$f":"IF(①はじめに!F196=TRUE,①はじめに!F193,\"\")&\"\"","v":""},null,null,null,null,null,null,null,null,null,null,null,null,null,null,null,null,null,null,null,null,null,null,null,null,null,null,null,null,null,0,null,null,0]
[{"$f":"+A234","v":30},{"$f":"IF(①はじめに!G196=TRUE,①はじめに!D191,\"\")","v":""},null,null,null,null,{"$f":"IF(①はじめに!G196=TRUE,\"日中支援員\",\"\")","v":""},null,null,null,null,null,null,null,{"$f":"IF(①はじめに!G196=TRUE,①はじめに!G191,\"\")","v":""},null,null,{"$f":"IF(①はじめに!G196=TRUE,①はじめに!D193,\"\")&\"\"","v":""},null,null,{"$f":"IF(①はじめに!G196=TRUE,①はじめに!H193,\"\")&\"\"","v":""},null,null,{"$f":"IF(①はじめに!G196=TRUE,①はじめに!F193,\"\")&\"\"","v":""},null,null,null,null,null,null,null,null,null,null,null,null,null,null,null,null,null,null,null,null,null,null,null,null,null,null,null,null,null,{"$f":"SUM(Z238:BA238)","v":0},null,null,{"$f":"BB238/4","v":0}]
[{"$f":"+A234","v":30},{"$f":"IF(①はじめに!H196=TRUE,①はじめに!D191,\"\")","v":""},null,null,null,null,{"$f":"IF(①はじめに!H196=TRUE,\"加配要員\",\"\")","v":""},null,null,null,null,null,null,null,{"$f":"IF(①はじめに!H196=TRUE,①はじめに!G191,\"\")","v":""},null,null,{"$f":"IF(①はじめに!H196=TRUE,①はじめに!D193,\"\")&\"\"","v":""},null,null,{"$f":"IF(①はじめに!H196=TRUE,①はじめに!H193,\"\")&\"\"","v":""},null,null,{"$f":"IF(①はじめに!H196=TRUE,①はじめに!F193,\"\")&\"\"","v":""},null,null,null,null,null,null,null,null,null,null,null,null,null,null,null,null,null,null,null,null,null,null,null,null,null,null,null,null,null,0,null,null,0]
[{"$f":"+A234+1","v":31},{"$f":"IF(①はじめに!C202=TRUE,①はじめに!D197,\"\")","v":""},null,null,null,null,{"$f":"IF(①はじめに!C202=TRUE,\"サービス管理責任者\",\"\")","v":""},null,null,null,null,null,null,null,{"$f":"IF(①はじめに!C202=TRUE,①はじめに!G197,\"\")","v":""},null,null,{"$f":"IF(①はじめに!C202=TRUE,①はじめに!D199,\"\")&\"\"","v":""},null,null,{"$f":"IF(①はじめに!C202=TRUE,①はじめに!H199,\"\")&\"\"","v":""},null,null,{"$f":"IF(①はじめに!C202=TRUE,①はじめに!F199,\"\")&\"\"","v":""},null,null,null,null,null,null,null,null,null,null,null,null,null,null,null,null,null,null,null,null,null,null,null,null,null,null,null,null,null,0,null,null,0]
[{"$f":"+A240","v":31},{"$f":"IF(①はじめに!D202=TRUE,①はじめに!D197,\"\")","v":""},null,null,null,null,{"$f":"IF(①はじめに!D202=TRUE,\"世話人\",\"\")","v":""},null,null,null,null,null,null,null,{"$f":"IF(①はじめに!D202=TRUE,①はじめに!G197,\"\")","v":""},null,null,{"$f":"IF(①はじめに!D202=TRUE,①はじめに!D199,\"\")&\"\"","v":""},null,null,{"$f":"IF(①はじめに!D202=TRUE,①はじめに!H199,\"\")&\"\"","v":""},null,null,{"$f":"IF(①はじめに!D202=TRUE,①はじめに!F199,\"\")&\"\"","v":""},null,null,null,null,null,null,null,null,null,null,null,null,null,null,null,null,null,null,null,null,null,null,null,null,null,null,null,null,null,0,null,null,0]
[{"$f":"+A240","v":31},{"$f":"IF(①はじめに!E202=TRUE,①はじめに!D197,\"\")","v":""},null,null,null,null,{"$f":"IF(①はじめに!E202=TRUE,\"生活支援員\",\"\")","v":""},null,null,null,null,null,null,null,{"$f":"IF(①はじめに!E202=TRUE,①はじめに!G197,\"\")","v":""},null,null,{"$f":"IF(①はじめに!E202=TRUE,①はじめに!D199,\"\")&\"\"","v":""},null,null,{"$f":"IF(①はじめに!E202=TRUE,①はじめに!H199,\"\")&\"\"","v":""},null,null,{"$f":"IF(①はじめに!E202=TRUE,①はじめに!F199,\"\")&\"\"","v":""},null,null,null,null,null,null,null,null,null,null,null,null,null,null,null,null,null,null,null,null,null,null,null,null,null,null,null,null,null,0,null,null,0,null,null,null,null,null,null,null,null,null,null,null,null,null,null,null,null,null,null,null,null,null,null,"常勤・専従",{"$f":"COUNTIF($J$61:$L$83,CB242)","v":0}]
[{"$f":"+A240","v":31},{"$f":"IF(①はじめに!F202=TRUE,①はじめに!D197,\"\")","v":""},null,null,null,null,{"$f":"IF(①はじめに!F202=TRUE,\"夜間支援員\",\"\")","v":""},null,null,null,null,null,null,null,{"$f":"IF(①はじめに!F202=TRUE,①はじめに!G197,\"\")","v":""},null,null,{"$f":"IF(①はじめに!F202=TRUE,①はじめに!D199,\"\")&\"\"","v":""},null,null,{"$f":"IF(①はじめに!F202=TRUE,①はじめに!H199,\"\")&\"\"","v":""},null,null,{"$f":"IF(①はじめに!F202=TRUE,①はじめに!F199,\"\")&\"\"","v":""},null,null,null,null,null,null,null,null,null,null,null,null,null,null,null,null,null,null,null,null,null,null,null,null,null,null,null,null,null,0,null,null,0,null,null,null,null,null,null,null,null,null,null,null,null,null,null,null,null,null,null,null,null,null,null,"常勤・兼務",{"$f":"COUNTIF($J$61:$L$83,CB243)","v":0}]
[{"$f":"+A240","v":31},{"$f":"IF(①はじめに!G202=TRUE,①はじめに!D197,\"\")","v":""},null,null,null,null,{"$f":"IF(①はじめに!G202=TRUE,\"日中支援員\",\"\")","v":""},null,null,null,null,null,null,null,{"$f":"IF(①はじめに!G202=TRUE,①はじめに!G197,\"\")","v":""},null,null,{"$f":"IF(①はじめに!G202=TRUE,①はじめに!D199,\"\")&\"\"","v":""},null,null,{"$f":"IF(①はじめに!G202=TRUE,①はじめに!H199,\"\")&\"\"","v":""},null,null,{"$f":"IF(①はじめに!G202=TRUE,①はじめに!F199,\"\")&\"\"","v":""},null,null,null,null,null,null,null,null,null,null,null,null,null,null,null,null,null,null,null,null,null,null,null,null,null,null,null,null,null,0,null,null,0,null,null,null,null,null,null,null,null,null,null,null,null,null,null,null,null,null,null,null,null,null,null,"非常勤・専従",{"$f":"COUNTIF($J$61:$L$83,CB244)","v":0}]
[{"$f":"+A240","v":31},{"$f":"IF(①はじめに!H202=TRUE,①はじめに!D197,\"\")","v":""},null,null,null,null,{"$f":"IF(①はじめに!H202=TRUE,\"加配要員\",\"\")","v":""},null,null,null,null,null,null,null,{"$f":"IF(①はじめに!H202=TRUE,①はじめに!G197,\"\")","v":""},null,null,{"$f":"IF(①はじめに!H202=TRUE,①はじめに!D199,\"\")&\"\"","v":""},null,null,{"$f":"IF(①はじめに!H202=TRUE,①はじめに!H199,\"\")&\"\"","v":""},null,null,{"$f":"IF(①はじめに!H202=TRUE,①はじめに!F199,\"\")&\"\"","v":""},null,null,null,null,null,null,null,null,null,null,null,null,null,null,null,null,null,null,null,null,null,null,null,null,null,null,null,null,null,0,null,null,0]
[{"$f":"+A240+1","v":32},{"$f":"IF(①はじめに!C208=TRUE,①はじめに!D203,\"\")","v":""},null,null,null,null,{"$f":"IF(①はじめに!C208=TRUE,\"サービス管理責任者\",\"\")","v":""},null,null,null,null,null,null,null,{"$f":"IF(①はじめに!C208=TRUE,①はじめに!G203,\"\")","v":""},null,null,{"$f":"IF(①はじめに!C208=TRUE,①はじめに!D205,\"\")&\"\"","v":""},null,null,{"$f":"IF(①はじめに!C208=TRUE,①はじめに!H205,\"\")&\"\"","v":""},null,null,{"$f":"IF(①はじめに!C208=TRUE,①はじめに!F205,\"\")&\"\"","v":""},null,null,null,null,null,null,null,null,null,null,null,null,null,null,null,null,null,null,null,null,null,null,null,null,null,null,null,null,null,0,null,null,0]
[{"$f":"+A246","v":32},{"$f":"IF(①はじめに!D208=TRUE,①はじめに!D203,\"\")","v":""},null,null,null,null,{"$f":"IF(①はじめに!D208=TRUE,\"世話人\",\"\")","v":""},null,null,null,null,null,null,null,{"$f":"IF(①はじめに!D208=TRUE,①はじめに!G203,\"\")","v":""},null,null,{"$f":"IF(①はじめに!D208=TRUE,①はじめに!D205,\"\")&\"\"","v":""},null,null,{"$f":"IF(①はじめに!D208=TRUE,①はじめに!H205,\"\")&\"\"","v":""},null,null,{"$f":"IF(①はじめに!D208=TRUE,①はじめに!F205,\"\")&\"\"","v":""},null,null,null,null,null,null,null,null,null,null,null,null,null,null,null,null,null,null,null,null,null,null,null,null,null,null,null,null,null,0,null,null,0]
[{"$f":"+A246","v":32},{"$f":"IF(①はじめに!E208=TRUE,①はじめに!D203,\"\")","v":""},null,null,null,null,{"$f":"IF(①はじめに!E208=TRUE,\"生活支援員\",\"\")","v":""},null,null,null,null,null,null,null,{"$f":"IF(①はじめに!E208=TRUE,①はじめに!G203,\"\")","v":""},null,null,{"$f":"IF(①はじめに!E208=TRUE,①はじめに!D205,\"\")&\"\"","v":""},null,null,{"$f":"IF(①はじめに!E208=TRUE,①はじめに!H205,\"\")&\"\"","v":""},null,null,{"$f":"IF(①はじめに!E208=TRUE,①はじめに!F205,\"\")&\"\"","v":""},null,null,null,null,null,null,null,null,null,null,null,null,null,null,null,null,null,null,null,null,null,null,null,null,null,null,null,null,null,0,null,null,0,null,null,null,null,null,null,null,null,null,null,null,null,null,null,null,null,null,null,null,null,null,null,"常勤・専従",{"$f":"COUNTIF($J$61:$L$83,CB248)","v":0}]
[{"$f":"+A246","v":32},{"$f":"IF(①はじめに!F208=TRUE,①はじめに!D203,\"\")","v":""},null,null,null,null,{"$f":"IF(①はじめに!F208=TRUE,\"夜間支援員\",\"\")","v":""},null,null,null,null,null,null,null,{"$f":"IF(①はじめに!F208=TRUE,①はじめに!G203,\"\")","v":""},null,null,{"$f":"IF(①はじめに!F208=TRUE,①はじめに!D205,\"\")&\"\"","v":""},null,null,{"$f":"IF(①はじめに!F208=TRUE,①はじめに!H205,\"\")&\"\"","v":""},null,null,{"$f":"IF(①はじめに!F208=TRUE,①はじめに!F205,\"\")&\"\"","v":""},null,null,null,null,null,null,null,null,null,null,null,null,null,null,null,null,null,null,null,null,null,null,null,null,null,null,null,null,null,0,null,null,0,null,null,null,null,null,null,null,null,null,null,null,null,null,null,null,null,null,null,null,null,null,null,"常勤・兼務",{"$f":"COUNTIF($J$61:$L$83,CB249)","v":0}]
[{"$f":"+A246","v":32},{"$f":"IF(①はじめに!G208=TRUE,①はじめに!D203,\"\")","v":""},null,null,null,null,{"$f":"IF(①はじめに!G208=TRUE,\"日中支援員\",\"\")","v":""},null,null,null,null,null,null,null,{"$f":"IF(①はじめに!G208=TRUE,①はじめに!G203,\"\")","v":""},null,null,{"$f":"IF(①はじめに!G208=TRUE,①はじめに!D205,\"\")&\"\"","v":""},null,null,{"$f":"IF(①はじめに!G208=TRUE,①はじめに!H205,\"\")&\"\"","v":""},null,null,{"$f":"IF(①はじめに!G208=TRUE,①はじめに!F205,\"\")&\"\"","v":""},null,null,null,null,null,null,null,null,null,null,null,null,null,null,null,null,null,null,null,null,null,null,null,null,null,null,null,null,null,0,null,null,0]
[{"$f":"+A246","v":32},{"$f":"IF(①はじめに!H208=TRUE,①はじめに!D203,\"\")","v":""},null,null,null,null,{"$f":"IF(①はじめに!H208=TRUE,\"加配要員\",\"\")","v":""},null,null,null,null,null,null,null,{"$f":"IF(①はじめに!H208=TRUE,①はじめに!G203,\"\")","v":""},null,null,{"$f":"IF(①はじめに!H208=TRUE,①はじめに!D205,\"\")&\"\"","v":""},null,null,{"$f":"IF(①はじめに!H208=TRUE,①はじめに!H205,\"\")&\"\"","v":""},null,null,{"$f":"IF(①はじめに!H208=TRUE,①はじめに!F205,\"\")&\"\"","v":""},null,null,null,null,null,null,null,null,null,null,null,null,null,null,null,null,null,null,null,null,null,null,null,null,null,null,null,null,null,0,null,null,0]
[{"$f":"+A246+1","v":33},{"$f":"IF(①はじめに!C214=TRUE,①はじめに!D209,\"\")","v":""},null,null,null,null,{"$f":"IF(①はじめに!C214=TRUE,\"サービス管理責任者\",\"\")","v":""},null,null,null,null,null,null,null,{"$f":"IF(①はじめに!C214=TRUE,①はじめに!G209,\"\")","v":""},null,null,{"$f":"IF(①はじめに!C214=TRUE,①はじめに!D211,\"\")&\"\"","v":""},null,null,{"$f":"IF(①はじめに!C214=TRUE,①はじめに!H211,\"\")&\"\"","v":""},null,null,{"$f":"IF(①はじめに!C214=TRUE,①はじめに!F211,\"\")&\"\"","v":""},null,null,null,null,null,null,null,null,null,null,null,null,null,null,null,null,null,null,null,null,null,null,null,null,null,null,null,null,null,0,null,null,0,null,null,null,null,null,null,null,null,null,null,null,null,null,null,null,null,null,null,null,null,null,null,"常勤・専従",{"$f":"COUNTIF($J$61:$L$83,CB252)","v":0}]
[{"$f":"+A252","v":33},{"$f":"IF(①はじめに!D214=TRUE,①はじめに!D209,\"\")","v":""},null,null,null,null,{"$f":"IF(①はじめに!D214=TRUE,\"世話人\",\"\")","v":""},null,null,null,null,null,null,null,{"$f":"IF(①はじめに!D214=TRUE,①はじめに!G209,\"\")","v":""},null,null,{"$f":"IF(①はじめに!D214=TRUE,①はじめに!D211,\"\")&\"\"","v":""},null,null,{"$f":"IF(①はじめに!D214=TRUE,①はじめに!H211,\"\")&\"\"","v":""},null,null,{"$f":"IF(①はじめに!D214=TRUE,①はじめに!F211,\"\")&\"\"","v":""},null,null,null,null,null,null,null,null,null,null,null,null,null,null,null,null,null,null,null,null,null,null,null,null,null,null,null,null,null,0,null,null,0,null,null,null,null,null,null,null,null,null,null,null,null,null,null,null,null,null,null,null,null,null,null,"常勤・兼務",{"$f":"COUNTIF($J$61:$L$83,CB253)","v":0}]
[{"$f":"+A252","v":33},{"$f":"IF(①はじめに!E214=TRUE,①はじめに!D209,\"\")","v":""},null,null,null,null,{"$f":"IF(①はじめに!E214=TRUE,\"生活支援員\",\"\")","v":""},null,null,null,null,null,null,null,{"$f":"IF(①はじめに!E214=TRUE,①はじめに!G209,\"\")","v":""},null,null,{"$f":"IF(①はじめに!E214=TRUE,①はじめに!D211,\"\")&\"\"","v":""},null,null,{"$f":"IF(①はじめに!E214=TRUE,①はじめに!H211,\"\")&\"\"","v":""},null,null,{"$f":"IF(①はじめに!E214=TRUE,①はじめに!F211,\"\")&\"\"","v":""},null,null,null,null,null,null,null,null,null,null,null,null,null,null,null,null,null,null,null,null,null,null,null,null,null,null,null,null,null,0,null,null,0,null,null,null,null,null,null,null,null,null,null,null,null,null,null,null,null,null,null,null,null,null,null,"非常勤・専従",{"$f":"COUNTIF($J$61:$L$83,CB254)","v":0}]
[{"$f":"+A252","v":33},{"$f":"IF(①はじめに!F214=TRUE,①はじめに!D209,\"\")","v":""},null,null,null,null,{"$f":"IF(①はじめに!F214=TRUE,\"夜間支援員\",\"\")","v":""},null,null,null,null,null,null,null,{"$f":"IF(①はじめに!F214=TRUE,①はじめに!G209,\"\")","v":""},null,null,{"$f":"IF(①はじめに!F214=TRUE,①はじめに!D211,\"\")&\"\"","v":""},null,null,{"$f":"IF(①はじめに!F214=TRUE,①はじめに!H211,\"\")&\"\"","v":""},null,null,{"$f":"IF(①はじめに!F214=TRUE,①はじめに!F211,\"\")&\"\"","v":""},null,null,null,null,null,null,null,null,null,null,null,null,null,null,null,null,null,null,null,null,null,null,null,null,null,null,null,null,null,0,null,null,0]
[{"$f":"+A252","v":33},{"$f":"IF(①はじめに!G214=TRUE,①はじめに!D209,\"\")","v":""},null,null,null,null,{"$f":"IF(①はじめに!G214=TRUE,\"日中支援員\",\"\")","v":""},null,null,null,null,null,null,null,{"$f":"IF(①はじめに!G214=TRUE,①はじめに!G209,\"\")","v":""},null,null,{"$f":"IF(①はじめに!G214=TRUE,①はじめに!D211,\"\")&\"\"","v":""},null,null,{"$f":"IF(①はじめに!G214=TRUE,①はじめに!H211,\"\")&\"\"","v":""},null,null,{"$f":"IF(①はじめに!G214=TRUE,①はじめに!F211,\"\")&\"\"","v":""},null,null,null,null,null,null,null,null,null,null,null,null,null,null,null,null,null,null,null,null,null,null,null,null,null,null,null,null,null,0,null,null,0]
[{"$f":"+A252","v":33},{"$f":"IF(①はじめに!H214=TRUE,①はじめに!D209,\"\")","v":""},null,null,null,null,{"$f":"IF(①はじめに!H214=TRUE,\"加配要員\",\"\")","v":""},null,null,null,null,null,null,null,{"$f":"IF(①はじめに!H214=TRUE,①はじめに!G209,\"\")","v":""},null,null,{"$f":"IF(①はじめに!H214=TRUE,①はじめに!D211,\"\")&\"\"","v":""},null,null,{"$f":"IF(①はじめに!H214=TRUE,①はじめに!H211,\"\")&\"\"","v":""},null,null,{"$f":"IF(①はじめに!H214=TRUE,①はじめに!F211,\"\")&\"\"","v":""},null,null,null,null,null,null,null,null,null,null,null,null,null,null,null,null,null,null,null,null,null,null,null,null,null,null,null,null,null,0,null,null,0]
[{"$f":"+A252+1","v":34},{"$f":"IF(①はじめに!C220=TRUE,①はじめに!D215,\"\")","v":""},null,null,null,null,{"$f":"IF(①はじめに!C220=TRUE,\"サービス管理責任者\",\"\")","v":""},null,null,null,null,null,null,null,{"$f":"IF(①はじめに!C220=TRUE,①はじめに!G215,\"\")","v":""},null,null,{"$f":"IF(①はじめに!C220=TRUE,①はじめに!D217,\"\")&\"\"","v":""},null,null,{"$f":"IF(①はじめに!C220=TRUE,①はじめに!H217,\"\")&\"\"","v":""},null,null,{"$f":"IF(①はじめに!C220=TRUE,①はじめに!F217,\"\")&\"\"","v":""},null,null,null,null,null,null,null,null,null,null,null,null,null,null,null,null,null,null,null,null,null,null,null,null,null,null,null,null,null,0,null,null,0]
[{"$f":"+A258","v":34},{"$f":"IF(①はじめに!D220=TRUE,①はじめに!D215,\"\")","v":""},null,null,null,null,{"$f":"IF(①はじめに!D220=TRUE,\"世話人\",\"\")","v":""},null,null,null,null,null,null,null,{"$f":"IF(①はじめに!D220=TRUE,①はじめに!G215,\"\")","v":""},null,null,{"$f":"IF(①はじめに!D220=TRUE,①はじめに!D217,\"\")&\"\"","v":""},null,null,{"$f":"IF(①はじめに!D220=TRUE,①はじめに!H217,\"\")&\"\"","v":""},null,null,{"$f":"IF(①はじめに!D220=TRUE,①はじめに!F217,\"\")&\"\"","v":""},null,null,null,null,null,null,null,null,null,null,null,null,null,null,null,null,null,null,null,null,null,null,null,null,null,null,null,null,null,0,null,null,0]
[{"$f":"+A258","v":34},{"$f":"IF(①はじめに!E220=TRUE,①はじめに!D215,\"\")","v":""},null,null,null,null,{"$f":"IF(①はじめに!E220=TRUE,\"生活支援員\",\"\")","v":""},null,null,null,null,null,null,null,{"$f":"IF(①はじめに!E220=TRUE,①はじめに!G215,\"\")","v":""},null,null,{"$f":"IF(①はじめに!E220=TRUE,①はじめに!D217,\"\")&\"\"","v":""},null,null,{"$f":"IF(①はじめに!E220=TRUE,①はじめに!H217,\"\")&\"\"","v":""},null,null,{"$f":"IF(①はじめに!E220=TRUE,①はじめに!F217,\"\")&\"\"","v":""},null,null,null,null,null,null,null,null,null,null,null,null,null,null,null,null,null,null,null,null,null,null,null,null,null,null,null,null,null,0,null,null,0,null,null,null,null,null,null,null,null,null,null,null,null,null,null,null,null,null,null,null,null,null,null,"常勤・専従",{"$f":"COUNTIF($J$61:$L$83,CB260)","v":0}]
[{"$f":"+A258","v":34},{"$f":"IF(①はじめに!F220=TRUE,①はじめに!D215,\"\")","v":""},null,null,null,null,{"$f":"IF(①はじめに!F220=TRUE,\"夜間支援員\",\"\")","v":""},null,null,null,null,null,null,null,{"$f":"IF(①はじめに!F220=TRUE,①はじめに!G215,\"\")","v":""},null,null,{"$f":"IF(①はじめに!F220=TRUE,①はじめに!D217,\"\")&\"\"","v":""},null,null,{"$f":"IF(①はじめに!F220=TRUE,①はじめに!H217,\"\")&\"\"","v":""},null,null,{"$f":"IF(①はじめに!F220=TRUE,①はじめに!F217,\"\")&\"\"","v":""},null,null,null,null,null,null,null,null,null,null,null,null,null,null,null,null,null,null,null,null,null,null,null,null,null,null,null,null,null,0,null,null,0,null,null,null,null,null,null,null,null,null,null,null,null,null,null,null,null,null,null,null,null,null,null,"常勤・兼務",{"$f":"COUNTIF($J$61:$L$83,CB261)","v":0}]
[{"$f":"+A258","v":34},{"$f":"IF(①はじめに!G220=TRUE,①はじめに!D215,\"\")","v":""},null,null,null,null,{"$f":"IF(①はじめに!G220=TRUE,\"日中支援員\",\"\")","v":""},null,null,null,null,null,null,null,{"$f":"IF(①はじめに!G220=TRUE,①はじめに!G215,\"\")","v":""},null,null,{"$f":"IF(①はじめに!G220=TRUE,①はじめに!D217,\"\")&\"\"","v":""},null,null,{"$f":"IF(①はじめに!G220=TRUE,①はじめに!H217,\"\")&\"\"","v":""},null,null,{"$f":"IF(①はじめに!G220=TRUE,①はじめに!F217,\"\")&\"\"","v":""},null,null,null,null,null,null,null,null,null,null,null,null,null,null,null,null,null,null,null,null,null,null,null,null,null,null,null,null,null,0,null,null,0]
[{"$f":"+A258","v":34},{"$f":"IF(①はじめに!H220=TRUE,①はじめに!D215,\"\")","v":""},null,null,null,null,{"$f":"IF(①はじめに!H220=TRUE,\"加配要員\",\"\")","v":""},null,null,null,null,null,null,null,{"$f":"IF(①はじめに!H220=TRUE,①はじめに!G215,\"\")","v":""},null,null,{"$f":"IF(①はじめに!H220=TRUE,①はじめに!D217,\"\")&\"\"","v":""},null,null,{"$f":"IF(①はじめに!H220=TRUE,①はじめに!H217,\"\")&\"\"","v":""},null,null,{"$f":"IF(①はじめに!H220=TRUE,①はじめに!F217,\"\")&\"\"","v":""},null,null,null,null,null,null,null,null,null,null,null,null,null,null,null,null,null,null,null,null,null,null,null,null,null,null,null,null,null,0,null,null,0]
[{"$f":"+A258+1","v":35},{"$f":"IF(①はじめに!C226=TRUE,①はじめに!D221,\"\")","v":""},null,null,null,null,{"$f":"IF(①はじめに!C226=TRUE,\"サービス管理責任者\",\"\")","v":""},null,null,null,null,null,null,null,{"$f":"IF(①はじめに!C226=TRUE,①はじめに!G221,\"\")","v":""},null,null,{"$f":"IF(①はじめに!C226=TRUE,①はじめに!D223,\"\")&\"\"","v":""},null,null,{"$f":"IF(①はじめに!C226=TRUE,①はじめに!H223,\"\")&\"\"","v":""},null,null,{"$f":"IF(①はじめに!C226=TRUE,①はじめに!F223,\"\")&\"\"","v":""},null,null,null,null,null,null,null,null,null,null,null,null,null,null,null,null,null,null,null,null,null,null,null,null,null,null,null,null,null,0,null,null,0,null,null,null,null,null,null,null,null,null,null,null,null,null,null,null,null,null,null,null,null,null,null,"常勤・専従",{"$f":"COUNTIF($J$61:$L$83,CB264)","v":0}]
[{"$f":"+A264","v":35},{"$f":"IF(①はじめに!D226=TRUE,①はじめに!D221,\"\")","v":""},null,null,null,null,{"$f":"IF(①はじめに!D226=TRUE,\"世話人\",\"\")","v":""},null,null,null,null,null,null,null,{"$f":"IF(①はじめに!D226=TRUE,①はじめに!G221,\"\")","v":""},null,null,{"$f":"IF(①はじめに!D226=TRUE,①はじめに!D223,\"\")&\"\"","v":""},null,null,{"$f":"IF(①はじめに!D226=TRUE,①はじめに!H223,\"\")&\"\"","v":""},null,null,{"$f":"IF(①はじめに!D226=TRUE,①はじめに!F223,\"\")&\"\"","v":""},null,null,null,null,null,null,null,null,null,null,null,null,null,null,null,null,null,null,null,null,null,null,null,null,null,null,null,null,null,0,null,null,0,null,null,null,null,null,null,null,null,null,null,null,null,null,null,null,null,null,null,null,null,null,null,"常勤・兼務",{"$f":"COUNTIF($J$61:$L$83,CB265)","v":0}]
[{"$f":"+A264","v":35},{"$f":"IF(①はじめに!E226=TRUE,①はじめに!D221,\"\")","v":""},null,null,null,null,{"$f":"IF(①はじめに!E226=TRUE,\"生活支援員\",\"\")","v":""},null,null,null,null,null,null,null,{"$f":"IF(①はじめに!E226=TRUE,①はじめに!G221,\"\")","v":""},null,null,{"$f":"IF(①はじめに!E226=TRUE,①はじめに!D223,\"\")&\"\"","v":""},null,null,{"$f":"IF(①はじめに!E226=TRUE,①はじめに!H223,\"\")&\"\"","v":""},null,null,{"$f":"IF(①はじめに!E226=TRUE,①はじめに!F223,\"\")&\"\"","v":""},null,null,null,null,null,null,null,null,null,null,null,null,null,null,null,null,null,null,null,null,null,null,null,null,null,null,null,null,null,0,null,null,0,null,null,null,null,null,null,null,null,null,null,null,null,null,null,null,null,null,null,null,null,null,null,"非常勤・専従",{"$f":"COUNTIF($J$61:$L$83,CB266)","v":0}]
[{"$f":"+A264","v":35},{"$f":"IF(①はじめに!F226=TRUE,①はじめに!D221,\"\")","v":""},null,null,null,null,{"$f":"IF(①はじめに!F226=TRUE,\"夜間支援員\",\"\")","v":""},null,null,null,null,null,null,null,{"$f":"IF(①はじめに!F226=TRUE,①はじめに!G221,\"\")","v":""},null,null,{"$f":"IF(①はじめに!F226=TRUE,①はじめに!D223,\"\")&\"\"","v":""},null,null,{"$f":"IF(①はじめに!F226=TRUE,①はじめに!H223,\"\")&\"\"","v":""},null,null,{"$f":"IF(①はじめに!F226=TRUE,①はじめに!F223,\"\")&\"\"","v":""},null,null,null,null,null,null,null,null,null,null,null,null,null,null,null,null,null,null,null,null,null,null,null,null,null,null,null,null,null,0,null,null,0]
[{"$f":"+A264","v":35},{"$f":"IF(①はじめに!G226=TRUE,①はじめに!D221,\"\")","v":""},null,null,null,null,{"$f":"IF(①はじめに!G226=TRUE,\"日中支援員\",\"\")","v":""},null,null,null,null,null,null,null,{"$f":"IF(①はじめに!G226=TRUE,①はじめに!G221,\"\")","v":""},null,null,{"$f":"IF(①はじめに!G226=TRUE,①はじめに!D223,\"\")&\"\"","v":""},null,null,{"$f":"IF(①はじめに!G226=TRUE,①はじめに!H223,\"\")&\"\"","v":""},null,null,{"$f":"IF(①はじめに!G226=TRUE,①はじめに!F223,\"\")&\"\"","v":""},null,null,null,null,null,null,null,null,null,null,null,null,null,null,null,null,null,null,null,null,null,null,null,null,null,null,null,null,null,0,null,null,0]
[{"$f":"+A264","v":35},{"$f":"IF(①はじめに!H226=TRUE,①はじめに!D221,\"\")","v":""},null,null,null,null,{"$f":"IF(①はじめに!H226=TRUE,\"加配要員\",\"\")","v":""},null,null,null,null,null,null,null,{"$f":"IF(①はじめに!H226=TRUE,①はじめに!G221,\"\")","v":""},null,null,{"$f":"IF(①はじめに!H226=TRUE,①はじめに!D223,\"\")&\"\"","v":""},null,null,{"$f":"IF(①はじめに!H226=TRUE,①はじめに!H223,\"\")&\"\"","v":""},null,null,{"$f":"IF(①はじめに!H226=TRUE,①はじめに!F223,\"\")&\"\"","v":""},null,null,null,null,null,null,null,null,null,null,null,null,null,null,null,null,null,null,null,null,null,null,null,null,null,null,null,null,null,0,null,null,0]
[{"$f":"+A264+1","v":36},{"$f":"IF(①はじめに!C232=TRUE,①はじめに!D227,\"\")","v":""},null,null,null,null,{"$f":"IF(①はじめに!C232=TRUE,\"サービス管理責任者\",\"\")","v":""},null,null,null,null,null,null,null,{"$f":"IF(①はじめに!C232=TRUE,①はじめに!G227,\"\")","v":""},null,null,{"$f":"IF(①はじめに!C232=TRUE,①はじめに!D229,\"\")&\"\"","v":""},null,null,{"$f":"IF(①はじめに!C232=TRUE,①はじめに!H229,\"\")&\"\"","v":""},null,null,{"$f":"IF(①はじめに!C232=TRUE,①はじめに!F229,\"\")&\"\"","v":""},null,null,null,null,null,null,null,null,null,null,null,null,null,null,null,null,null,null,null,null,null,null,null,null,null,null,null,null,null,0,null,null,0]
[{"$f":"+A270","v":36},{"$f":"IF(①はじめに!D232=TRUE,①はじめに!D227,\"\")","v":""},null,null,null,null,{"$f":"IF(①はじめに!D232=TRUE,\"世話人\",\"\")","v":""},null,null,null,null,null,null,null,{"$f":"IF(①はじめに!D232=TRUE,①はじめに!G227,\"\")","v":""},null,null,{"$f":"IF(①はじめに!D232=TRUE,①はじめに!D229,\"\")&\"\"","v":""},null,null,{"$f":"IF(①はじめに!D232=TRUE,①はじめに!H229,\"\")&\"\"","v":""},null,null,{"$f":"IF(①はじめに!D232=TRUE,①はじめに!F229,\"\")&\"\"","v":""},null,null,null,null,null,null,null,null,null,null,null,null,null,null,null,null,null,null,null,null,null,null,null,null,null,null,null,null,null,0,null,null,0]
[{"$f":"+A270","v":36},{"$f":"IF(①はじめに!E232=TRUE,①はじめに!D227,\"\")","v":""},null,null,null,null,{"$f":"IF(①はじめに!E232=TRUE,\"生活支援員\",\"\")","v":""},null,null,null,null,null,null,null,{"$f":"IF(①はじめに!E232=TRUE,①はじめに!G227,\"\")","v":""},null,null,{"$f":"IF(①はじめに!E232=TRUE,①はじめに!D229,\"\")&\"\"","v":""},null,null,{"$f":"IF(①はじめに!E232=TRUE,①はじめに!H229,\"\")&\"\"","v":""},null,null,{"$f":"IF(①はじめに!E232=TRUE,①はじめに!F229,\"\")&\"\"","v":""},null,null,null,null,null,null,null,null,null,null,null,null,null,null,null,null,null,null,null,null,null,null,null,null,null,null,null,null,null,0,null,null,0,null,null,null,null,null,null,null,null,null,null,null,null,null,null,null,null,null,null,null,null,null,null,"常勤・専従",{"$f":"COUNTIF($J$61:$L$83,CB272)","v":0}]
[{"$f":"+A270","v":36},{"$f":"IF(①はじめに!F232=TRUE,①はじめに!D227,\"\")","v":""},null,null,null,null,{"$f":"IF(①はじめに!F232=TRUE,\"夜間支援員\",\"\")","v":""},null,null,null,null,null,null,null,{"$f":"IF(①はじめに!F232=TRUE,①はじめに!G227,\"\")","v":""},null,null,{"$f":"IF(①はじめに!F232=TRUE,①はじめに!D229,\"\")&\"\"","v":""},null,null,{"$f":"IF(①はじめに!F232=TRUE,①はじめに!H229,\"\")&\"\"","v":""},null,null,{"$f":"IF(①はじめに!F232=TRUE,①はじめに!F229,\"\")&\"\"","v":""},null,null,null,null,null,null,null,null,null,null,null,null,null,null,null,null,null,null,null,null,null,null,null,null,null,null,null,null,null,0,null,null,0,null,null,null,null,null,null,null,null,null,null,null,null,null,null,null,null,null,null,null,null,null,null,"常勤・兼務",{"$f":"COUNTIF($J$61:$L$83,CB273)","v":0}]
[{"$f":"+A270","v":36},{"$f":"IF(①はじめに!G232=TRUE,①はじめに!D227,\"\")","v":""},null,null,null,null,{"$f":"IF(①はじめに!G232=TRUE,\"日中支援員\",\"\")","v":""},null,null,null,null,null,null,null,{"$f":"IF(①はじめに!G232=TRUE,①はじめに!G227,\"\")","v":""},null,null,{"$f":"IF(①はじめに!G232=TRUE,①はじめに!D229,\"\")&\"\"","v":""},null,null,{"$f":"IF(①はじめに!G232=TRUE,①はじめに!H229,\"\")&\"\"","v":""},null,null,{"$f":"IF(①はじめに!G232=TRUE,①はじめに!F229,\"\")&\"\"","v":""},null,null,null,null,null,null,null,null,null,null,null,null,null,null,null,null,null,null,null,null,null,null,null,null,null,null,null,null,null,0,null,null,0,null,null,null,null,null,null,null,null,null,null,null,null,null,null,null,null,null,null,null,null,null,null,"非常勤・専従",{"$f":"COUNTIF($J$61:$L$83,CB274)","v":0}]
[{"$f":"+A270","v":36},{"$f":"IF(①はじめに!H232=TRUE,①はじめに!D227,\"\")","v":""},null,null,null,null,{"$f":"IF(①はじめに!H232=TRUE,\"加配要員\",\"\")","v":""},null,null,null,null,null,null,null,{"$f":"IF(①はじめに!H232=TRUE,①はじめに!G227,\"\")","v":""},null,null,{"$f":"IF(①はじめに!H232=TRUE,①はじめに!D229,\"\")&\"\"","v":""},null,null,{"$f":"IF(①はじめに!H232=TRUE,①はじめに!H229,\"\")&\"\"","v":""},null,null,{"$f":"IF(①はじめに!H232=TRUE,①はじめに!F229,\"\")&\"\"","v":""},null,null,null,null,null,null,null,null,null,null,null,null,null,null,null,null,null,null,null,null,null,null,null,null,null,null,null,null,null,0,null,null,0]
[{"$f":"+A270+1","v":37},{"$f":"IF(①はじめに!C238=TRUE,①はじめに!D233,\"\")","v":""},null,null,null,null,{"$f":"IF(①はじめに!C238=TRUE,\"サービス管理責任者\",\"\")","v":""},null,null,null,null,null,null,null,{"$f":"IF(①はじめに!C238=TRUE,①はじめに!G233,\"\")","v":""},null,null,{"$f":"IF(①はじめに!C238=TRUE,①はじめに!D235,\"\")&\"\"","v":""},null,null,{"$f":"IF(①はじめに!C238=TRUE,①はじめに!H235,\"\")&\"\"","v":""},null,null,{"$f":"IF(①はじめに!C238=TRUE,①はじめに!F235,\"\")&\"\"","v":""},null,null,null,null,null,null,null,null,null,null,null,null,null,null,null,null,null,null,null,null,null,null,null,null,null,null,null,null,null,0,null,null,0]
[{"$f":"+A276","v":37},{"$f":"IF(①はじめに!D238=TRUE,①はじめに!D233,\"\")","v":""},null,null,null,null,{"$f":"IF(①はじめに!D238=TRUE,\"世話人\",\"\")","v":""},null,null,null,null,null,null,null,{"$f":"IF(①はじめに!D238=TRUE,①はじめに!G233,\"\")","v":""},null,null,{"$f":"IF(①はじめに!D238=TRUE,①はじめに!D235,\"\")&\"\"","v":""},null,null,{"$f":"IF(①はじめに!D238=TRUE,①はじめに!H235,\"\")&\"\"","v":""},null,null,{"$f":"IF(①はじめに!D238=TRUE,①はじめに!F235,\"\")&\"\"","v":""},null,null,null,null,null,null,null,null,null,null,null,null,null,null,null,null,null,null,null,null,null,null,null,null,null,null,null,null,null,0,null,null,0]
[{"$f":"+A276","v":37},{"$f":"IF(①はじめに!E238=TRUE,①はじめに!D233,\"\")","v":""},null,null,null,null,{"$f":"IF(①はじめに!E238=TRUE,\"生活支援員\",\"\")","v":""},null,null,null,null,null,null,null,{"$f":"IF(①はじめに!E238=TRUE,①はじめに!G233,\"\")","v":""},null,null,{"$f":"IF(①はじめに!E238=TRUE,①はじめに!D235,\"\")&\"\"","v":""},null,null,{"$f":"IF(①はじめに!E238=TRUE,①はじめに!H235,\"\")&\"\"","v":""},null,null,{"$f":"IF(①はじめに!E238=TRUE,①はじめに!F235,\"\")&\"\"","v":""},null,null,null,null,null,null,null,null,null,null,null,null,null,null,null,null,null,null,null,null,null,null,null,null,null,null,null,null,null,0,null,null,0,null,null,null,null,null,null,null,null,null,null,null,null,null,null,null,null,null,null,null,null,null,null,"常勤・専従",{"$f":"COUNTIF($J$61:$L$83,CB278)","v":0}]
[{"$f":"+A276","v":37},{"$f":"IF(①はじめに!F238=TRUE,①はじめに!D233,\"\")","v":""},null,null,null,null,{"$f":"IF(①はじめに!F238=TRUE,\"夜間支援員\",\"\")","v":""},null,null,null,null,null,null,null,{"$f":"IF(①はじめに!F238=TRUE,①はじめに!G233,\"\")","v":""},null,null,{"$f":"IF(①はじめに!F238=TRUE,①はじめに!D235,\"\")&\"\"","v":""},null,null,{"$f":"IF(①はじめに!F238=TRUE,①はじめに!H235,\"\")&\"\"","v":""},null,null,{"$f":"IF(①はじめに!F238=TRUE,①はじめに!F235,\"\")&\"\"","v":""},null,null,null,null,null,null,null,null,null,null,null,null,null,null,null,null,null,null,null,null,null,null,null,null,null,null,null,null,null,0,null,null,0,null,null,null,null,null,null,null,null,null,null,null,null,null,null,null,null,null,null,null,null,null,null,"常勤・兼務",{"$f":"COUNTIF($J$61:$L$83,CB279)","v":0}]
[{"$f":"+A276","v":37},{"$f":"IF(①はじめに!G238=TRUE,①はじめに!D233,\"\")","v":""},null,null,null,null,{"$f":"IF(①はじめに!G238=TRUE,\"日中支援員\",\"\")","v":""},null,null,null,null,null,null,null,{"$f":"IF(①はじめに!G238=TRUE,①はじめに!G233,\"\")","v":""},null,null,{"$f":"IF(①はじめに!G238=TRUE,①はじめに!D235,\"\")&\"\"","v":""},null,null,{"$f":"IF(①はじめに!G238=TRUE,①はじめに!H235,\"\")&\"\"","v":""},null,null,{"$f":"IF(①はじめに!G238=TRUE,①はじめに!F235,\"\")&\"\"","v":""},null,null,null,null,null,null,null,null,null,null,null,null,null,null,null,null,null,null,null,null,null,null,null,null,null,null,null,null,null,0,null,null,0]
[{"$f":"+A276","v":37},{"$f":"IF(①はじめに!H238=TRUE,①はじめに!D233,\"\")","v":""},null,null,null,null,{"$f":"IF(①はじめに!H238=TRUE,\"加配要員\",\"\")","v":""},null,null,null,null,null,null,null,{"$f":"IF(①はじめに!H238=TRUE,①はじめに!G233,\"\")","v":""},null,null,{"$f":"IF(①はじめに!H238=TRUE,①はじめに!D235,\"\")&\"\"","v":""},null,null,{"$f":"IF(①はじめに!H238=TRUE,①はじめに!H235,\"\")&\"\"","v":""},null,null,{"$f":"IF(①はじめに!H238=TRUE,①はじめに!F235,\"\")&\"\"","v":""},null,null,null,null,null,null,null,null,null,null,null,null,null,null,null,null,null,null,null,null,null,null,null,null,null,null,null,null,null,0,null,null,0]
[{"$f":"+A276+1","v":38},{"$f":"IF(①はじめに!C244=TRUE,①はじめに!D239,\"\")","v":""},null,null,null,null,{"$f":"IF(①はじめに!C244=TRUE,\"サービス管理責任者\",\"\")","v":""},null,null,null,null,null,null,null,{"$f":"IF(①はじめに!C244=TRUE,①はじめに!G239,\"\")","v":""},null,null,{"$f":"IF(①はじめに!C244=TRUE,①はじめに!D241,\"\")&\"\"","v":""},null,null,{"$f":"IF(①はじめに!C244=TRUE,①はじめに!H241,\"\")&\"\"","v":""},null,null,{"$f":"IF(①はじめに!C244=TRUE,①はじめに!F241,\"\")&\"\"","v":""},null,null,null,null,null,null,null,null,null,null,null,null,null,null,null,null,null,null,null,null,null,null,null,null,null,null,null,null,null,0,null,null,0,null,null,null,null,null,null,null,null,null,null,null,null,null,null,null,null,null,null,null,null,null,null,"常勤・専従",{"$f":"COUNTIF($J$61:$L$83,CB282)","v":0}]
[{"$f":"+A282","v":38},{"$f":"IF(①はじめに!D244=TRUE,①はじめに!D239,\"\")","v":""},null,null,null,null,{"$f":"IF(①はじめに!D244=TRUE,\"世話人\",\"\")","v":""},null,null,null,null,null,null,null,{"$f":"IF(①はじめに!D244=TRUE,①はじめに!G239,\"\")","v":""},null,null,{"$f":"IF(①はじめに!D244=TRUE,①はじめに!D241,\"\")&\"\"","v":""},null,null,{"$f":"IF(①はじめに!D244=TRUE,①はじめに!H241,\"\")&\"\"","v":""},null,null,{"$f":"IF(①はじめに!D244=TRUE,①はじめに!F241,\"\")&\"\"","v":""},null,null,null,null,null,null,null,null,null,null,null,null,null,null,null,null,null,null,null,null,null,null,null,null,null,null,null,null,null,0,null,null,0,null,null,null,null,null,null,null,null,null,null,null,null,null,null,null,null,null,null,null,null,null,null,"常勤・兼務",{"$f":"COUNTIF($J$61:$L$83,CB283)","v":0}]
[{"$f":"+A282","v":38},{"$f":"IF(①はじめに!E244=TRUE,①はじめに!D239,\"\")","v":""},null,null,null,null,{"$f":"IF(①はじめに!E244=TRUE,\"生活支援員\",\"\")","v":""},null,null,null,null,null,null,null,{"$f":"IF(①はじめに!E244=TRUE,①はじめに!G239,\"\")","v":""},null,null,{"$f":"IF(①はじめに!E244=TRUE,①はじめに!D241,\"\")&\"\"","v":""},null,null,{"$f":"IF(①はじめに!E244=TRUE,①はじめに!H241,\"\")&\"\"","v":""},null,null,{"$f":"IF(①はじめに!E244=TRUE,①はじめに!F241,\"\")&\"\"","v":""},null,null,null,null,null,null,null,null,null,null,null,null,null,null,null,null,null,null,null,null,null,null,null,null,null,null,null,null,null,0,null,null,0,null,null,null,null,null,null,null,null,null,null,null,null,null,null,null,null,null,null,null,null,null,null,"非常勤・専従",{"$f":"COUNTIF($J$61:$L$83,CB284)","v":0}]
[{"$f":"+A282","v":38},{"$f":"IF(①はじめに!F244=TRUE,①はじめに!D239,\"\")","v":""},null,null,null,null,{"$f":"IF(①はじめに!F244=TRUE,\"夜間支援員\",\"\")","v":""},null,null,null,null,null,null,null,{"$f":"IF(①はじめに!F244=TRUE,①はじめに!G239,\"\")","v":""},null,null,{"$f":"IF(①はじめに!F244=TRUE,①はじめに!D241,\"\")&\"\"","v":""},null,null,{"$f":"IF(①はじめに!F244=TRUE,①はじめに!H241,\"\")&\"\"","v":""},null,null,{"$f":"IF(①はじめに!F244=TRUE,①はじめに!F241,\"\")&\"\"","v":""},null,null,null,null,null,null,null,null,null,null,null,null,null,null,null,null,null,null,null,null,null,null,null,null,null,null,null,null,null,0,null,null,0]
[{"$f":"+A282","v":38},{"$f":"IF(①はじめに!G244=TRUE,①はじめに!D239,\"\")","v":""},null,null,null,null,{"$f":"IF(①はじめに!G244=TRUE,\"日中支援員\",\"\")","v":""},null,null,null,null,null,null,null,{"$f":"IF(①はじめに!G244=TRUE,①はじめに!G239,\"\")","v":""},null,null,{"$f":"IF(①はじめに!G244=TRUE,①はじめに!D241,\"\")&\"\"","v":""},null,null,{"$f":"IF(①はじめに!G244=TRUE,①はじめに!H241,\"\")&\"\"","v":""},null,null,{"$f":"IF(①はじめに!G244=TRUE,①はじめに!F241,\"\")&\"\"","v":""},null,null,null,null,null,null,null,null,null,null,null,null,null,null,null,null,null,null,null,null,null,null,null,null,null,null,null,null,null,0,null,null,0]
[{"$f":"+A282","v":38},{"$f":"IF(①はじめに!H244=TRUE,①はじめに!D239,\"\")","v":""},null,null,null,null,{"$f":"IF(①はじめに!H244=TRUE,\"加配要員\",\"\")","v":""},null,null,null,null,null,null,null,{"$f":"IF(①はじめに!H244=TRUE,①はじめに!G239,\"\")","v":""},null,null,{"$f":"IF(①はじめに!H244=TRUE,①はじめに!D241,\"\")&\"\"","v":""},null,null,{"$f":"IF(①はじめに!H244=TRUE,①はじめに!H241,\"\")&\"\"","v":""},null,null,{"$f":"IF(①はじめに!H244=TRUE,①はじめに!F241,\"\")&\"\"","v":""},null,null,null,null,null,null,null,null,null,null,null,null,null,null,null,null,null,null,null,null,null,null,null,null,null,null,null,null,null,0,null,null,0]
[{"$f":"+A282+1","v":39},{"$f":"IF(①はじめに!C250=TRUE,①はじめに!D245,\"\")","v":""},null,null,null,null,{"$f":"IF(①はじめに!C250=TRUE,\"サービス管理責任者\",\"\")","v":""},null,null,null,null,null,null,null,{"$f":"IF(①はじめに!C250=TRUE,①はじめに!G245,\"\")","v":""},null,null,{"$f":"IF(①はじめに!C250=TRUE,①はじめに!D247,\"\")&\"\"","v":""},null,null,{"$f":"IF(①はじめに!C250=TRUE,①はじめに!H247,\"\")&\"\"","v":""},null,null,{"$f":"IF(①はじめに!C250=TRUE,①はじめに!F247,\"\")&\"\"","v":""},null,null,null,null,null,null,null,null,null,null,null,null,null,null,null,null,null,null,null,null,null,null,null,null,null,null,null,null,null,0,null,null,0]
[{"$f":"+A288","v":39},{"$f":"IF(①はじめに!D250=TRUE,①はじめに!D245,\"\")","v":""},null,null,null,null,{"$f":"IF(①はじめに!D250=TRUE,\"世話人\",\"\")","v":""},null,null,null,null,null,null,null,{"$f":"IF(①はじめに!D250=TRUE,①はじめに!G245,\"\")","v":""},null,null,{"$f":"IF(①はじめに!D250=TRUE,①はじめに!D247,\"\")&\"\"","v":""},null,null,{"$f":"IF(①はじめに!D250=TRUE,①はじめに!H247,\"\")&\"\"","v":""},null,null,{"$f":"IF(①はじめに!D250=TRUE,①はじめに!F247,\"\")&\"\"","v":""},null,null,null,null,null,null,null,null,null,null,null,null,null,null,null,null,null,null,null,null,null,null,null,null,null,null,null,null,null,0,null,null,0]
[{"$f":"+A288","v":39},{"$f":"IF(①はじめに!E250=TRUE,①はじめに!D245,\"\")","v":""},null,null,null,null,{"$f":"IF(①はじめに!E250=TRUE,\"生活支援員\",\"\")","v":""},null,null,null,null,null,null,null,{"$f":"IF(①はじめに!E250=TRUE,①はじめに!G245,\"\")","v":""},null,null,{"$f":"IF(①はじめに!E250=TRUE,①はじめに!D247,\"\")&\"\"","v":""},null,null,{"$f":"IF(①はじめに!E250=TRUE,①はじめに!H247,\"\")&\"\"","v":""},null,null,{"$f":"IF(①はじめに!E250=TRUE,①はじめに!F247,\"\")&\"\"","v":""},null,null,null,null,null,null,null,null,null,null,null,null,null,null,null,null,null,null,null,null,null,null,null,null,null,null,null,null,null,0,null,null,0,null,null,null,null,null,null,null,null,null,null,null,null,null,null,null,null,null,null,null,null,null,null,"常勤・専従",{"$f":"COUNTIF($J$61:$L$83,CB290)","v":0}]
[{"$f":"+A288","v":39},{"$f":"IF(①はじめに!F250=TRUE,①はじめに!D245,\"\")","v":""},null,null,null,null,{"$f":"IF(①はじめに!F250=TRUE,\"夜間支援員\",\"\")","v":""},null,null,null,null,null,null,null,{"$f":"IF(①はじめに!F250=TRUE,①はじめに!G245,\"\")","v":""},null,null,{"$f":"IF(①はじめに!F250=TRUE,①はじめに!D247,\"\")&\"\"","v":""},null,null,{"$f":"IF(①はじめに!F250=TRUE,①はじめに!H247,\"\")&\"\"","v":""},null,null,{"$f":"IF(①はじめに!F250=TRUE,①はじめに!F247,\"\")&\"\"","v":""},null,null,null,null,null,null,null,null,null,null,null,null,null,null,null,null,null,null,null,null,null,null,null,null,null,null,null,null,null,0,null,null,0,null,null,null,null,null,null,null,null,null,null,null,null,null,null,null,null,null,null,null,null,null,null,"常勤・兼務",{"$f":"COUNTIF($J$61:$L$83,CB291)","v":0}]
[{"$f":"+A288","v":39},{"$f":"IF(①はじめに!G250=TRUE,①はじめに!D245,\"\")","v":""},null,null,null,null,{"$f":"IF(①はじめに!G250=TRUE,\"日中支援員\",\"\")","v":""},null,null,null,null,null,null,null,{"$f":"IF(①はじめに!G250=TRUE,①はじめに!G245,\"\")","v":""},null,null,{"$f":"IF(①はじめに!G250=TRUE,①はじめに!D247,\"\")&\"\"","v":""},null,null,{"$f":"IF(①はじめに!G250=TRUE,①はじめに!H247,\"\")&\"\"","v":""},null,null,{"$f":"IF(①はじめに!G250=TRUE,①はじめに!F247,\"\")&\"\"","v":""},null,null,null,null,null,null,null,null,null,null,null,null,null,null,null,null,null,null,null,null,null,null,null,null,null,null,null,null,null,0,null,null,0]
[{"$f":"+A288","v":39},{"$f":"IF(①はじめに!H250=TRUE,①はじめに!D245,\"\")","v":""},null,null,null,null,{"$f":"IF(①はじめに!H250=TRUE,\"加配要員\",\"\")","v":""},null,null,null,null,null,null,null,{"$f":"IF(①はじめに!H250=TRUE,①はじめに!G245,\"\")","v":""},null,null,{"$f":"IF(①はじめに!H250=TRUE,①はじめに!D247,\"\")&\"\"","v":""},null,null,{"$f":"IF(①はじめに!H250=TRUE,①はじめに!H247,\"\")&\"\"","v":""},null,null,{"$f":"IF(①はじめに!H250=TRUE,①はじめに!F247,\"\")&\"\"","v":""},null,null,null,null,null,null,null,null,null,null,null,null,null,null,null,null,null,null,null,null,null,null,null,null,null,null,null,null,null,0,null,null,0]
[{"$f":"+A288+1","v":40},{"$f":"IF(①はじめに!C256=TRUE,①はじめに!D251,\"\")","v":""},null,null,null,null,{"$f":"IF(①はじめに!C256=TRUE,\"サービス管理責任者\",\"\")","v":""},null,null,null,null,null,null,null,{"$f":"IF(①はじめに!C256=TRUE,①はじめに!G251,\"\")","v":""},null,null,{"$f":"IF(①はじめに!C256=TRUE,①はじめに!D253,\"\")&\"\"","v":""},null,null,{"$f":"IF(①はじめに!C256=TRUE,①はじめに!H253,\"\")&\"\"","v":""},null,null,{"$f":"IF(①はじめに!C256=TRUE,①はじめに!F253,\"\")&\"\"","v":""},null,null,null,null,null,null,null,null,null,null,null,null,null,null,null,null,null,null,null,null,null,null,null,null,null,null,null,null,null,0,null,null,0,null,null,null,null,null,null,null,null,null,null,null,null,null,null,null,null,null,null,null,null,null,null,"常勤・専従",{"$f":"COUNTIF($J$61:$L$83,CB294)","v":0}]
[{"$f":"+A294","v":40},{"$f":"IF(①はじめに!D256=TRUE,①はじめに!D251,\"\")","v":""},null,null,null,null,{"$f":"IF(①はじめに!D256=TRUE,\"世話人\",\"\")","v":""},null,null,null,null,null,null,null,{"$f":"IF(①はじめに!D256=TRUE,①はじめに!G251,\"\")","v":""},null,null,{"$f":"IF(①はじめに!D256=TRUE,①はじめに!D253,\"\")&\"\"","v":""},null,null,{"$f":"IF(①はじめに!D256=TRUE,①はじめに!H253,\"\")&\"\"","v":""},null,null,{"$f":"IF(①はじめに!D256=TRUE,①はじめに!F253,\"\")&\"\"","v":""},null,null,null,null,null,null,null,null,null,null,null,null,null,null,null,null,null,null,null,null,null,null,null,null,null,null,null,null,null,0,null,null,0,null,null,null,null,null,null,null,null,null,null,null,null,null,null,null,null,null,null,null,null,null,null,"常勤・兼務",{"$f":"COUNTIF($J$61:$L$83,CB295)","v":0}]
[{"$f":"+A294","v":40},{"$f":"IF(①はじめに!E256=TRUE,①はじめに!D251,\"\")","v":""},null,null,null,null,{"$f":"IF(①はじめに!E256=TRUE,\"生活支援員\",\"\")","v":""},null,null,null,null,null,null,null,{"$f":"IF(①はじめに!E256=TRUE,①はじめに!G251,\"\")","v":""},null,null,{"$f":"IF(①はじめに!E256=TRUE,①はじめに!D253,\"\")&\"\"","v":""},null,null,{"$f":"IF(①はじめに!E256=TRUE,①はじめに!H253,\"\")&\"\"","v":""},null,null,{"$f":"IF(①はじめに!E256=TRUE,①はじめに!F253,\"\")&\"\"","v":""},null,null,null,null,null,null,null,null,null,null,null,null,null,null,null,null,null,null,null,null,null,null,null,null,null,null,null,null,null,0,null,null,0,null,null,null,null,null,null,null,null,null,null,null,null,null,null,null,null,null,null,null,null,null,null,"非常勤・専従",{"$f":"COUNTIF($J$61:$L$83,CB296)","v":0}]
[{"$f":"+A294","v":40},{"$f":"IF(①はじめに!F256=TRUE,①はじめに!D251,\"\")","v":""},null,null,null,null,{"$f":"IF(①はじめに!F256=TRUE,\"夜間支援員\",\"\")","v":""},null,null,null,null,null,null,null,{"$f":"IF(①はじめに!F256=TRUE,①はじめに!G251,\"\")","v":""},null,null,{"$f":"IF(①はじめに!F256=TRUE,①はじめに!D253,\"\")&\"\"","v":""},null,null,{"$f":"IF(①はじめに!F256=TRUE,①はじめに!H253,\"\")&\"\"","v":""},null,null,{"$f":"IF(①はじめに!F256=TRUE,①はじめに!F253,\"\")&\"\"","v":""},null,null,null,null,null,null,null,null,null,null,null,null,null,null,null,null,null,null,null,null,null,null,null,null,null,null,null,null,null,0,null,null,0]
[{"$f":"+A294","v":40},{"$f":"IF(①はじめに!G256=TRUE,①はじめに!D251,\"\")","v":""},null,null,null,null,{"$f":"IF(①はじめに!G256=TRUE,\"日中支援員\",\"\")","v":""},null,null,null,null,null,null,null,{"$f":"IF(①はじめに!G256=TRUE,①はじめに!G251,\"\")","v":""},null,null,{"$f":"IF(①はじめに!G256=TRUE,①はじめに!D253,\"\")&\"\"","v":""},null,null,{"$f":"IF(①はじめに!G256=TRUE,①はじめに!H253,\"\")&\"\"","v":""},null,null,{"$f":"IF(①はじめに!G256=TRUE,①はじめに!F253,\"\")&\"\"","v":""},null,null,null,null,null,null,null,null,null,null,null,null,null,null,null,null,null,null,null,null,null,null,null,null,null,null,null,null,null,0,null,null,0]
[{"$f":"+A294","v":40},{"$f":"IF(①はじめに!H256=TRUE,①はじめに!D251,\"\")","v":""},null,null,null,null,{"$f":"IF(①はじめに!H256=TRUE,\"加配要員\",\"\")","v":""},null,null,null,null,null,null,null,{"$f":"IF(①はじめに!H256=TRUE,①はじめに!G251,\"\")","v":""},null,null,{"$f":"IF(①はじめに!H256=TRUE,①はじめに!D253,\"\")&\"\"","v":""},null,null,{"$f":"IF(①はじめに!H256=TRUE,①はじめに!H253,\"\")&\"\"","v":""},null,null,{"$f":"IF(①はじめに!H256=TRUE,①はじめに!F253,\"\")&\"\"","v":""},null,null,null,null,null,null,null,null,null,null,null,null,null,null,null,null,null,null,null,null,null,null,null,null,null,null,null,null,null,0,null,null,0]
[{"$f":"+A294+1","v":41},{"$f":"IF(①はじめに!C262=TRUE,①はじめに!D257,\"\")","v":""},null,null,null,null,{"$f":"IF(①はじめに!C262=TRUE,\"サービス管理責任者\",\"\")","v":""},null,null,null,null,null,null,null,{"$f":"IF(①はじめに!C262=TRUE,①はじめに!G257,\"\")","v":""},null,null,{"$f":"IF(①はじめに!C262=TRUE,①はじめに!D259,\"\")&\"\"","v":""},null,null,{"$f":"IF(①はじめに!C262=TRUE,①はじめに!H259,\"\")&\"\"","v":""},null,null,{"$f":"IF(①はじめに!C262=TRUE,①はじめに!F259,\"\")&\"\"","v":""},null,null,null,null,null,null,null,null,null,null,null,null,null,null,null,null,null,null,null,null,null,null,null,null,null,null,null,null,null,0,null,null,0]
[{"$f":"+A300","v":41},{"$f":"IF(①はじめに!D262=TRUE,①はじめに!D257,\"\")","v":""},null,null,null,null,{"$f":"IF(①はじめに!D262=TRUE,\"世話人\",\"\")","v":""},null,null,null,null,null,null,null,{"$f":"IF(①はじめに!D262=TRUE,①はじめに!G257,\"\")","v":""},null,null,{"$f":"IF(①はじめに!D262=TRUE,①はじめに!D259,\"\")&\"\"","v":""},null,null,{"$f":"IF(①はじめに!D262=TRUE,①はじめに!H259,\"\")&\"\"","v":""},null,null,{"$f":"IF(①はじめに!D262=TRUE,①はじめに!F259,\"\")&\"\"","v":""},null,null,null,null,null,null,null,null,null,null,null,null,null,null,null,null,null,null,null,null,null,null,null,null,null,null,null,null,null,0,null,null,0]
[{"$f":"+A300","v":41},{"$f":"IF(①はじめに!E262=TRUE,①はじめに!D257,\"\")","v":""},null,null,null,null,{"$f":"IF(①はじめに!E262=TRUE,\"生活支援員\",\"\")","v":""},null,null,null,null,null,null,null,{"$f":"IF(①はじめに!E262=TRUE,①はじめに!G257,\"\")","v":""},null,null,{"$f":"IF(①はじめに!E262=TRUE,①はじめに!D259,\"\")&\"\"","v":""},null,null,{"$f":"IF(①はじめに!E262=TRUE,①はじめに!H259,\"\")&\"\"","v":""},null,null,{"$f":"IF(①はじめに!E262=TRUE,①はじめに!F259,\"\")&\"\"","v":""},null,null,null,null,null,null,null,null,null,null,null,null,null,null,null,null,null,null,null,null,null,null,null,null,null,null,null,null,null,{"$f":"SUM(Z302:BA302)","v":0},null,null,{"$f":"BB302/4","v":0},null,null,null,null,null,null,null,null,null,null,null,null,null,null,null,null,null,null,null,null,null,null,"常勤・専従",{"$f":"COUNTIF($J$61:$L$83,CB302)","v":0}]
[{"$f":"+A300","v":41},{"$f":"IF(①はじめに!F262=TRUE,①はじめに!D257,\"\")","v":""},null,null,null,null,{"$f":"IF(①はじめに!F262=TRUE,\"夜間支援員\",\"\")","v":""},null,null,null,null,null,null,null,{"$f":"IF(①はじめに!F262=TRUE,①はじめに!G257,\"\")","v":""},null,null,{"$f":"IF(①はじめに!F262=TRUE,①はじめに!D259,\"\")&\"\"","v":""},null,null,{"$f":"IF(①はじめに!F262=TRUE,①はじめに!H259,\"\")&\"\"","v":""},null,null,{"$f":"IF(①はじめに!F262=TRUE,①はじめに!F259,\"\")&\"\"","v":""},null,null,null,null,null,null,null,null,null,null,null,null,null,null,null,null,null,null,null,null,null,null,null,null,null,null,null,null,null,0,null,null,0,null,null,null,null,null,null,null,null,null,null,null,null,null,null,null,null,null,null,null,null,null,null,"常勤・兼務",{"$f":"COUNTIF($J$61:$L$83,CB303)","v":0}]
[{"$f":"+A300","v":41},{"$f":"IF(①はじめに!G262=TRUE,①はじめに!D257,\"\")","v":""},null,null,null,null,{"$f":"IF(①はじめに!G262=TRUE,\"日中支援員\",\"\")","v":""},null,null,null,null,null,null,null,{"$f":"IF(①はじめに!G262=TRUE,①はじめに!G257,\"\")","v":""},null,null,{"$f":"IF(①はじめに!G262=TRUE,①はじめに!D259,\"\")&\"\"","v":""},null,null,{"$f":"IF(①はじめに!G262=TRUE,①はじめに!H259,\"\")&\"\"","v":""},null,null,{"$f":"IF(①はじめに!G262=TRUE,①はじめに!F259,\"\")&\"\"","v":""},null,null,null,null,null,null,null,null,null,null,null,null,null,null,null,null,null,null,null,null,null,null,null,null,null,null,null,null,null,0,null,null,0,null,null,null,null,null,null,null,null,null,null,null,null,null,null,null,null,null,null,null,null,null,null,"非常勤・専従",{"$f":"COUNTIF($J$61:$L$83,CB304)","v":0}]
[{"$f":"+A300","v":41},{"$f":"IF(①はじめに!H262=TRUE,①はじめに!D257,\"\")","v":""},null,null,null,null,{"$f":"IF(①はじめに!H262=TRUE,\"加配要員\",\"\")","v":""},null,null,null,null,null,null,null,{"$f":"IF(①はじめに!H262=TRUE,①はじめに!G257,\"\")","v":""},null,null,{"$f":"IF(①はじめに!H262=TRUE,①はじめに!D259,\"\")&\"\"","v":""},null,null,{"$f":"IF(①はじめに!H262=TRUE,①はじめに!H259,\"\")&\"\"","v":""},null,null,{"$f":"IF(①はじめに!H262=TRUE,①はじめに!F259,\"\")&\"\"","v":""},null,null,null,null,null,null,null,null,null,null,null,null,null,null,null,null,null,null,null,null,null,null,null,null,null,null,null,null,null,0,null,null,0]
[{"$f":"+A300+1","v":42},{"$f":"IF(①はじめに!C268=TRUE,①はじめに!D263,\"\")","v":""},null,null,null,null,{"$f":"IF(①はじめに!C268=TRUE,\"サービス管理責任者\",\"\")","v":""},null,null,null,null,null,null,null,{"$f":"IF(①はじめに!C268=TRUE,①はじめに!G263,\"\")","v":""},null,null,{"$f":"IF(①はじめに!C268=TRUE,①はじめに!D265,\"\")&\"\"","v":""},null,null,{"$f":"IF(①はじめに!C268=TRUE,①はじめに!H265,\"\")&\"\"","v":""},null,null,{"$f":"IF(①はじめに!C268=TRUE,①はじめに!F265,\"\")&\"\"","v":""},null,null,null,null,null,null,null,null,null,null,null,null,null,null,null,null,null,null,null,null,null,null,null,null,null,null,null,null,null,0,null,null,0]
[{"$f":"+A306","v":42},{"$f":"IF(①はじめに!D268=TRUE,①はじめに!D263,\"\")","v":""},null,null,null,null,{"$f":"IF(①はじめに!D268=TRUE,\"世話人\",\"\")","v":""},null,null,null,null,null,null,null,{"$f":"IF(①はじめに!D268=TRUE,①はじめに!G263,\"\")","v":""},null,null,{"$f":"IF(①はじめに!D268=TRUE,①はじめに!D265,\"\")&\"\"","v":""},null,null,{"$f":"IF(①はじめに!D268=TRUE,①はじめに!H265,\"\")&\"\"","v":""},null,null,{"$f":"IF(①はじめに!D268=TRUE,①はじめに!F265,\"\")&\"\"","v":""},null,null,null,null,null,null,null,null,null,null,null,null,null,null,null,null,null,null,null,null,null,null,null,null,null,null,null,null,null,0,null,null,0]
[{"$f":"+A306","v":42},{"$f":"IF(①はじめに!E268=TRUE,①はじめに!D263,\"\")","v":""},null,null,null,null,{"$f":"IF(①はじめに!E268=TRUE,\"生活支援員\",\"\")","v":""},null,null,null,null,null,null,null,{"$f":"IF(①はじめに!E268=TRUE,①はじめに!G263,\"\")","v":""},null,null,{"$f":"IF(①はじめに!E268=TRUE,①はじめに!D265,\"\")&\"\"","v":""},null,null,{"$f":"IF(①はじめに!E268=TRUE,①はじめに!H265,\"\")&\"\"","v":""},null,null,{"$f":"IF(①はじめに!E268=TRUE,①はじめに!F265,\"\")&\"\"","v":""},null,null,null,null,null,null,null,null,null,null,null,null,null,null,null,null,null,null,null,null,null,null,null,null,null,null,null,null,null,0,null,null,0,null,null,null,null,null,null,null,null,null,null,null,null,null,null,null,null,null,null,null,null,null,null,"常勤・専従",{"$f":"COUNTIF($J$61:$L$83,CB308)","v":0}]
[{"$f":"+A306","v":42},{"$f":"IF(①はじめに!F268=TRUE,①はじめに!D263,\"\")","v":""},null,null,null,null,{"$f":"IF(①はじめに!F268=TRUE,\"夜間支援員\",\"\")","v":""},null,null,null,null,null,null,null,{"$f":"IF(①はじめに!F268=TRUE,①はじめに!G263,\"\")","v":""},null,null,{"$f":"IF(①はじめに!F268=TRUE,①はじめに!D265,\"\")&\"\"","v":""},null,null,{"$f":"IF(①はじめに!F268=TRUE,①はじめに!H265,\"\")&\"\"","v":""},null,null,{"$f":"IF(①はじめに!F268=TRUE,①はじめに!F265,\"\")&\"\"","v":""},null,null,null,null,null,null,null,null,null,null,null,null,null,null,null,null,null,null,null,null,null,null,null,null,null,null,null,null,null,0,null,null,0,null,null,null,null,null,null,null,null,null,null,null,null,null,null,null,null,null,null,null,null,null,null,"常勤・兼務",{"$f":"COUNTIF($J$61:$L$83,CB309)","v":0}]
[{"$f":"+A306","v":42},{"$f":"IF(①はじめに!G268=TRUE,①はじめに!D263,\"\")","v":""},null,null,null,null,{"$f":"IF(①はじめに!G268=TRUE,\"日中支援員\",\"\")","v":""},null,null,null,null,null,null,null,{"$f":"IF(①はじめに!G268=TRUE,①はじめに!G263,\"\")","v":""},null,null,{"$f":"IF(①はじめに!G268=TRUE,①はじめに!D265,\"\")&\"\"","v":""},null,null,{"$f":"IF(①はじめに!G268=TRUE,①はじめに!H265,\"\")&\"\"","v":""},null,null,{"$f":"IF(①はじめに!G268=TRUE,①はじめに!F265,\"\")&\"\"","v":""},null,null,null,null,null,null,null,null,null,null,null,null,null,null,null,null,null,null,null,null,null,null,null,null,null,null,null,null,null,0,null,null,0]
[{"$f":"+A306","v":42},{"$f":"IF(①はじめに!H268=TRUE,①はじめに!D263,\"\")","v":""},null,null,null,null,{"$f":"IF(①はじめに!H268=TRUE,\"加配要員\",\"\")","v":""},null,null,null,null,null,null,null,{"$f":"IF(①はじめに!H268=TRUE,①はじめに!G263,\"\")","v":""},null,null,{"$f":"IF(①はじめに!H268=TRUE,①はじめに!D265,\"\")&\"\"","v":""},null,null,{"$f":"IF(①はじめに!H268=TRUE,①はじめに!H265,\"\")&\"\"","v":""},null,null,{"$f":"IF(①はじめに!H268=TRUE,①はじめに!F265,\"\")&\"\"","v":""},null,null,null,null,null,null,null,null,null,null,null,null,null,null,null,null,null,null,null,null,null,null,null,null,null,null,null,null,null,0,null,null,0]
[{"$f":"+A306+1","v":43},{"$f":"IF(①はじめに!C274=TRUE,①はじめに!D269,\"\")","v":""},null,null,null,null,{"$f":"IF(①はじめに!C274=TRUE,\"サービス管理責任者\",\"\")","v":""},null,null,null,null,null,null,null,{"$f":"IF(①はじめに!C274=TRUE,①はじめに!G269,\"\")","v":""},null,null,{"$f":"IF(①はじめに!C274=TRUE,①はじめに!D271,\"\")&\"\"","v":""},null,null,{"$f":"IF(①はじめに!C274=TRUE,①はじめに!H271,\"\")&\"\"","v":""},null,null,{"$f":"IF(①はじめに!C274=TRUE,①はじめに!F271,\"\")&\"\"","v":""},null,null,null,null,null,null,null,null,null,null,null,null,null,null,null,null,null,null,null,null,null,null,null,null,null,null,null,null,null,0,null,null,0,null,null,null,null,null,null,null,null,null,null,null,null,null,null,null,null,null,null,null,null,null,null,"常勤・専従",{"$f":"COUNTIF($J$61:$L$83,CB312)","v":0}]
[{"$f":"+A312","v":43},{"$f":"IF(①はじめに!D274=TRUE,①はじめに!D269,\"\")","v":""},null,null,null,null,{"$f":"IF(①はじめに!D274=TRUE,\"世話人\",\"\")","v":""},null,null,null,null,null,null,null,{"$f":"IF(①はじめに!D274=TRUE,①はじめに!G269,\"\")","v":""},null,null,{"$f":"IF(①はじめに!D274=TRUE,①はじめに!D271,\"\")&\"\"","v":""},null,null,{"$f":"IF(①はじめに!D274=TRUE,①はじめに!H271,\"\")&\"\"","v":""},null,null,{"$f":"IF(①はじめに!D274=TRUE,①はじめに!F271,\"\")&\"\"","v":""},null,null,null,null,null,null,null,null,null,null,null,null,null,null,null,null,null,null,null,null,null,null,null,null,null,null,null,null,null,0,null,null,0,null,null,null,null,null,null,null,null,null,null,null,null,null,null,null,null,null,null,null,null,null,null,"常勤・兼務",{"$f":"COUNTIF($J$61:$L$83,CB313)","v":0}]
[{"$f":"+A312","v":43},{"$f":"IF(①はじめに!E274=TRUE,①はじめに!D269,\"\")","v":""},null,null,null,null,{"$f":"IF(①はじめに!E274=TRUE,\"生活支援員\",\"\")","v":""},null,null,null,null,null,null,null,{"$f":"IF(①はじめに!E274=TRUE,①はじめに!G269,\"\")","v":""},null,null,{"$f":"IF(①はじめに!E274=TRUE,①はじめに!D271,\"\")&\"\"","v":""},null,null,{"$f":"IF(①はじめに!E274=TRUE,①はじめに!H271,\"\")&\"\"","v":""},null,null,{"$f":"IF(①はじめに!E274=TRUE,①はじめに!F271,\"\")&\"\"","v":""},null,null,null,null,null,null,null,null,null,null,null,null,null,null,null,null,null,null,null,null,null,null,null,null,null,null,null,null,null,0,null,null,0,null,null,null,null,null,null,null,null,null,null,null,null,null,null,null,null,null,null,null,null,null,null,"非常勤・専従",{"$f":"COUNTIF($J$61:$L$83,CB314)","v":0}]
[{"$f":"+A312","v":43},{"$f":"IF(①はじめに!F274=TRUE,①はじめに!D269,\"\")","v":""},null,null,null,null,{"$f":"IF(①はじめに!F274=TRUE,\"夜間支援員\",\"\")","v":""},null,null,null,null,null,null,null,{"$f":"IF(①はじめに!F274=TRUE,①はじめに!G269,\"\")","v":""},null,null,{"$f":"IF(①はじめに!F274=TRUE,①はじめに!D271,\"\")&\"\"","v":""},null,null,{"$f":"IF(①はじめに!F274=TRUE,①はじめに!H271,\"\")&\"\"","v":""},null,null,{"$f":"IF(①はじめに!F274=TRUE,①はじめに!F271,\"\")&\"\"","v":""},null,null,null,null,null,null,null,null,null,null,null,null,null,null,null,null,null,null,null,null,null,null,null,null,null,null,null,null,null,0,null,null,0]
[{"$f":"+A312","v":43},{"$f":"IF(①はじめに!G274=TRUE,①はじめに!D269,\"\")","v":""},null,null,null,null,{"$f":"IF(①はじめに!G274=TRUE,\"日中支援員\",\"\")","v":""},null,null,null,null,null,null,null,{"$f":"IF(①はじめに!G274=TRUE,①はじめに!G269,\"\")","v":""},null,null,{"$f":"IF(①はじめに!G274=TRUE,①はじめに!D271,\"\")&\"\"","v":""},null,null,{"$f":"IF(①はじめに!G274=TRUE,①はじめに!H271,\"\")&\"\"","v":""},null,null,{"$f":"IF(①はじめに!G274=TRUE,①はじめに!F271,\"\")&\"\"","v":""},null,null,null,null,null,null,null,null,null,null,null,null,null,null,null,null,null,null,null,null,null,null,null,null,null,null,null,null,null,0,null,null,0]
[{"$f":"+A312","v":43},{"$f":"IF(①はじめに!H274=TRUE,①はじめに!D269,\"\")","v":""},null,null,null,null,{"$f":"IF(①はじめに!H274=TRUE,\"加配要員\",\"\")","v":""},null,null,null,null,null,null,null,{"$f":"IF(①はじめに!H274=TRUE,①はじめに!G269,\"\")","v":""},null,null,{"$f":"IF(①はじめに!H274=TRUE,①はじめに!D271,\"\")&\"\"","v":""},null,null,{"$f":"IF(①はじめに!H274=TRUE,①はじめに!H271,\"\")&\"\"","v":""},null,null,{"$f":"IF(①はじめに!H274=TRUE,①はじめに!F271,\"\")&\"\"","v":""},null,null,null,null,null,null,null,null,null,null,null,null,null,null,null,null,null,null,null,null,null,null,null,null,null,null,null,null,null,0,null,null,0]
[{"$f":"+A312+1","v":44},{"$f":"IF(①はじめに!C280=TRUE,①はじめに!D275,\"\")","v":""},null,null,null,null,{"$f":"IF(①はじめに!C280=TRUE,\"サービス管理責任者\",\"\")","v":""},null,null,null,null,null,null,null,{"$f":"IF(①はじめに!C280=TRUE,①はじめに!G275,\"\")","v":""},null,null,{"$f":"IF(①はじめに!C280=TRUE,①はじめに!D277,\"\")&\"\"","v":""},null,null,{"$f":"IF(①はじめに!C280=TRUE,①はじめに!H277,\"\")&\"\"","v":""},null,null,{"$f":"IF(①はじめに!C280=TRUE,①はじめに!F277,\"\")&\"\"","v":""},null,null,null,null,null,null,null,null,null,null,null,null,null,null,null,null,null,null,null,null,null,null,null,null,null,null,null,null,null,0,null,null,0]
[{"$f":"+A318","v":44},{"$f":"IF(①はじめに!D280=TRUE,①はじめに!D275,\"\")","v":""},null,null,null,null,{"$f":"IF(①はじめに!D280=TRUE,\"世話人\",\"\")","v":""},null,null,null,null,null,null,null,{"$f":"IF(①はじめに!D280=TRUE,①はじめに!G275,\"\")","v":""},null,null,{"$f":"IF(①はじめに!D280=TRUE,①はじめに!D277,\"\")&\"\"","v":""},null,null,{"$f":"IF(①はじめに!D280=TRUE,①はじめに!H277,\"\")&\"\"","v":""},null,null,{"$f":"IF(①はじめに!D280=TRUE,①はじめに!F277,\"\")&\"\"","v":""},null,null,null,null,null,null,null,null,null,null,null,null,null,null,null,null,null,null,null,null,null,null,null,null,null,null,null,null,null,0,null,null,0]
[{"$f":"+A318","v":44},{"$f":"IF(①はじめに!E280=TRUE,①はじめに!D275,\"\")","v":""},null,null,null,null,{"$f":"IF(①はじめに!E280=TRUE,\"生活支援員\",\"\")","v":""},null,null,null,null,null,null,null,{"$f":"IF(①はじめに!E280=TRUE,①はじめに!G275,\"\")","v":""},null,null,{"$f":"IF(①はじめに!E280=TRUE,①はじめに!D277,\"\")&\"\"","v":""},null,null,{"$f":"IF(①はじめに!E280=TRUE,①はじめに!H277,\"\")&\"\"","v":""},null,null,{"$f":"IF(①はじめに!E280=TRUE,①はじめに!F277,\"\")&\"\"","v":""},null,null,null,null,null,null,null,null,null,null,null,null,null,null,null,null,null,null,null,null,null,null,null,null,null,null,null,null,null,0,null,null,0,null,null,null,null,null,null,null,null,null,null,null,null,null,null,null,null,null,null,null,null,null,null,"常勤・専従",{"$f":"COUNTIF($J$61:$L$83,CB320)","v":0}]
[{"$f":"+A318","v":44},{"$f":"IF(①はじめに!F280=TRUE,①はじめに!D275,\"\")","v":""},null,null,null,null,{"$f":"IF(①はじめに!F280=TRUE,\"夜間支援員\",\"\")","v":""},null,null,null,null,null,null,null,{"$f":"IF(①はじめに!F280=TRUE,①はじめに!G275,\"\")","v":""},null,null,{"$f":"IF(①はじめに!F280=TRUE,①はじめに!D277,\"\")&\"\"","v":""},null,null,{"$f":"IF(①はじめに!F280=TRUE,①はじめに!H277,\"\")&\"\"","v":""},null,null,{"$f":"IF(①はじめに!F280=TRUE,①はじめに!F277,\"\")&\"\"","v":""},null,null,null,null,null,null,null,null,null,null,null,null,null,null,null,null,null,null,null,null,null,null,null,null,null,null,null,null,null,0,null,null,0,null,null,null,null,null,null,null,null,null,null,null,null,null,null,null,null,null,null,null,null,null,null,"常勤・兼務",{"$f":"COUNTIF($J$61:$L$83,CB321)","v":0}]
[{"$f":"+A318","v":44},{"$f":"IF(①はじめに!G280=TRUE,①はじめに!D275,\"\")","v":""},null,null,null,null,{"$f":"IF(①はじめに!G280=TRUE,\"日中支援員\",\"\")","v":""},null,null,null,null,null,null,null,{"$f":"IF(①はじめに!G280=TRUE,①はじめに!G275,\"\")","v":""},null,null,{"$f":"IF(①はじめに!G280=TRUE,①はじめに!D277,\"\")&\"\"","v":""},null,null,{"$f":"IF(①はじめに!G280=TRUE,①はじめに!H277,\"\")&\"\"","v":""},null,null,{"$f":"IF(①はじめに!G280=TRUE,①はじめに!F277,\"\")&\"\"","v":""},null,null,null,null,null,null,null,null,null,null,null,null,null,null,null,null,null,null,null,null,null,null,null,null,null,null,null,null,null,0,null,null,0]
[{"$f":"+A318","v":44},{"$f":"IF(①はじめに!H280=TRUE,①はじめに!D275,\"\")","v":""},null,null,null,null,{"$f":"IF(①はじめに!H280=TRUE,\"加配要員\",\"\")","v":""},null,null,null,null,null,null,null,{"$f":"IF(①はじめに!H280=TRUE,①はじめに!G275,\"\")","v":""},null,null,{"$f":"IF(①はじめに!H280=TRUE,①はじめに!D277,\"\")&\"\"","v":""},null,null,{"$f":"IF(①はじめに!H280=TRUE,①はじめに!H277,\"\")&\"\"","v":""},null,null,{"$f":"IF(①はじめに!H280=TRUE,①はじめに!F277,\"\")&\"\"","v":""},null,null,null,null,null,null,null,null,null,null,null,null,null,null,null,null,null,null,null,null,null,null,null,null,null,null,null,null,null,0,null,null,0]
[{"$f":"+A318+1","v":45},{"$f":"IF(①はじめに!C286=TRUE,①はじめに!D281,\"\")","v":""},null,null,null,null,{"$f":"IF(①はじめに!C286=TRUE,\"サービス管理責任者\",\"\")","v":""},null,null,null,null,null,null,null,{"$f":"IF(①はじめに!C286=TRUE,①はじめに!G281,\"\")","v":""},null,null,{"$f":"IF(①はじめに!C286=TRUE,①はじめに!D283,\"\")&\"\"","v":""},null,null,{"$f":"IF(①はじめに!C286=TRUE,①はじめに!H283,\"\")&\"\"","v":""},null,null,{"$f":"IF(①はじめに!C286=TRUE,①はじめに!F283,\"\")&\"\"","v":""},null,null,null,null,null,null,null,null,null,null,null,null,null,null,null,null,null,null,null,null,null,null,null,null,null,null,null,null,null,0,null,null,0,null,null,null,null,null,null,null,null,null,null,null,null,null,null,null,null,null,null,null,null,null,null,"常勤・専従",{"$f":"COUNTIF($J$61:$L$83,CB324)","v":0}]
[{"$f":"+A324","v":45},{"$f":"IF(①はじめに!D286=TRUE,①はじめに!D281,\"\")","v":""},null,null,null,null,{"$f":"IF(①はじめに!D286=TRUE,\"世話人\",\"\")","v":""},null,null,null,null,null,null,null,{"$f":"IF(①はじめに!D286=TRUE,①はじめに!G281,\"\")","v":""},null,null,{"$f":"IF(①はじめに!D286=TRUE,①はじめに!D283,\"\")&\"\"","v":""},null,null,{"$f":"IF(①はじめに!D286=TRUE,①はじめに!H283,\"\")&\"\"","v":""},null,null,{"$f":"IF(①はじめに!D286=TRUE,①はじめに!F283,\"\")&\"\"","v":""},null,null,null,null,null,null,null,null,null,null,null,null,null,null,null,null,null,null,null,null,null,null,null,null,null,null,null,null,null,0,null,null,0,null,null,null,null,null,null,null,null,null,null,null,null,null,null,null,null,null,null,null,null,null,null,"常勤・兼務",{"$f":"COUNTIF($J$61:$L$83,CB325)","v":0}]
[{"$f":"+A324","v":45},{"$f":"IF(①はじめに!E286=TRUE,①はじめに!D281,\"\")","v":""},null,null,null,null,{"$f":"IF(①はじめに!E286=TRUE,\"生活支援員\",\"\")","v":""},null,null,null,null,null,null,null,{"$f":"IF(①はじめに!E286=TRUE,①はじめに!G281,\"\")","v":""},null,null,{"$f":"IF(①はじめに!E286=TRUE,①はじめに!D283,\"\")&\"\"","v":""},null,null,{"$f":"IF(①はじめに!E286=TRUE,①はじめに!H283,\"\")&\"\"","v":""},null,null,{"$f":"IF(①はじめに!E286=TRUE,①はじめに!F283,\"\")&\"\"","v":""},null,null,null,null,null,null,null,null,null,null,null,null,null,null,null,null,null,null,null,null,null,null,null,null,null,null,null,null,null,0,null,null,0,null,null,null,null,null,null,null,null,null,null,null,null,null,null,null,null,null,null,null,null,null,null,"非常勤・専従",{"$f":"COUNTIF($J$61:$L$83,CB326)","v":0}]
[{"$f":"+A324","v":45},{"$f":"IF(①はじめに!F286=TRUE,①はじめに!D281,\"\")","v":""},null,null,null,null,{"$f":"IF(①はじめに!F286=TRUE,\"夜間支援員\",\"\")","v":""},null,null,null,null,null,null,null,{"$f":"IF(①はじめに!F286=TRUE,①はじめに!G281,\"\")","v":""},null,null,{"$f":"IF(①はじめに!F286=TRUE,①はじめに!D283,\"\")&\"\"","v":""},null,null,{"$f":"IF(①はじめに!F286=TRUE,①はじめに!H283,\"\")&\"\"","v":""},null,null,{"$f":"IF(①はじめに!F286=TRUE,①はじめに!F283,\"\")&\"\"","v":""},null,null,null,null,null,null,null,null,null,null,null,null,null,null,null,null,null,null,null,null,null,null,null,null,null,null,null,null,null,0,null,null,0]
[{"$f":"+A324","v":45},{"$f":"IF(①はじめに!G286=TRUE,①はじめに!D281,\"\")","v":""},null,null,null,null,{"$f":"IF(①はじめに!G286=TRUE,\"日中支援員\",\"\")","v":""},null,null,null,null,null,null,null,{"$f":"IF(①はじめに!G286=TRUE,①はじめに!G281,\"\")","v":""},null,null,{"$f":"IF(①はじめに!G286=TRUE,①はじめに!D283,\"\")&\"\"","v":""},null,null,{"$f":"IF(①はじめに!G286=TRUE,①はじめに!H283,\"\")&\"\"","v":""},null,null,{"$f":"IF(①はじめに!G286=TRUE,①はじめに!F283,\"\")&\"\"","v":""},null,null,null,null,null,null,null,null,null,null,null,null,null,null,null,null,null,null,null,null,null,null,null,null,null,null,null,null,null,0,null,null,0]
[{"$f":"+A324","v":45},{"$f":"IF(①はじめに!H286=TRUE,①はじめに!D281,\"\")","v":""},null,null,null,null,{"$f":"IF(①はじめに!H286=TRUE,\"加配要員\",\"\")","v":""},null,null,null,null,null,null,null,{"$f":"IF(①はじめに!H286=TRUE,①はじめに!G281,\"\")","v":""},null,null,{"$f":"IF(①はじめに!H286=TRUE,①はじめに!D283,\"\")&\"\"","v":""},null,null,{"$f":"IF(①はじめに!H286=TRUE,①はじめに!H283,\"\")&\"\"","v":""},null,null,{"$f":"IF(①はじめに!H286=TRUE,①はじめに!F283,\"\")&\"\"","v":""},null,null,null,null,null,null,null,null,null,null,null,null,null,null,null,null,null,null,null,null,null,null,null,null,null,null,null,null,null,0,null,null,0]
[{"$f":"+A324+1","v":46},{"$f":"IF(①はじめに!C292=TRUE,①はじめに!D287,\"\")","v":""},null,null,null,null,{"$f":"IF(①はじめに!C292=TRUE,\"サービス管理責任者\",\"\")","v":""},null,null,null,null,null,null,null,{"$f":"IF(①はじめに!C292=TRUE,①はじめに!G287,\"\")","v":""},null,null,{"$f":"IF(①はじめに!C292=TRUE,①はじめに!D289,\"\")&\"\"","v":""},null,null,{"$f":"IF(①はじめに!C292=TRUE,①はじめに!H289,\"\")&\"\"","v":""},null,null,{"$f":"IF(①はじめに!C292=TRUE,①はじめに!F289,\"\")&\"\"","v":""},null,null,null,null,null,null,null,null,null,null,null,null,null,null,null,null,null,null,null,null,null,null,null,null,null,null,null,null,null,0,null,null,0]
[{"$f":"+A330","v":46},{"$f":"IF(①はじめに!D292=TRUE,①はじめに!D287,\"\")","v":""},null,null,null,null,{"$f":"IF(①はじめに!D292=TRUE,\"世話人\",\"\")","v":""},null,null,null,null,null,null,null,{"$f":"IF(①はじめに!D292=TRUE,①はじめに!G287,\"\")","v":""},null,null,{"$f":"IF(①はじめに!D292=TRUE,①はじめに!D289,\"\")&\"\"","v":""},null,null,{"$f":"IF(①はじめに!D292=TRUE,①はじめに!H289,\"\")&\"\"","v":""},null,null,{"$f":"IF(①はじめに!D292=TRUE,①はじめに!F289,\"\")&\"\"","v":""},null,null,null,null,null,null,null,null,null,null,null,null,null,null,null,null,null,null,null,null,null,null,null,null,null,null,null,null,null,0,null,null,0]
[{"$f":"+A330","v":46},{"$f":"IF(①はじめに!E292=TRUE,①はじめに!D287,\"\")","v":""},null,null,null,null,{"$f":"IF(①はじめに!E292=TRUE,\"生活支援員\",\"\")","v":""},null,null,null,null,null,null,null,{"$f":"IF(①はじめに!E292=TRUE,①はじめに!G287,\"\")","v":""},null,null,{"$f":"IF(①はじめに!E292=TRUE,①はじめに!D289,\"\")&\"\"","v":""},null,null,{"$f":"IF(①はじめに!E292=TRUE,①はじめに!H289,\"\")&\"\"","v":""},null,null,{"$f":"IF(①はじめに!E292=TRUE,①はじめに!F289,\"\")&\"\"","v":""},null,null,null,null,null,null,null,null,null,null,null,null,null,null,null,null,null,null,null,null,null,null,null,null,null,null,null,null,null,0,null,null,0,null,null,null,null,null,null,null,null,null,null,null,null,null,null,null,null,null,null,null,null,null,null,"常勤・専従",{"$f":"COUNTIF($J$61:$L$83,CB332)","v":0}]
[{"$f":"+A330","v":46},{"$f":"IF(①はじめに!F292=TRUE,①はじめに!D287,\"\")","v":""},null,null,null,null,{"$f":"IF(①はじめに!F292=TRUE,\"夜間支援員\",\"\")","v":""},null,null,null,null,null,null,null,{"$f":"IF(①はじめに!F292=TRUE,①はじめに!G287,\"\")","v":""},null,null,{"$f":"IF(①はじめに!F292=TRUE,①はじめに!D289,\"\")&\"\"","v":""},null,null,{"$f":"IF(①はじめに!F292=TRUE,①はじめに!H289,\"\")&\"\"","v":""},null,null,{"$f":"IF(①はじめに!F292=TRUE,①はじめに!F289,\"\")&\"\"","v":""},null,null,null,null,null,null,null,null,null,null,null,null,null,null,null,null,null,null,null,null,null,null,null,null,null,null,null,null,null,0,null,null,0,null,null,null,null,null,null,null,null,null,null,null,null,null,null,null,null,null,null,null,null,null,null,"常勤・兼務",{"$f":"COUNTIF($J$61:$L$83,CB333)","v":0}]
[{"$f":"+A330","v":46},{"$f":"IF(①はじめに!G292=TRUE,①はじめに!D287,\"\")","v":""},null,null,null,null,{"$f":"IF(①はじめに!G292=TRUE,\"日中支援員\",\"\")","v":""},null,null,null,null,null,null,null,{"$f":"IF(①はじめに!G292=TRUE,①はじめに!G287,\"\")","v":""},null,null,{"$f":"IF(①はじめに!G292=TRUE,①はじめに!D289,\"\")&\"\"","v":""},null,null,{"$f":"IF(①はじめに!G292=TRUE,①はじめに!H289,\"\")&\"\"","v":""},null,null,{"$f":"IF(①はじめに!G292=TRUE,①はじめに!F289,\"\")&\"\"","v":""},null,null,null,null,null,null,null,null,null,null,null,null,null,null,null,null,null,null,null,null,null,null,null,null,null,null,null,null,null,0,null,null,0,null,null,null,null,null,null,null,null,null,null,null,null,null,null,null,null,null,null,null,null,null,null,"非常勤・専従",{"$f":"COUNTIF($J$61:$L$83,CB334)","v":0}]
[{"$f":"+A330","v":46},{"$f":"IF(①はじめに!H292=TRUE,①はじめに!D287,\"\")","v":""},null,null,null,null,{"$f":"IF(①はじめに!H292=TRUE,\"加配要員\",\"\")","v":""},null,null,null,null,null,null,null,{"$f":"IF(①はじめに!H292=TRUE,①はじめに!G287,\"\")","v":""},null,null,{"$f":"IF(①はじめに!H292=TRUE,①はじめに!D289,\"\")&\"\"","v":""},null,null,{"$f":"IF(①はじめに!H292=TRUE,①はじめに!H289,\"\")&\"\"","v":""},null,null,{"$f":"IF(①はじめに!H292=TRUE,①はじめに!F289,\"\")&\"\"","v":""},null,null,null,null,null,null,null,null,null,null,null,null,null,null,null,null,null,null,null,null,null,null,null,null,null,null,null,null,null,0,null,null,0]
[{"$f":"+A330+1","v":47},{"$f":"IF(①はじめに!C298=TRUE,①はじめに!D293,\"\")","v":""},null,null,null,null,{"$f":"IF(①はじめに!C298=TRUE,\"サービス管理責任者\",\"\")","v":""},null,null,null,null,null,null,null,{"$f":"IF(①はじめに!C298=TRUE,①はじめに!G293,\"\")","v":""},null,null,{"$f":"IF(①はじめに!C298=TRUE,①はじめに!D295,\"\")&\"\"","v":""},null,null,{"$f":"IF(①はじめに!C298=TRUE,①はじめに!H295,\"\")&\"\"","v":""},null,null,{"$f":"IF(①はじめに!C298=TRUE,①はじめに!F295,\"\")&\"\"","v":""},null,null,null,null,null,null,null,null,null,null,null,null,null,null,null,null,null,null,null,null,null,null,null,null,null,null,null,null,null,0,null,null,0]
[{"$f":"+A336","v":47},{"$f":"IF(①はじめに!D298=TRUE,①はじめに!D293,\"\")","v":""},null,null,null,null,{"$f":"IF(①はじめに!D298=TRUE,\"世話人\",\"\")","v":""},null,null,null,null,null,null,null,{"$f":"IF(①はじめに!D298=TRUE,①はじめに!G293,\"\")","v":""},null,null,{"$f":"IF(①はじめに!D298=TRUE,①はじめに!D295,\"\")&\"\"","v":""},null,null,{"$f":"IF(①はじめに!D298=TRUE,①はじめに!H295,\"\")&\"\"","v":""},null,null,{"$f":"IF(①はじめに!D298=TRUE,①はじめに!F295,\"\")&\"\"","v":""},null,null,null,null,null,null,null,null,null,null,null,null,null,null,null,null,null,null,null,null,null,null,null,null,null,null,null,null,null,0,null,null,0]
[{"$f":"+A336","v":47},{"$f":"IF(①はじめに!E298=TRUE,①はじめに!D293,\"\")","v":""},null,null,null,null,{"$f":"IF(①はじめに!E298=TRUE,\"生活支援員\",\"\")","v":""},null,null,null,null,null,null,null,{"$f":"IF(①はじめに!E298=TRUE,①はじめに!G293,\"\")","v":""},null,null,{"$f":"IF(①はじめに!E298=TRUE,①はじめに!D295,\"\")&\"\"","v":""},null,null,{"$f":"IF(①はじめに!E298=TRUE,①はじめに!H295,\"\")&\"\"","v":""},null,null,{"$f":"IF(①はじめに!E298=TRUE,①はじめに!F295,\"\")&\"\"","v":""},null,null,null,null,null,null,null,null,null,null,null,null,null,null,null,null,null,null,null,null,null,null,null,null,null,null,null,null,null,0,null,null,0,null,null,null,null,null,null,null,null,null,null,null,null,null,null,null,null,null,null,null,null,null,null,"常勤・専従",{"$f":"COUNTIF($J$61:$L$83,CB338)","v":0}]
[{"$f":"+A336","v":47},{"$f":"IF(①はじめに!F298=TRUE,①はじめに!D293,\"\")","v":""},null,null,null,null,{"$f":"IF(①はじめに!F298=TRUE,\"夜間支援員\",\"\")","v":""},null,null,null,null,null,null,null,{"$f":"IF(①はじめに!F298=TRUE,①はじめに!G293,\"\")","v":""},null,null,{"$f":"IF(①はじめに!F298=TRUE,①はじめに!D295,\"\")&\"\"","v":""},null,null,{"$f":"IF(①はじめに!F298=TRUE,①はじめに!H295,\"\")&\"\"","v":""},null,null,{"$f":"IF(①はじめに!F298=TRUE,①はじめに!F295,\"\")&\"\"","v":""},null,null,null,null,null,null,null,null,null,null,null,null,null,null,null,null,null,null,null,null,null,null,null,null,null,null,null,null,null,0,null,null,0,null,null,null,null,null,null,null,null,null,null,null,null,null,null,null,null,null,null,null,null,null,null,"常勤・兼務",{"$f":"COUNTIF($J$61:$L$83,CB339)","v":0}]
[{"$f":"+A336","v":47},{"$f":"IF(①はじめに!G298=TRUE,①はじめに!D293,\"\")","v":""},null,null,null,null,{"$f":"IF(①はじめに!G298=TRUE,\"日中支援員\",\"\")","v":""},null,null,null,null,null,null,null,{"$f":"IF(①はじめに!G298=TRUE,①はじめに!G293,\"\")","v":""},null,null,{"$f":"IF(①はじめに!G298=TRUE,①はじめに!D295,\"\")&\"\"","v":""},null,null,{"$f":"IF(①はじめに!G298=TRUE,①はじめに!H295,\"\")&\"\"","v":""},null,null,{"$f":"IF(①はじめに!G298=TRUE,①はじめに!F295,\"\")&\"\"","v":""},null,null,null,null,null,null,null,null,null,null,null,null,null,null,null,null,null,null,null,null,null,null,null,null,null,null,null,null,null,0,null,null,0]
[{"$f":"+A336","v":47},{"$f":"IF(①はじめに!H298=TRUE,①はじめに!D293,\"\")","v":""},null,null,null,null,{"$f":"IF(①はじめに!H298=TRUE,\"加配要員\",\"\")","v":""},null,null,null,null,null,null,null,{"$f":"IF(①はじめに!H298=TRUE,①はじめに!G293,\"\")","v":""},null,null,{"$f":"IF(①はじめに!H298=TRUE,①はじめに!D295,\"\")&\"\"","v":""},null,null,{"$f":"IF(①はじめに!H298=TRUE,①はじめに!H295,\"\")&\"\"","v":""},null,null,{"$f":"IF(①はじめに!H298=TRUE,①はじめに!F295,\"\")&\"\"","v":""},null,null,null,null,null,null,null,null,null,null,null,null,null,null,null,null,null,null,null,null,null,null,null,null,null,null,null,null,null,0,null,null,0]
[{"$f":"+A336+1","v":48},{"$f":"IF(①はじめに!C304=TRUE,①はじめに!D299,\"\")","v":""},null,null,null,null,{"$f":"IF(①はじめに!C304=TRUE,\"サービス管理責任者\",\"\")","v":""},null,null,null,null,null,null,null,{"$f":"IF(①はじめに!C304=TRUE,①はじめに!G299,\"\")","v":""},null,null,{"$f":"IF(①はじめに!C304=TRUE,①はじめに!D301,\"\")&\"\"","v":""},null,null,{"$f":"IF(①はじめに!C304=TRUE,①はじめに!H301,\"\")&\"\"","v":""},null,null,{"$f":"IF(①はじめに!C304=TRUE,①はじめに!F301,\"\")&\"\"","v":""},null,null,null,null,null,null,null,null,null,null,null,null,null,null,null,null,null,null,null,null,null,null,null,null,null,null,null,null,null,0,null,null,0,null,null,null,null,null,null,null,null,null,null,null,null,null,null,null,null,null,null,null,null,null,null,"常勤・専従",{"$f":"COUNTIF($J$61:$L$83,CB342)","v":0}]
[{"$f":"+A342","v":48},{"$f":"IF(①はじめに!D304=TRUE,①はじめに!D299,\"\")","v":""},null,null,null,null,{"$f":"IF(①はじめに!D304=TRUE,\"世話人\",\"\")","v":""},null,null,null,null,null,null,null,{"$f":"IF(①はじめに!D304=TRUE,①はじめに!G299,\"\")","v":""},null,null,{"$f":"IF(①はじめに!D304=TRUE,①はじめに!D301,\"\")&\"\"","v":""},null,null,{"$f":"IF(①はじめに!D304=TRUE,①はじめに!H301,\"\")&\"\"","v":""},null,null,{"$f":"IF(①はじめに!D304=TRUE,①はじめに!F301,\"\")&\"\"","v":""},null,null,null,null,null,null,null,null,null,null,null,null,null,null,null,null,null,null,null,null,null,null,null,null,null,null,null,null,null,0,null,null,0,null,null,null,null,null,null,null,null,null,null,null,null,null,null,null,null,null,null,null,null,null,null,"常勤・兼務",{"$f":"COUNTIF($J$61:$L$83,CB343)","v":0}]
[{"$f":"+A342","v":48},{"$f":"IF(①はじめに!E304=TRUE,①はじめに!D299,\"\")","v":""},null,null,null,null,{"$f":"IF(①はじめに!E304=TRUE,\"生活支援員\",\"\")","v":""},null,null,null,null,null,null,null,{"$f":"IF(①はじめに!E304=TRUE,①はじめに!G299,\"\")","v":""},null,null,{"$f":"IF(①はじめに!E304=TRUE,①はじめに!D301,\"\")&\"\"","v":""},null,null,{"$f":"IF(①はじめに!E304=TRUE,①はじめに!H301,\"\")&\"\"","v":""},null,null,{"$f":"IF(①はじめに!E304=TRUE,①はじめに!F301,\"\")&\"\"","v":""},null,null,null,null,null,null,null,null,null,null,null,null,null,null,null,null,null,null,null,null,null,null,null,null,null,null,null,null,null,0,null,null,0,null,null,null,null,null,null,null,null,null,null,null,null,null,null,null,null,null,null,null,null,null,null,"非常勤・専従",{"$f":"COUNTIF($J$61:$L$83,CB344)","v":0}]
[{"$f":"+A342","v":48},{"$f":"IF(①はじめに!F304=TRUE,①はじめに!D299,\"\")","v":""},null,null,null,null,{"$f":"IF(①はじめに!F304=TRUE,\"夜間支援員\",\"\")","v":""},null,null,null,null,null,null,null,{"$f":"IF(①はじめに!F304=TRUE,①はじめに!G299,\"\")","v":""},null,null,{"$f":"IF(①はじめに!F304=TRUE,①はじめに!D301,\"\")&\"\"","v":""},null,null,{"$f":"IF(①はじめに!F304=TRUE,①はじめに!H301,\"\")&\"\"","v":""},null,null,{"$f":"IF(①はじめに!F304=TRUE,①はじめに!F301,\"\")&\"\"","v":""},null,null,null,null,null,null,null,null,null,null,null,null,null,null,null,null,null,null,null,null,null,null,null,null,null,null,null,null,null,0,null,null,0]
[{"$f":"+A342","v":48},{"$f":"IF(①はじめに!G304=TRUE,①はじめに!D299,\"\")","v":""},null,null,null,null,{"$f":"IF(①はじめに!G304=TRUE,\"日中支援員\",\"\")","v":""},null,null,null,null,null,null,null,{"$f":"IF(①はじめに!G304=TRUE,①はじめに!G299,\"\")","v":""},null,null,{"$f":"IF(①はじめに!G304=TRUE,①はじめに!D301,\"\")&\"\"","v":""},null,null,{"$f":"IF(①はじめに!G304=TRUE,①はじめに!H301,\"\")&\"\"","v":""},null,null,{"$f":"IF(①はじめに!G304=TRUE,①はじめに!F301,\"\")&\"\"","v":""},null,null,null,null,null,null,null,null,null,null,null,null,null,null,null,null,null,null,null,null,null,null,null,null,null,null,null,null,null,0,null,null,0]
[{"$f":"+A342","v":48},{"$f":"IF(①はじめに!H304=TRUE,①はじめに!D299,\"\")","v":""},null,null,null,null,{"$f":"IF(①はじめに!H304=TRUE,\"加配要員\",\"\")","v":""},null,null,null,null,null,null,null,{"$f":"IF(①はじめに!H304=TRUE,①はじめに!G299,\"\")","v":""},null,null,{"$f":"IF(①はじめに!H304=TRUE,①はじめに!D301,\"\")&\"\"","v":""},null,null,{"$f":"IF(①はじめに!H304=TRUE,①はじめに!H301,\"\")&\"\"","v":""},null,null,{"$f":"IF(①はじめに!H304=TRUE,①はじめに!F301,\"\")&\"\"","v":""},null,null,null,null,null,null,null,null,null,null,null,null,null,null,null,null,null,null,null,null,null,null,null,null,null,null,null,null,null,0,null,null,0]
[{"$f":"+A342+1","v":49},{"$f":"IF(①はじめに!C310=TRUE,①はじめに!D305,\"\")","v":""},null,null,null,null,{"$f":"IF(①はじめに!C310=TRUE,\"サービス管理責任者\",\"\")","v":""},null,null,null,null,null,null,null,{"$f":"IF(①はじめに!C310=TRUE,①はじめに!G305,\"\")","v":""},null,null,{"$f":"IF(①はじめに!C310=TRUE,①はじめに!D307,\"\")&\"\"","v":""},null,null,{"$f":"IF(①はじめに!C310=TRUE,①はじめに!H307,\"\")&\"\"","v":""},null,null,{"$f":"IF(①はじめに!C310=TRUE,①はじめに!F307,\"\")&\"\"","v":""},null,null,null,null,null,null,null,null,null,null,null,null,null,null,null,null,null,null,null,null,null,null,null,null,null,null,null,null,null,0,null,null,0]
[{"$f":"+A348","v":49},{"$f":"IF(①はじめに!D310=TRUE,①はじめに!D305,\"\")","v":""},null,null,null,null,{"$f":"IF(①はじめに!D310=TRUE,\"世話人\",\"\")","v":""},null,null,null,null,null,null,null,{"$f":"IF(①はじめに!D310=TRUE,①はじめに!G305,\"\")","v":""},null,null,{"$f":"IF(①はじめに!D310=TRUE,①はじめに!D307,\"\")&\"\"","v":""},null,null,{"$f":"IF(①はじめに!D310=TRUE,①はじめに!H307,\"\")&\"\"","v":""},null,null,{"$f":"IF(①はじめに!D310=TRUE,①はじめに!F307,\"\")&\"\"","v":""},null,null,null,null,null,null,null,null,null,null,null,null,null,null,null,null,null,null,null,null,null,null,null,null,null,null,null,null,null,0,null,null,0]
[{"$f":"+A348","v":49},{"$f":"IF(①はじめに!E310=TRUE,①はじめに!D305,\"\")","v":""},null,null,null,null,{"$f":"IF(①はじめに!E310=TRUE,\"生活支援員\",\"\")","v":""},null,null,null,null,null,null,null,{"$f":"IF(①はじめに!E310=TRUE,①はじめに!G305,\"\")","v":""},null,null,{"$f":"IF(①はじめに!E310=TRUE,①はじめに!D307,\"\")&\"\"","v":""},null,null,{"$f":"IF(①はじめに!E310=TRUE,①はじめに!H307,\"\")&\"\"","v":""},null,null,{"$f":"IF(①はじめに!E310=TRUE,①はじめに!F307,\"\")&\"\"","v":""},null,null,null,null,null,null,null,null,null,null,null,null,null,null,null,null,null,null,null,null,null,null,null,null,null,null,null,null,null,0,null,null,0,null,null,null,null,null,null,null,null,null,null,null,null,null,null,null,null,null,null,null,null,null,null,"常勤・専従",{"$f":"COUNTIF($J$61:$L$83,CB350)","v":0}]
[{"$f":"+A348","v":49},{"$f":"IF(①はじめに!F310=TRUE,①はじめに!D305,\"\")","v":""},null,null,null,null,{"$f":"IF(①はじめに!F310=TRUE,\"夜間支援員\",\"\")","v":""},null,null,null,null,null,null,null,{"$f":"IF(①はじめに!F310=TRUE,①はじめに!G305,\"\")","v":""},null,null,{"$f":"IF(①はじめに!F310=TRUE,①はじめに!D307,\"\")&\"\"","v":""},null,null,{"$f":"IF(①はじめに!F310=TRUE,①はじめに!H307,\"\")&\"\"","v":""},null,null,{"$f":"IF(①はじめに!F310=TRUE,①はじめに!F307,\"\")&\"\"","v":""},null,null,null,null,null,null,null,null,null,null,null,null,null,null,null,null,null,null,null,null,null,null,null,null,null,null,null,null,null,0,null,null,0,null,null,null,null,null,null,null,null,null,null,null,null,null,null,null,null,null,null,null,null,null,null,"常勤・兼務",{"$f":"COUNTIF($J$61:$L$83,CB351)","v":0}]
[{"$f":"+A348","v":49},{"$f":"IF(①はじめに!G310=TRUE,①はじめに!D305,\"\")","v":""},null,null,null,null,{"$f":"IF(①はじめに!G310=TRUE,\"日中支援員\",\"\")","v":""},null,null,null,null,null,null,null,{"$f":"IF(①はじめに!G310=TRUE,①はじめに!G305,\"\")","v":""},null,null,{"$f":"IF(①はじめに!G310=TRUE,①はじめに!D307,\"\")&\"\"","v":""},null,null,{"$f":"IF(①はじめに!G310=TRUE,①はじめに!H307,\"\")&\"\"","v":""},null,null,{"$f":"IF(①はじめに!G310=TRUE,①はじめに!F307,\"\")&\"\"","v":""},null,null,null,null,null,null,null,null,null,null,null,null,null,null,null,null,null,null,null,null,null,null,null,null,null,null,null,null,null,0,null,null,0]
[{"$f":"+A348","v":49},{"$f":"IF(①はじめに!H310=TRUE,①はじめに!D305,\"\")","v":""},null,null,null,null,{"$f":"IF(①はじめに!H310=TRUE,\"加配要員\",\"\")","v":""},null,null,null,null,null,null,null,{"$f":"IF(①はじめに!H310=TRUE,①はじめに!G305,\"\")","v":""},null,null,{"$f":"IF(①はじめに!H310=TRUE,①はじめに!D307,\"\")&\"\"","v":""},null,null,{"$f":"IF(①はじめに!H310=TRUE,①はじめに!H307,\"\")&\"\"","v":""},null,null,{"$f":"IF(①はじめに!H310=TRUE,①はじめに!F307,\"\")&\"\"","v":""},null,null,null,null,null,null,null,null,null,null,null,null,null,null,null,null,null,null,null,null,null,null,null,null,null,null,null,null,null,0,null,null,0]
[{"$f":"+A348+1","v":50},{"$f":"IF(①はじめに!C316=TRUE,①はじめに!D311,\"\")","v":""},null,null,null,null,{"$f":"IF(①はじめに!C316=TRUE,\"サービス管理責任者\",\"\")","v":""},null,null,null,null,null,null,null,{"$f":"IF(①はじめに!C316=TRUE,①はじめに!G311,\"\")","v":""},null,null,{"$f":"IF(①はじめに!C316=TRUE,①はじめに!D313,\"\")&\"\"","v":""},null,null,{"$f":"IF(①はじめに!C316=TRUE,①はじめに!H313,\"\")&\"\"","v":""},null,null,{"$f":"IF(①はじめに!C316=TRUE,①はじめに!F313,\"\")&\"\"","v":""},null,null,null,null,null,null,null,null,null,null,null,null,null,null,null,null,null,null,null,null,null,null,null,null,null,null,null,null,null,0,null,null,0,null,null,null,null,null,null,null,null,null,null,null,null,null,null,null,null,null,null,null,null,null,null,"常勤・専従",{"$f":"COUNTIF($J$61:$L$83,CB354)","v":0}]
[{"$f":"+A354","v":50},{"$f":"IF(①はじめに!D316=TRUE,①はじめに!D311,\"\")","v":""},null,null,null,null,{"$f":"IF(①はじめに!D316=TRUE,\"世話人\",\"\")","v":""},null,null,null,null,null,null,null,{"$f":"IF(①はじめに!D316=TRUE,①はじめに!G311,\"\")","v":""},null,null,{"$f":"IF(①はじめに!D316=TRUE,①はじめに!D313,\"\")&\"\"","v":""},null,null,{"$f":"IF(①はじめに!D316=TRUE,①はじめに!H313,\"\")&\"\"","v":""},null,null,{"$f":"IF(①はじめに!D316=TRUE,①はじめに!F313,\"\")&\"\"","v":""},null,null,null,null,null,null,null,null,null,null,null,null,null,null,null,null,null,null,null,null,null,null,null,null,null,null,null,null,null,0,null,null,0,null,null,null,null,null,null,null,null,null,null,null,null,null,null,null,null,null,null,null,null,null,null,"常勤・兼務",{"$f":"COUNTIF($J$61:$L$83,CB355)","v":0}]
[{"$f":"+A354","v":50},{"$f":"IF(①はじめに!E316=TRUE,①はじめに!D311,\"\")","v":""},null,null,null,null,{"$f":"IF(①はじめに!E316=TRUE,\"生活支援員\",\"\")","v":""},null,null,null,null,null,null,null,{"$f":"IF(①はじめに!E316=TRUE,①はじめに!G311,\"\")","v":""},null,null,{"$f":"IF(①はじめに!E316=TRUE,①はじめに!D313,\"\")&\"\"","v":""},null,null,{"$f":"IF(①はじめに!E316=TRUE,①はじめに!H313,\"\")&\"\"","v":""},null,null,{"$f":"IF(①はじめに!E316=TRUE,①はじめに!F313,\"\")&\"\"","v":""},null,null,null,null,null,null,null,null,null,null,null,null,null,null,null,null,null,null,null,null,null,null,null,null,null,null,null,null,null,0,null,null,0,null,null,null,null,null,null,null,null,null,null,null,null,null,null,null,null,null,null,null,null,null,null,"非常勤・専従",{"$f":"COUNTIF($J$61:$L$83,CB356)","v":0}]
[{"$f":"+A354","v":50},{"$f":"IF(①はじめに!F316=TRUE,①はじめに!D311,\"\")","v":""},null,null,null,null,{"$f":"IF(①はじめに!F316=TRUE,\"夜間支援員\",\"\")","v":""},null,null,null,null,null,null,null,{"$f":"IF(①はじめに!F316=TRUE,①はじめに!G311,\"\")","v":""},null,null,{"$f":"IF(①はじめに!F316=TRUE,①はじめに!D313,\"\")&\"\"","v":""},null,null,{"$f":"IF(①はじめに!F316=TRUE,①はじめに!H313,\"\")&\"\"","v":""},null,null,{"$f":"IF(①はじめに!F316=TRUE,①はじめに!F313,\"\")&\"\"","v":""},null,null,null,null,null,null,null,null,null,null,null,null,null,null,null,null,null,null,null,null,null,null,null,null,null,null,null,null,null,0,null,null,0]
[{"$f":"+A354","v":50},{"$f":"IF(①はじめに!G316=TRUE,①はじめに!D311,\"\")","v":""},null,null,null,null,{"$f":"IF(①はじめに!G316=TRUE,\"日中支援員\",\"\")","v":""},null,null,null,null,null,null,null,{"$f":"IF(①はじめに!G316=TRUE,①はじめに!G311,\"\")","v":""},null,null,{"$f":"IF(①はじめに!G316=TRUE,①はじめに!D313,\"\")&\"\"","v":""},null,null,{"$f":"IF(①はじめに!G316=TRUE,①はじめに!H313,\"\")&\"\"","v":""},null,null,{"$f":"IF(①はじめに!G316=TRUE,①はじめに!F313,\"\")&\"\"","v":""},null,null,null,null,null,null,null,null,null,null,null,null,null,null,null,null,null,null,null,null,null,null,null,null,null,null,null,null,null,0,null,null,0]
[{"$f":"+A354","v":50},{"$f":"IF(①はじめに!H316=TRUE,①はじめに!D311,\"\")","v":""},null,null,null,null,{"$f":"IF(①はじめに!H316=TRUE,\"加配要員\",\"\")","v":""},null,null,null,null,null,null,null,{"$f":"IF(①はじめに!H316=TRUE,①はじめに!G311,\"\")","v":""},null,null,{"$f":"IF(①はじめに!H316=TRUE,①はじめに!D313,\"\")&\"\"","v":""},null,null,{"$f":"IF(①はじめに!H316=TRUE,①はじめに!H313,\"\")&\"\"","v":""},null,null,{"$f":"IF(①はじめに!H316=TRUE,①はじめに!F313,\"\")&\"\"","v":""},null,null,null,null,null,null,null,null,null,null,null,null,null,null,null,null,null,null,null,null,null,null,null,null,null,null,null,null,null,0,null,null,0]
[{"$f":"+A354+1","v":51},{"$f":"IF(①はじめに!C322=TRUE,①はじめに!D317,\"\")","v":""},null,null,null,null,{"$f":"IF(①はじめに!C322=TRUE,\"サービス管理責任者\",\"\")","v":""},null,null,null,null,null,null,null,{"$f":"IF(①はじめに!C322=TRUE,①はじめに!G317,\"\")","v":""},null,null,{"$f":"IF(①はじめに!C322=TRUE,①はじめに!D319,\"\")&\"\"","v":""},null,null,{"$f":"IF(①はじめに!C322=TRUE,①はじめに!H319,\"\")&\"\"","v":""},null,null,{"$f":"IF(①はじめに!C322=TRUE,①はじめに!F319,\"\")&\"\"","v":""},null,null,null,null,null,null,null,null,null,null,null,null,null,null,null,null,null,null,null,null,null,null,null,null,null,null,null,null,null,0,null,null,0]
[{"$f":"+A360","v":51},{"$f":"IF(①はじめに!D322=TRUE,①はじめに!D317,\"\")","v":""},null,null,null,null,{"$f":"IF(①はじめに!D322=TRUE,\"世話人\",\"\")","v":""},null,null,null,null,null,null,null,{"$f":"IF(①はじめに!D322=TRUE,①はじめに!G317,\"\")","v":""},null,null,{"$f":"IF(①はじめに!D322=TRUE,①はじめに!D319,\"\")&\"\"","v":""},null,null,{"$f":"IF(①はじめに!D322=TRUE,①はじめに!H319,\"\")&\"\"","v":""},null,null,{"$f":"IF(①はじめに!D322=TRUE,①はじめに!F319,\"\")&\"\"","v":""},null,null,null,null,null,null,null,null,null,null,null,null,null,null,null,null,null,null,null,null,null,null,null,null,null,null,null,null,null,0,null,null,0]
[{"$f":"+A360","v":51},{"$f":"IF(①はじめに!E322=TRUE,①はじめに!D317,\"\")","v":""},null,null,null,null,{"$f":"IF(①はじめに!E322=TRUE,\"生活支援員\",\"\")","v":""},null,null,null,null,null,null,null,{"$f":"IF(①はじめに!E322=TRUE,①はじめに!G317,\"\")","v":""},null,null,{"$f":"IF(①はじめに!E322=TRUE,①はじめに!D319,\"\")&\"\"","v":""},null,null,{"$f":"IF(①はじめに!E322=TRUE,①はじめに!H319,\"\")&\"\"","v":""},null,null,{"$f":"IF(①はじめに!E322=TRUE,①はじめに!F319,\"\")&\"\"","v":""},null,null,null,null,null,null,null,null,null,null,null,null,null,null,null,null,null,null,null,null,null,null,null,null,null,null,null,null,null,0,null,null,0,null,null,null,null,null,null,null,null,null,null,null,null,null,null,null,null,null,null,null,null,null,null,"常勤・専従",{"$f":"COUNTIF($J$61:$L$83,CB362)","v":0}]
[{"$f":"+A360","v":51},{"$f":"IF(①はじめに!F322=TRUE,①はじめに!D317,\"\")","v":""},null,null,null,null,{"$f":"IF(①はじめに!F322=TRUE,\"夜間支援員\",\"\")","v":""},null,null,null,null,null,null,null,{"$f":"IF(①はじめに!F322=TRUE,①はじめに!G317,\"\")","v":""},null,null,{"$f":"IF(①はじめに!F322=TRUE,①はじめに!D319,\"\")&\"\"","v":""},null,null,{"$f":"IF(①はじめに!F322=TRUE,①はじめに!H319,\"\")&\"\"","v":""},null,null,{"$f":"IF(①はじめに!F322=TRUE,①はじめに!F319,\"\")&\"\"","v":""},null,null,null,null,null,null,null,null,null,null,null,null,null,null,null,null,null,null,null,null,null,null,null,null,null,null,null,null,null,0,null,null,0,null,null,null,null,null,null,null,null,null,null,null,null,null,null,null,null,null,null,null,null,null,null,"常勤・兼務",{"$f":"COUNTIF($J$61:$L$83,CB363)","v":0}]
[{"$f":"+A360","v":51},{"$f":"IF(①はじめに!G322=TRUE,①はじめに!D317,\"\")","v":""},null,null,null,null,{"$f":"IF(①はじめに!G322=TRUE,\"日中支援員\",\"\")","v":""},null,null,null,null,null,null,null,{"$f":"IF(①はじめに!G322=TRUE,①はじめに!G317,\"\")","v":""},null,null,{"$f":"IF(①はじめに!G322=TRUE,①はじめに!D319,\"\")&\"\"","v":""},null,null,{"$f":"IF(①はじめに!G322=TRUE,①はじめに!H319,\"\")&\"\"","v":""},null,null,{"$f":"IF(①はじめに!G322=TRUE,①はじめに!F319,\"\")&\"\"","v":""},null,null,null,null,null,null,null,null,null,null,null,null,null,null,null,null,null,null,null,null,null,null,null,null,null,null,null,null,null,0,null,null,0,null,null,null,null,null,null,null,null,null,null,null,null,null,null,null,null,null,null,null,null,null,null,"非常勤・専従",{"$f":"COUNTIF($J$61:$L$83,CB364)","v":0}]
[{"$f":"+A360","v":51},{"$f":"IF(①はじめに!H322=TRUE,①はじめに!D317,\"\")","v":""},null,null,null,null,{"$f":"IF(①はじめに!H322=TRUE,\"加配要員\",\"\")","v":""},null,null,null,null,null,null,null,{"$f":"IF(①はじめに!H322=TRUE,①はじめに!G317,\"\")","v":""},null,null,{"$f":"IF(①はじめに!H322=TRUE,①はじめに!D319,\"\")&\"\"","v":""},null,null,{"$f":"IF(①はじめに!H322=TRUE,①はじめに!H319,\"\")&\"\"","v":""},null,null,{"$f":"IF(①はじめに!H322=TRUE,①はじめに!F319,\"\")&\"\"","v":""},null,null,null,null,null,null,null,null,null,null,null,null,null,null,null,null,null,null,null,null,null,null,null,null,null,null,null,null,null,0,null,null,0]
[{"$f":"+A360+1","v":52},{"$f":"IF(①はじめに!C328=TRUE,①はじめに!D323,\"\")","v":""},null,null,null,null,{"$f":"IF(①はじめに!C328=TRUE,\"サービス管理責任者\",\"\")","v":""},null,null,null,null,null,null,null,{"$f":"IF(①はじめに!C328=TRUE,①はじめに!G323,\"\")","v":""},null,null,{"$f":"IF(①はじめに!C328=TRUE,①はじめに!D325,\"\")&\"\"","v":""},null,null,{"$f":"IF(①はじめに!C328=TRUE,①はじめに!H325,\"\")&\"\"","v":""},null,null,{"$f":"IF(①はじめに!C328=TRUE,①はじめに!F325,\"\")&\"\"","v":""},null,null,null,null,null,null,null,null,null,null,null,null,null,null,null,null,null,null,null,null,null,null,null,null,null,null,null,null,null,{"$f":"SUM(Z366:BA366)","v":0},null,null,{"$f":"BB366/4","v":0}]
[{"$f":"+A366","v":52},{"$f":"IF(①はじめに!D328=TRUE,①はじめに!D323,\"\")","v":""},null,null,null,null,{"$f":"IF(①はじめに!D328=TRUE,\"世話人\",\"\")","v":""},null,null,null,null,null,null,null,{"$f":"IF(①はじめに!D328=TRUE,①はじめに!G323,\"\")","v":""},null,null,{"$f":"IF(①はじめに!D328=TRUE,①はじめに!D325,\"\")&\"\"","v":""},null,null,{"$f":"IF(①はじめに!D328=TRUE,①はじめに!H325,\"\")&\"\"","v":""},null,null,{"$f":"IF(①はじめに!D328=TRUE,①はじめに!F325,\"\")&\"\"","v":""},null,null,null,null,null,null,null,null,null,null,null,null,null,null,null,null,null,null,null,null,null,null,null,null,null,null,null,null,null,0,null,null,0]
[{"$f":"+A366","v":52},{"$f":"IF(①はじめに!E328=TRUE,①はじめに!D323,\"\")","v":""},null,null,null,null,{"$f":"IF(①はじめに!E328=TRUE,\"生活支援員\",\"\")","v":""},null,null,null,null,null,null,null,{"$f":"IF(①はじめに!E328=TRUE,①はじめに!G323,\"\")","v":""},null,null,{"$f":"IF(①はじめに!E328=TRUE,①はじめに!D325,\"\")&\"\"","v":""},null,null,{"$f":"IF(①はじめに!E328=TRUE,①はじめに!H325,\"\")&\"\"","v":""},null,null,{"$f":"IF(①はじめに!E328=TRUE,①はじめに!F325,\"\")&\"\"","v":""},null,null,null,null,null,null,null,null,null,null,null,null,null,null,null,null,null,null,null,null,null,null,null,null,null,null,null,null,null,0,null,null,0,null,null,null,null,null,null,null,null,null,null,null,null,null,null,null,null,null,null,null,null,null,null,"常勤・専従",{"$f":"COUNTIF($J$61:$L$83,CB368)","v":0}]
[{"$f":"+A366","v":52},{"$f":"IF(①はじめに!F328=TRUE,①はじめに!D323,\"\")","v":""},null,null,null,null,{"$f":"IF(①はじめに!F328=TRUE,\"夜間支援員\",\"\")","v":""},null,null,null,null,null,null,null,{"$f":"IF(①はじめに!F328=TRUE,①はじめに!G323,\"\")","v":""},null,null,{"$f":"IF(①はじめに!F328=TRUE,①はじめに!D325,\"\")&\"\"","v":""},null,null,{"$f":"IF(①はじめに!F328=TRUE,①はじめに!H325,\"\")&\"\"","v":""},null,null,{"$f":"IF(①はじめに!F328=TRUE,①はじめに!F325,\"\")&\"\"","v":""},null,null,null,null,null,null,null,null,null,null,null,null,null,null,null,null,null,null,null,null,null,null,null,null,null,null,null,null,null,0,null,null,0,null,null,null,null,null,null,null,null,null,null,null,null,null,null,null,null,null,null,null,null,null,null,"常勤・兼務",{"$f":"COUNTIF($J$61:$L$83,CB369)","v":0}]
[{"$f":"+A366","v":52},{"$f":"IF(①はじめに!G328=TRUE,①はじめに!D323,\"\")","v":""},null,null,null,null,{"$f":"IF(①はじめに!G328=TRUE,\"日中支援員\",\"\")","v":""},null,null,null,null,null,null,null,{"$f":"IF(①はじめに!G328=TRUE,①はじめに!G323,\"\")","v":""},null,null,{"$f":"IF(①はじめに!G328=TRUE,①はじめに!D325,\"\")&\"\"","v":""},null,null,{"$f":"IF(①はじめに!G328=TRUE,①はじめに!H325,\"\")&\"\"","v":""},null,null,{"$f":"IF(①はじめに!G328=TRUE,①はじめに!F325,\"\")&\"\"","v":""},null,null,null,null,null,null,null,null,null,null,null,null,null,null,null,null,null,null,null,null,null,null,null,null,null,null,null,null,null,0,null,null,0]
[{"$f":"+A366","v":52},{"$f":"IF(①はじめに!H328=TRUE,①はじめに!D323,\"\")","v":""},null,null,null,null,{"$f":"IF(①はじめに!H328=TRUE,\"加配要員\",\"\")","v":""},null,null,null,null,null,null,null,{"$f":"IF(①はじめに!H328=TRUE,①はじめに!G323,\"\")","v":""},null,null,{"$f":"IF(①はじめに!H328=TRUE,①はじめに!D325,\"\")&\"\"","v":""},null,null,{"$f":"IF(①はじめに!H328=TRUE,①はじめに!H325,\"\")&\"\"","v":""},null,null,{"$f":"IF(①はじめに!H328=TRUE,①はじめに!F325,\"\")&\"\"","v":""},null,null,null,null,null,null,null,null,null,null,null,null,null,null,null,null,null,null,null,null,null,null,null,null,null,null,null,null,null,0,null,null,0]
[{"$f":"+A366+1","v":53},{"$f":"IF(①はじめに!C334=TRUE,①はじめに!D329,\"\")","v":""},null,null,null,null,{"$f":"IF(①はじめに!C334=TRUE,\"サービス管理責任者\",\"\")","v":""},null,null,null,null,null,null,null,{"$f":"IF(①はじめに!C334=TRUE,①はじめに!G329,\"\")","v":""},null,null,{"$f":"IF(①はじめに!C334=TRUE,①はじめに!D331,\"\")&\"\"","v":""},null,null,{"$f":"IF(①はじめに!C334=TRUE,①はじめに!H331,\"\")&\"\"","v":""},null,null,{"$f":"IF(①はじめに!C334=TRUE,①はじめに!F331,\"\")&\"\"","v":""},null,null,null,null,null,null,null,null,null,null,null,null,null,null,null,null,null,null,null,null,null,null,null,null,null,null,null,null,null,0,null,null,0,null,null,null,null,null,null,null,null,null,null,null,null,null,null,null,null,null,null,null,null,null,null,"常勤・専従",{"$f":"COUNTIF($J$61:$L$83,CB372)","v":0}]
[{"$f":"+A372","v":53},{"$f":"IF(①はじめに!D334=TRUE,①はじめに!D329,\"\")","v":""},null,null,null,null,{"$f":"IF(①はじめに!D334=TRUE,\"世話人\",\"\")","v":""},null,null,null,null,null,null,null,{"$f":"IF(①はじめに!D334=TRUE,①はじめに!G329,\"\")","v":""},null,null,{"$f":"IF(①はじめに!D334=TRUE,①はじめに!D331,\"\")&\"\"","v":""},null,null,{"$f":"IF(①はじめに!D334=TRUE,①はじめに!H331,\"\")&\"\"","v":""},null,null,{"$f":"IF(①はじめに!D334=TRUE,①はじめに!F331,\"\")&\"\"","v":""},null,null,null,null,null,null,null,null,null,null,null,null,null,null,null,null,null,null,null,null,null,null,null,null,null,null,null,null,null,0,null,null,0,null,null,null,null,null,null,null,null,null,null,null,null,null,null,null,null,null,null,null,null,null,null,"常勤・兼務",{"$f":"COUNTIF($J$61:$L$83,CB373)","v":0}]
[{"$f":"+A372","v":53},{"$f":"IF(①はじめに!E334=TRUE,①はじめに!D329,\"\")","v":""},null,null,null,null,{"$f":"IF(①はじめに!E334=TRUE,\"生活支援員\",\"\")","v":""},null,null,null,null,null,null,null,{"$f":"IF(①はじめに!E334=TRUE,①はじめに!G329,\"\")","v":""},null,null,{"$f":"IF(①はじめに!E334=TRUE,①はじめに!D331,\"\")&\"\"","v":""},null,null,{"$f":"IF(①はじめに!E334=TRUE,①はじめに!H331,\"\")&\"\"","v":""},null,null,{"$f":"IF(①はじめに!E334=TRUE,①はじめに!F331,\"\")&\"\"","v":""},null,null,null,null,null,null,null,null,null,null,null,null,null,null,null,null,null,null,null,null,null,null,null,null,null,null,null,null,null,0,null,null,0,null,null,null,null,null,null,null,null,null,null,null,null,null,null,null,null,null,null,null,null,null,null,"非常勤・専従",{"$f":"COUNTIF($J$61:$L$83,CB374)","v":0}]
[{"$f":"+A372","v":53},{"$f":"IF(①はじめに!F334=TRUE,①はじめに!D329,\"\")","v":""},null,null,null,null,{"$f":"IF(①はじめに!F334=TRUE,\"夜間支援員\",\"\")","v":""},null,null,null,null,null,null,null,{"$f":"IF(①はじめに!F334=TRUE,①はじめに!G329,\"\")","v":""},null,null,{"$f":"IF(①はじめに!F334=TRUE,①はじめに!D331,\"\")&\"\"","v":""},null,null,{"$f":"IF(①はじめに!F334=TRUE,①はじめに!H331,\"\")&\"\"","v":""},null,null,{"$f":"IF(①はじめに!F334=TRUE,①はじめに!F331,\"\")&\"\"","v":""},null,null,null,null,null,null,null,null,null,null,null,null,null,null,null,null,null,null,null,null,null,null,null,null,null,null,null,null,null,0,null,null,0]
[{"$f":"+A372","v":53},{"$f":"IF(①はじめに!G334=TRUE,①はじめに!D329,\"\")","v":""},null,null,null,null,{"$f":"IF(①はじめに!G334=TRUE,\"日中支援員\",\"\")","v":""},null,null,null,null,null,null,null,{"$f":"IF(①はじめに!G334=TRUE,①はじめに!G329,\"\")","v":""},null,null,{"$f":"IF(①はじめに!G334=TRUE,①はじめに!D331,\"\")&\"\"","v":""},null,null,{"$f":"IF(①はじめに!G334=TRUE,①はじめに!H331,\"\")&\"\"","v":""},null,null,{"$f":"IF(①はじめに!G334=TRUE,①はじめに!F331,\"\")&\"\"","v":""},null,null,null,null,null,null,null,null,null,null,null,null,null,null,null,null,null,null,null,null,null,null,null,null,null,null,null,null,null,0,null,null,0]
[{"$f":"+A372","v":53},{"$f":"IF(①はじめに!H334=TRUE,①はじめに!D329,\"\")","v":""},null,null,null,null,{"$f":"IF(①はじめに!H334=TRUE,\"加配要員\",\"\")","v":""},null,null,null,null,null,null,null,{"$f":"IF(①はじめに!H334=TRUE,①はじめに!G329,\"\")","v":""},null,null,{"$f":"IF(①はじめに!H334=TRUE,①はじめに!D331,\"\")&\"\"","v":""},null,null,{"$f":"IF(①はじめに!H334=TRUE,①はじめに!H331,\"\")&\"\"","v":""},null,null,{"$f":"IF(①はじめに!H334=TRUE,①はじめに!F331,\"\")&\"\"","v":""},null,null,null,null,null,null,null,null,null,null,null,null,null,null,null,null,null,null,null,null,null,null,null,null,null,null,null,null,null,0,null,null,0]
[{"$f":"+A372+1","v":54},{"$f":"IF(①はじめに!C340=TRUE,①はじめに!D335,\"\")","v":""},null,null,null,null,{"$f":"IF(①はじめに!C340=TRUE,\"サービス管理責任者\",\"\")","v":""},null,null,null,null,null,null,null,{"$f":"IF(①はじめに!C340=TRUE,①はじめに!G335,\"\")","v":""},null,null,{"$f":"IF(①はじめに!C340=TRUE,①はじめに!D337,\"\")&\"\"","v":""},null,null,{"$f":"IF(①はじめに!C340=TRUE,①はじめに!H337,\"\")&\"\"","v":""},null,null,{"$f":"IF(①はじめに!C340=TRUE,①はじめに!F337,\"\")&\"\"","v":""},null,null,null,null,null,null,null,null,null,null,null,null,null,null,null,null,null,null,null,null,null,null,null,null,null,null,null,null,null,0,null,null,0]
[{"$f":"+A378","v":54},{"$f":"IF(①はじめに!D340=TRUE,①はじめに!D335,\"\")","v":""},null,null,null,null,{"$f":"IF(①はじめに!D340=TRUE,\"世話人\",\"\")","v":""},null,null,null,null,null,null,null,{"$f":"IF(①はじめに!D340=TRUE,①はじめに!G335,\"\")","v":""},null,null,{"$f":"IF(①はじめに!D340=TRUE,①はじめに!D337,\"\")&\"\"","v":""},null,null,{"$f":"IF(①はじめに!D340=TRUE,①はじめに!H337,\"\")&\"\"","v":""},null,null,{"$f":"IF(①はじめに!D340=TRUE,①はじめに!F337,\"\")&\"\"","v":""},null,null,null,null,null,null,null,null,null,null,null,null,null,null,null,null,null,null,null,null,null,null,null,null,null,null,null,null,null,0,null,null,0]
[{"$f":"+A378","v":54},{"$f":"IF(①はじめに!E340=TRUE,①はじめに!D335,\"\")","v":""},null,null,null,null,{"$f":"IF(①はじめに!E340=TRUE,\"生活支援員\",\"\")","v":""},null,null,null,null,null,null,null,{"$f":"IF(①はじめに!E340=TRUE,①はじめに!G335,\"\")","v":""},null,null,{"$f":"IF(①はじめに!E340=TRUE,①はじめに!D337,\"\")&\"\"","v":""},null,null,{"$f":"IF(①はじめに!E340=TRUE,①はじめに!H337,\"\")&\"\"","v":""},null,null,{"$f":"IF(①はじめに!E340=TRUE,①はじめに!F337,\"\")&\"\"","v":""},null,null,null,null,null,null,null,null,null,null,null,null,null,null,null,null,null,null,null,null,null,null,null,null,null,null,null,null,null,0,null,null,0,null,null,null,null,null,null,null,null,null,null,null,null,null,null,null,null,null,null,null,null,null,null,"常勤・専従",{"$f":"COUNTIF($J$61:$L$83,CB380)","v":0}]
[{"$f":"+A378","v":54},{"$f":"IF(①はじめに!F340=TRUE,①はじめに!D335,\"\")","v":""},null,null,null,null,{"$f":"IF(①はじめに!F340=TRUE,\"夜間支援員\",\"\")","v":""},null,null,null,null,null,null,null,{"$f":"IF(①はじめに!F340=TRUE,①はじめに!G335,\"\")","v":""},null,null,{"$f":"IF(①はじめに!F340=TRUE,①はじめに!D337,\"\")&\"\"","v":""},null,null,{"$f":"IF(①はじめに!F340=TRUE,①はじめに!H337,\"\")&\"\"","v":""},null,null,{"$f":"IF(①はじめに!F340=TRUE,①はじめに!F337,\"\")&\"\"","v":""},null,null,null,null,null,null,null,null,null,null,null,null,null,null,null,null,null,null,null,null,null,null,null,null,null,null,null,null,null,0,null,null,0,null,null,null,null,null,null,null,null,null,null,null,null,null,null,null,null,null,null,null,null,null,null,"常勤・兼務",{"$f":"COUNTIF($J$61:$L$83,CB381)","v":0}]
[{"$f":"+A378","v":54},{"$f":"IF(①はじめに!G340=TRUE,①はじめに!D335,\"\")","v":""},null,null,null,null,{"$f":"IF(①はじめに!G340=TRUE,\"日中支援員\",\"\")","v":""},null,null,null,null,null,null,null,{"$f":"IF(①はじめに!G340=TRUE,①はじめに!G335,\"\")","v":""},null,null,{"$f":"IF(①はじめに!G340=TRUE,①はじめに!D337,\"\")&\"\"","v":""},null,null,{"$f":"IF(①はじめに!G340=TRUE,①はじめに!H337,\"\")&\"\"","v":""},null,null,{"$f":"IF(①はじめに!G340=TRUE,①はじめに!F337,\"\")&\"\"","v":""},null,null,null,null,null,null,null,null,null,null,null,null,null,null,null,null,null,null,null,null,null,null,null,null,null,null,null,null,null,0,null,null,0]
[{"$f":"+A378","v":54},{"$f":"IF(①はじめに!H340=TRUE,①はじめに!D335,\"\")","v":""},null,null,null,null,{"$f":"IF(①はじめに!H340=TRUE,\"加配要員\",\"\")","v":""},null,null,null,null,null,null,null,{"$f":"IF(①はじめに!H340=TRUE,①はじめに!G335,\"\")","v":""},null,null,{"$f":"IF(①はじめに!H340=TRUE,①はじめに!D337,\"\")&\"\"","v":""},null,null,{"$f":"IF(①はじめに!H340=TRUE,①はじめに!H337,\"\")&\"\"","v":""},null,null,{"$f":"IF(①はじめに!H340=TRUE,①はじめに!F337,\"\")&\"\"","v":""},null,null,null,null,null,null,null,null,null,null,null,null,null,null,null,null,null,null,null,null,null,null,null,null,null,null,null,null,null,0,null,null,0]
[{"$f":"+A378+1","v":55},{"$f":"IF(①はじめに!C346=TRUE,①はじめに!D341,\"\")","v":""},null,null,null,null,{"$f":"IF(①はじめに!C346=TRUE,\"サービス管理責任者\",\"\")","v":""},null,null,null,null,null,null,null,{"$f":"IF(①はじめに!C346=TRUE,①はじめに!G341,\"\")","v":""},null,null,{"$f":"IF(①はじめに!C346=TRUE,①はじめに!D343,\"\")&\"\"","v":""},null,null,{"$f":"IF(①はじめに!C346=TRUE,①はじめに!H343,\"\")&\"\"","v":""},null,null,{"$f":"IF(①はじめに!C346=TRUE,①はじめに!F343,\"\")&\"\"","v":""},null,null,null,null,null,null,null,null,null,null,null,null,null,null,null,null,null,null,null,null,null,null,null,null,null,null,null,null,null,0,null,null,0,null,null,null,null,null,null,null,null,null,null,null,null,null,null,null,null,null,null,null,null,null,null,"常勤・専従",{"$f":"COUNTIF($J$61:$L$83,CB384)","v":0}]
[{"$f":"+A384","v":55},{"$f":"IF(①はじめに!D346=TRUE,①はじめに!D341,\"\")","v":""},null,null,null,null,{"$f":"IF(①はじめに!D346=TRUE,\"世話人\",\"\")","v":""},null,null,null,null,null,null,null,{"$f":"IF(①はじめに!D346=TRUE,①はじめに!G341,\"\")","v":""},null,null,{"$f":"IF(①はじめに!D346=TRUE,①はじめに!D343,\"\")&\"\"","v":""},null,null,{"$f":"IF(①はじめに!D346=TRUE,①はじめに!H343,\"\")&\"\"","v":""},null,null,{"$f":"IF(①はじめに!D346=TRUE,①はじめに!F343,\"\")&\"\"","v":""},null,null,null,null,null,null,null,null,null,null,null,null,null,null,null,null,null,null,null,null,null,null,null,null,null,null,null,null,null,0,null,null,0,null,null,null,null,null,null,null,null,null,null,null,null,null,null,null,null,null,null,null,null,null,null,"常勤・兼務",{"$f":"COUNTIF($J$61:$L$83,CB385)","v":0}]
[{"$f":"+A384","v":55},{"$f":"IF(①はじめに!E346=TRUE,①はじめに!D341,\"\")","v":""},null,null,null,null,{"$f":"IF(①はじめに!E346=TRUE,\"生活支援員\",\"\")","v":""},null,null,null,null,null,null,null,{"$f":"IF(①はじめに!E346=TRUE,①はじめに!G341,\"\")","v":""},null,null,{"$f":"IF(①はじめに!E346=TRUE,①はじめに!D343,\"\")&\"\"","v":""},null,null,{"$f":"IF(①はじめに!E346=TRUE,①はじめに!H343,\"\")&\"\"","v":""},null,null,{"$f":"IF(①はじめに!E346=TRUE,①はじめに!F343,\"\")&\"\"","v":""},null,null,null,null,null,null,null,null,null,null,null,null,null,null,null,null,null,null,null,null,null,null,null,null,null,null,null,null,null,0,null,null,0,null,null,null,null,null,null,null,null,null,null,null,null,null,null,null,null,null,null,null,null,null,null,"非常勤・専従",{"$f":"COUNTIF($J$61:$L$83,CB386)","v":0}]
[{"$f":"+A384","v":55},{"$f":"IF(①はじめに!F346=TRUE,①はじめに!D341,\"\")","v":""},null,null,null,null,{"$f":"IF(①はじめに!F346=TRUE,\"夜間支援員\",\"\")","v":""},null,null,null,null,null,null,null,{"$f":"IF(①はじめに!F346=TRUE,①はじめに!G341,\"\")","v":""},null,null,{"$f":"IF(①はじめに!F346=TRUE,①はじめに!D343,\"\")&\"\"","v":""},null,null,{"$f":"IF(①はじめに!F346=TRUE,①はじめに!H343,\"\")&\"\"","v":""},null,null,{"$f":"IF(①はじめに!F346=TRUE,①はじめに!F343,\"\")&\"\"","v":""},null,null,null,null,null,null,null,null,null,null,null,null,null,null,null,null,null,null,null,null,null,null,null,null,null,null,null,null,null,0,null,null,0]
[{"$f":"+A384","v":55},{"$f":"IF(①はじめに!G346=TRUE,①はじめに!D341,\"\")","v":""},null,null,null,null,{"$f":"IF(①はじめに!G346=TRUE,\"日中支援員\",\"\")","v":""},null,null,null,null,null,null,null,{"$f":"IF(①はじめに!G346=TRUE,①はじめに!G341,\"\")","v":""},null,null,{"$f":"IF(①はじめに!G346=TRUE,①はじめに!D343,\"\")&\"\"","v":""},null,null,{"$f":"IF(①はじめに!G346=TRUE,①はじめに!H343,\"\")&\"\"","v":""},null,null,{"$f":"IF(①はじめに!G346=TRUE,①はじめに!F343,\"\")&\"\"","v":""},null,null,null,null,null,null,null,null,null,null,null,null,null,null,null,null,null,null,null,null,null,null,null,null,null,null,null,null,null,0,null,null,0]
[{"$f":"+A384","v":55},{"$f":"IF(①はじめに!H346=TRUE,①はじめに!D341,\"\")","v":""},null,null,null,null,{"$f":"IF(①はじめに!H346=TRUE,\"加配要員\",\"\")","v":""},null,null,null,null,null,null,null,{"$f":"IF(①はじめに!H346=TRUE,①はじめに!G341,\"\")","v":""},null,null,{"$f":"IF(①はじめに!H346=TRUE,①はじめに!D343,\"\")&\"\"","v":""},null,null,{"$f":"IF(①はじめに!H346=TRUE,①はじめに!H343,\"\")&\"\"","v":""},null,null,{"$f":"IF(①はじめに!H346=TRUE,①はじめに!F343,\"\")&\"\"","v":""},null,null,null,null,null,null,null,null,null,null,null,null,null,null,null,null,null,null,null,null,null,null,null,null,null,null,null,null,null,0,null,null,0]
[{"$f":"+A384+1","v":56},{"$f":"IF(①はじめに!C352=TRUE,①はじめに!D347,\"\")","v":""},null,null,null,null,{"$f":"IF(①はじめに!C352=TRUE,\"サービス管理責任者\",\"\")","v":""},null,null,null,null,null,null,null,{"$f":"IF(①はじめに!C352=TRUE,①はじめに!G347,\"\")","v":""},null,null,{"$f":"IF(①はじめに!C352=TRUE,①はじめに!D349,\"\")&\"\"","v":""},null,null,{"$f":"IF(①はじめに!C352=TRUE,①はじめに!H349,\"\")&\"\"","v":""},null,null,{"$f":"IF(①はじめに!C352=TRUE,①はじめに!F349,\"\")&\"\"","v":""},null,null,null,null,null,null,null,null,null,null,null,null,null,null,null,null,null,null,null,null,null,null,null,null,null,null,null,null,null,0,null,null,0]
[{"$f":"+A390","v":56},{"$f":"IF(①はじめに!D352=TRUE,①はじめに!D347,\"\")","v":""},null,null,null,null,{"$f":"IF(①はじめに!D352=TRUE,\"世話人\",\"\")","v":""},null,null,null,null,null,null,null,{"$f":"IF(①はじめに!D352=TRUE,①はじめに!G347,\"\")","v":""},null,null,{"$f":"IF(①はじめに!D352=TRUE,①はじめに!D349,\"\")&\"\"","v":""},null,null,{"$f":"IF(①はじめに!D352=TRUE,①はじめに!H349,\"\")&\"\"","v":""},null,null,{"$f":"IF(①はじめに!D352=TRUE,①はじめに!F349,\"\")&\"\"","v":""},null,null,null,null,null,null,null,null,null,null,null,null,null,null,null,null,null,null,null,null,null,null,null,null,null,null,null,null,null,0,null,null,0]
[{"$f":"+A390","v":56},{"$f":"IF(①はじめに!E352=TRUE,①はじめに!D347,\"\")","v":""},null,null,null,null,{"$f":"IF(①はじめに!E352=TRUE,\"生活支援員\",\"\")","v":""},null,null,null,null,null,null,null,{"$f":"IF(①はじめに!E352=TRUE,①はじめに!G347,\"\")","v":""},null,null,{"$f":"IF(①はじめに!E352=TRUE,①はじめに!D349,\"\")&\"\"","v":""},null,null,{"$f":"IF(①はじめに!E352=TRUE,①はじめに!H349,\"\")&\"\"","v":""},null,null,{"$f":"IF(①はじめに!E352=TRUE,①はじめに!F349,\"\")&\"\"","v":""},null,null,null,null,null,null,null,null,null,null,null,null,null,null,null,null,null,null,null,null,null,null,null,null,null,null,null,null,null,0,null,null,0,null,null,null,null,null,null,null,null,null,null,null,null,null,null,null,null,null,null,null,null,null,null,"常勤・専従",{"$f":"COUNTIF($J$61:$L$83,CB392)","v":0}]
[{"$f":"+A390","v":56},{"$f":"IF(①はじめに!F352=TRUE,①はじめに!D347,\"\")","v":""},null,null,null,null,{"$f":"IF(①はじめに!F352=TRUE,\"夜間支援員\",\"\")","v":""},null,null,null,null,null,null,null,{"$f":"IF(①はじめに!F352=TRUE,①はじめに!G347,\"\")","v":""},null,null,{"$f":"IF(①はじめに!F352=TRUE,①はじめに!D349,\"\")&\"\"","v":""},null,null,{"$f":"IF(①はじめに!F352=TRUE,①はじめに!H349,\"\")&\"\"","v":""},null,null,{"$f":"IF(①はじめに!F352=TRUE,①はじめに!F349,\"\")&\"\"","v":""},null,null,null,null,null,null,null,null,null,null,null,null,null,null,null,null,null,null,null,null,null,null,null,null,null,null,null,null,null,0,null,null,0,null,null,null,null,null,null,null,null,null,null,null,null,null,null,null,null,null,null,null,null,null,null,"常勤・兼務",{"$f":"COUNTIF($J$61:$L$83,CB393)","v":0}]
[{"$f":"+A390","v":56},{"$f":"IF(①はじめに!G352=TRUE,①はじめに!D347,\"\")","v":""},null,null,null,null,{"$f":"IF(①はじめに!G352=TRUE,\"日中支援員\",\"\")","v":""},null,null,null,null,null,null,null,{"$f":"IF(①はじめに!G352=TRUE,①はじめに!G347,\"\")","v":""},null,null,{"$f":"IF(①はじめに!G352=TRUE,①はじめに!D349,\"\")&\"\"","v":""},null,null,{"$f":"IF(①はじめに!G352=TRUE,①はじめに!H349,\"\")&\"\"","v":""},null,null,{"$f":"IF(①はじめに!G352=TRUE,①はじめに!F349,\"\")&\"\"","v":""},null,null,null,null,null,null,null,null,null,null,null,null,null,null,null,null,null,null,null,null,null,null,null,null,null,null,null,null,null,0,null,null,0,null,null,null,null,null,null,null,null,null,null,null,null,null,null,null,null,null,null,null,null,null,null,"非常勤・専従",{"$f":"COUNTIF($J$61:$L$83,CB394)","v":0}]
[{"$f":"+A390","v":56},{"$f":"IF(①はじめに!H352=TRUE,①はじめに!D347,\"\")","v":""},null,null,null,null,{"$f":"IF(①はじめに!H352=TRUE,\"加配要員\",\"\")","v":""},null,null,null,null,null,null,null,{"$f":"IF(①はじめに!H352=TRUE,①はじめに!G347,\"\")","v":""},null,null,{"$f":"IF(①はじめに!H352=TRUE,①はじめに!D349,\"\")&\"\"","v":""},null,null,{"$f":"IF(①はじめに!H352=TRUE,①はじめに!H349,\"\")&\"\"","v":""},null,null,{"$f":"IF(①はじめに!H352=TRUE,①はじめに!F349,\"\")&\"\"","v":""},null,null,null,null,null,null,null,null,null,null,null,null,null,null,null,null,null,null,null,null,null,null,null,null,null,null,null,null,null,0,null,null,0]
[{"$f":"+A390+1","v":57},{"$f":"IF(①はじめに!C358=TRUE,①はじめに!D353,\"\")","v":""},null,null,null,null,{"$f":"IF(①はじめに!C358=TRUE,\"サービス管理責任者\",\"\")","v":""},null,null,null,null,null,null,null,{"$f":"IF(①はじめに!C358=TRUE,①はじめに!G353,\"\")","v":""},null,null,{"$f":"IF(①はじめに!C358=TRUE,①はじめに!D355,\"\")&\"\"","v":""},null,null,{"$f":"IF(①はじめに!C358=TRUE,①はじめに!H355,\"\")&\"\"","v":""},null,null,{"$f":"IF(①はじめに!C358=TRUE,①はじめに!F355,\"\")&\"\"","v":""},null,null,null,null,null,null,null,null,null,null,null,null,null,null,null,null,null,null,null,null,null,null,null,null,null,null,null,null,null,0,null,null,0]
[{"$f":"+A396","v":57},{"$f":"IF(①はじめに!D358=TRUE,①はじめに!D353,\"\")","v":""},null,null,null,null,{"$f":"IF(①はじめに!D358=TRUE,\"世話人\",\"\")","v":""},null,null,null,null,null,null,null,{"$f":"IF(①はじめに!D358=TRUE,①はじめに!G353,\"\")","v":""},null,null,{"$f":"IF(①はじめに!D358=TRUE,①はじめに!D355,\"\")&\"\"","v":""},null,null,{"$f":"IF(①はじめに!D358=TRUE,①はじめに!H355,\"\")&\"\"","v":""},null,null,{"$f":"IF(①はじめに!D358=TRUE,①はじめに!F355,\"\")&\"\"","v":""},null,null,null,null,null,null,null,null,null,null,null,null,null,null,null,null,null,null,null,null,null,null,null,null,null,null,null,null,null,0,null,null,0]
[{"$f":"+A396","v":57},{"$f":"IF(①はじめに!E358=TRUE,①はじめに!D353,\"\")","v":""},null,null,null,null,{"$f":"IF(①はじめに!E358=TRUE,\"生活支援員\",\"\")","v":""},null,null,null,null,null,null,null,{"$f":"IF(①はじめに!E358=TRUE,①はじめに!G353,\"\")","v":""},null,null,{"$f":"IF(①はじめに!E358=TRUE,①はじめに!D355,\"\")&\"\"","v":""},null,null,{"$f":"IF(①はじめに!E358=TRUE,①はじめに!H355,\"\")&\"\"","v":""},null,null,{"$f":"IF(①はじめに!E358=TRUE,①はじめに!F355,\"\")&\"\"","v":""},null,null,null,null,null,null,null,null,null,null,null,null,null,null,null,null,null,null,null,null,null,null,null,null,null,null,null,null,null,0,null,null,0,null,null,null,null,null,null,null,null,null,null,null,null,null,null,null,null,null,null,null,null,null,null,"常勤・専従",{"$f":"COUNTIF($J$61:$L$83,CB398)","v":0}]
[{"$f":"+A396","v":57},{"$f":"IF(①はじめに!F358=TRUE,①はじめに!D353,\"\")","v":""},null,null,null,null,{"$f":"IF(①はじめに!F358=TRUE,\"夜間支援員\",\"\")","v":""},null,null,null,null,null,null,null,{"$f":"IF(①はじめに!F358=TRUE,①はじめに!G353,\"\")","v":""},null,null,{"$f":"IF(①はじめに!F358=TRUE,①はじめに!D355,\"\")&\"\"","v":""},null,null,{"$f":"IF(①はじめに!F358=TRUE,①はじめに!H355,\"\")&\"\"","v":""},null,null,{"$f":"IF(①はじめに!F358=TRUE,①はじめに!F355,\"\")&\"\"","v":""},null,null,null,null,null,null,null,null,null,null,null,null,null,null,null,null,null,null,null,null,null,null,null,null,null,null,null,null,null,0,null,null,0,null,null,null,null,null,null,null,null,null,null,null,null,null,null,null,null,null,null,null,null,null,null,"常勤・兼務",{"$f":"COUNTIF($J$61:$L$83,CB399)","v":0}]
[{"$f":"+A396","v":57},{"$f":"IF(①はじめに!G358=TRUE,①はじめに!D353,\"\")","v":""},null,null,null,null,{"$f":"IF(①はじめに!G358=TRUE,\"日中支援員\",\"\")","v":""},null,null,null,null,null,null,null,{"$f":"IF(①はじめに!G358=TRUE,①はじめに!G353,\"\")","v":""},null,null,{"$f":"IF(①はじめに!G358=TRUE,①はじめに!D355,\"\")&\"\"","v":""},null,null,{"$f":"IF(①はじめに!G358=TRUE,①はじめに!H355,\"\")&\"\"","v":""},null,null,{"$f":"IF(①はじめに!G358=TRUE,①はじめに!F355,\"\")&\"\"","v":""},null,null,null,null,null,null,null,null,null,null,null,null,null,null,null,null,null,null,null,null,null,null,null,null,null,null,null,null,null,0,null,null,0]
[{"$f":"+A396","v":57},{"$f":"IF(①はじめに!H358=TRUE,①はじめに!D353,\"\")","v":""},null,null,null,null,{"$f":"IF(①はじめに!H358=TRUE,\"加配要員\",\"\")","v":""},null,null,null,null,null,null,null,{"$f":"IF(①はじめに!H358=TRUE,①はじめに!G353,\"\")","v":""},null,null,{"$f":"IF(①はじめに!H358=TRUE,①はじめに!D355,\"\")&\"\"","v":""},null,null,{"$f":"IF(①はじめに!H358=TRUE,①はじめに!H355,\"\")&\"\"","v":""},null,null,{"$f":"IF(①はじめに!H358=TRUE,①はじめに!F355,\"\")&\"\"","v":""},null,null,null,null,null,null,null,null,null,null,null,null,null,null,null,null,null,null,null,null,null,null,null,null,null,null,null,null,null,0,null,null,0]
[{"$f":"+A396+1","v":58},{"$f":"IF(①はじめに!C364=TRUE,①はじめに!D359,\"\")","v":""},null,null,null,null,{"$f":"IF(①はじめに!C364=TRUE,\"サービス管理責任者\",\"\")","v":""},null,null,null,null,null,null,null,{"$f":"IF(①はじめに!C364=TRUE,①はじめに!G359,\"\")","v":""},null,null,{"$f":"IF(①はじめに!C364=TRUE,①はじめに!D361,\"\")&\"\"","v":""},null,null,{"$f":"IF(①はじめに!C364=TRUE,①はじめに!H361,\"\")&\"\"","v":""},null,null,{"$f":"IF(①はじめに!C364=TRUE,①はじめに!F361,\"\")&\"\"","v":""},null,null,null,null,null,null,null,null,null,null,null,null,null,null,null,null,null,null,null,null,null,null,null,null,null,null,null,null,null,0,null,null,0,null,null,null,null,null,null,null,null,null,null,null,null,null,null,null,null,null,null,null,null,null,null,"常勤・専従",{"$f":"COUNTIF($J$61:$L$83,CB402)","v":0}]
[{"$f":"+A402","v":58},{"$f":"IF(①はじめに!D364=TRUE,①はじめに!D359,\"\")","v":""},null,null,null,null,{"$f":"IF(①はじめに!D364=TRUE,\"世話人\",\"\")","v":""},null,null,null,null,null,null,null,{"$f":"IF(①はじめに!D364=TRUE,①はじめに!G359,\"\")","v":""},null,null,{"$f":"IF(①はじめに!D364=TRUE,①はじめに!D361,\"\")&\"\"","v":""},null,null,{"$f":"IF(①はじめに!D364=TRUE,①はじめに!H361,\"\")&\"\"","v":""},null,null,{"$f":"IF(①はじめに!D364=TRUE,①はじめに!F361,\"\")&\"\"","v":""},null,null,null,null,null,null,null,null,null,null,null,null,null,null,null,null,null,null,null,null,null,null,null,null,null,null,null,null,null,0,null,null,0,null,null,null,null,null,null,null,null,null,null,null,null,null,null,null,null,null,null,null,null,null,null,"常勤・兼務",{"$f":"COUNTIF($J$61:$L$83,CB403)","v":0}]
[{"$f":"+A402","v":58},{"$f":"IF(①はじめに!E364=TRUE,①はじめに!D359,\"\")","v":""},null,null,null,null,{"$f":"IF(①はじめに!E364=TRUE,\"生活支援員\",\"\")","v":""},null,null,null,null,null,null,null,{"$f":"IF(①はじめに!E364=TRUE,①はじめに!G359,\"\")","v":""},null,null,{"$f":"IF(①はじめに!E364=TRUE,①はじめに!D361,\"\")&\"\"","v":""},null,null,{"$f":"IF(①はじめに!E364=TRUE,①はじめに!H361,\"\")&\"\"","v":""},null,null,{"$f":"IF(①はじめに!E364=TRUE,①はじめに!F361,\"\")&\"\"","v":""},null,null,null,null,null,null,null,null,null,null,null,null,null,null,null,null,null,null,null,null,null,null,null,null,null,null,null,null,null,0,null,null,0,null,null,null,null,null,null,null,null,null,null,null,null,null,null,null,null,null,null,null,null,null,null,"非常勤・専従",{"$f":"COUNTIF($J$61:$L$83,CB404)","v":0}]
[{"$f":"+A402","v":58},{"$f":"IF(①はじめに!F364=TRUE,①はじめに!D359,\"\")","v":""},null,null,null,null,{"$f":"IF(①はじめに!F364=TRUE,\"夜間支援員\",\"\")","v":""},null,null,null,null,null,null,null,{"$f":"IF(①はじめに!F364=TRUE,①はじめに!G359,\"\")","v":""},null,null,{"$f":"IF(①はじめに!F364=TRUE,①はじめに!D361,\"\")&\"\"","v":""},null,null,{"$f":"IF(①はじめに!F364=TRUE,①はじめに!H361,\"\")&\"\"","v":""},null,null,{"$f":"IF(①はじめに!F364=TRUE,①はじめに!F361,\"\")&\"\"","v":""},null,null,null,null,null,null,null,null,null,null,null,null,null,null,null,null,null,null,null,null,null,null,null,null,null,null,null,null,null,0,null,null,0]
[{"$f":"+A402","v":58},{"$f":"IF(①はじめに!G364=TRUE,①はじめに!D359,\"\")","v":""},null,null,null,null,{"$f":"IF(①はじめに!G364=TRUE,\"日中支援員\",\"\")","v":""},null,null,null,null,null,null,null,{"$f":"IF(①はじめに!G364=TRUE,①はじめに!G359,\"\")","v":""},null,null,{"$f":"IF(①はじめに!G364=TRUE,①はじめに!D361,\"\")&\"\"","v":""},null,null,{"$f":"IF(①はじめに!G364=TRUE,①はじめに!H361,\"\")&\"\"","v":""},null,null,{"$f":"IF(①はじめに!G364=TRUE,①はじめに!F361,\"\")&\"\"","v":""},null,null,null,null,null,null,null,null,null,null,null,null,null,null,null,null,null,null,null,null,null,null,null,null,null,null,null,null,null,0,null,null,0]
[{"$f":"+A402","v":58},{"$f":"IF(①はじめに!H364=TRUE,①はじめに!D359,\"\")","v":""},null,null,null,null,{"$f":"IF(①はじめに!H364=TRUE,\"加配要員\",\"\")","v":""},null,null,null,null,null,null,null,{"$f":"IF(①はじめに!H364=TRUE,①はじめに!G359,\"\")","v":""},null,null,{"$f":"IF(①はじめに!H364=TRUE,①はじめに!D361,\"\")&\"\"","v":""},null,null,{"$f":"IF(①はじめに!H364=TRUE,①はじめに!H361,\"\")&\"\"","v":""},null,null,{"$f":"IF(①はじめに!H364=TRUE,①はじめに!F361,\"\")&\"\"","v":""},null,null,null,null,null,null,null,null,null,null,null,null,null,null,null,null,null,null,null,null,null,null,null,null,null,null,null,null,null,0,null,null,0]
[{"$f":"+A402+1","v":59},{"$f":"IF(①はじめに!C370=TRUE,①はじめに!D365,\"\")","v":""},null,null,null,null,{"$f":"IF(①はじめに!C370=TRUE,\"サービス管理責任者\",\"\")","v":""},null,null,null,null,null,null,null,{"$f":"IF(①はじめに!C370=TRUE,①はじめに!G365,\"\")","v":""},null,null,{"$f":"IF(①はじめに!C370=TRUE,①はじめに!D367,\"\")&\"\"","v":""},null,null,{"$f":"IF(①はじめに!C370=TRUE,①はじめに!H367,\"\")&\"\"","v":""},null,null,{"$f":"IF(①はじめに!C370=TRUE,①はじめに!F367,\"\")&\"\"","v":""},null,null,null,null,null,null,null,null,null,null,null,null,null,null,null,null,null,null,null,null,null,null,null,null,null,null,null,null,null,0,null,null,0]
[{"$f":"+A408","v":59},{"$f":"IF(①はじめに!D370=TRUE,①はじめに!D365,\"\")","v":""},null,null,null,null,{"$f":"IF(①はじめに!D370=TRUE,\"世話人\",\"\")","v":""},null,null,null,null,null,null,null,{"$f":"IF(①はじめに!D370=TRUE,①はじめに!G365,\"\")","v":""},null,null,{"$f":"IF(①はじめに!D370=TRUE,①はじめに!D367,\"\")&\"\"","v":""},null,null,{"$f":"IF(①はじめに!D370=TRUE,①はじめに!H367,\"\")&\"\"","v":""},null,null,{"$f":"IF(①はじめに!D370=TRUE,①はじめに!F367,\"\")&\"\"","v":""},null,null,null,null,null,null,null,null,null,null,null,null,null,null,null,null,null,null,null,null,null,null,null,null,null,null,null,null,null,0,null,null,0]
[{"$f":"+A408","v":59},{"$f":"IF(①はじめに!E370=TRUE,①はじめに!D365,\"\")","v":""},null,null,null,null,{"$f":"IF(①はじめに!E370=TRUE,\"生活支援員\",\"\")","v":""},null,null,null,null,null,null,null,{"$f":"IF(①はじめに!E370=TRUE,①はじめに!G365,\"\")","v":""},null,null,{"$f":"IF(①はじめに!E370=TRUE,①はじめに!D367,\"\")&\"\"","v":""},null,null,{"$f":"IF(①はじめに!E370=TRUE,①はじめに!H367,\"\")&\"\"","v":""},null,null,{"$f":"IF(①はじめに!E370=TRUE,①はじめに!F367,\"\")&\"\"","v":""},null,null,null,null,null,null,null,null,null,null,null,null,null,null,null,null,null,null,null,null,null,null,null,null,null,null,null,null,null,0,null,null,0,null,null,null,null,null,null,null,null,null,null,null,null,null,null,null,null,null,null,null,null,null,null,"常勤・専従",{"$f":"COUNTIF($J$61:$L$83,CB410)","v":0}]
[{"$f":"+A408","v":59},{"$f":"IF(①はじめに!F370=TRUE,①はじめに!D365,\"\")","v":""},null,null,null,null,{"$f":"IF(①はじめに!F370=TRUE,\"夜間支援員\",\"\")","v":""},null,null,null,null,null,null,null,{"$f":"IF(①はじめに!F370=TRUE,①はじめに!G365,\"\")","v":""},null,null,{"$f":"IF(①はじめに!F370=TRUE,①はじめに!D367,\"\")&\"\"","v":""},null,null,{"$f":"IF(①はじめに!F370=TRUE,①はじめに!H367,\"\")&\"\"","v":""},null,null,{"$f":"IF(①はじめに!F370=TRUE,①はじめに!F367,\"\")&\"\"","v":""},null,null,null,null,null,null,null,null,null,null,null,null,null,null,null,null,null,null,null,null,null,null,null,null,null,null,null,null,null,0,null,null,0,null,null,null,null,null,null,null,null,null,null,null,null,null,null,null,null,null,null,null,null,null,null,"常勤・兼務",{"$f":"COUNTIF($J$61:$L$83,CB411)","v":0}]
[{"$f":"+A408","v":59},{"$f":"IF(①はじめに!G370=TRUE,①はじめに!D365,\"\")","v":""},null,null,null,null,{"$f":"IF(①はじめに!G370=TRUE,\"日中支援員\",\"\")","v":""},null,null,null,null,null,null,null,{"$f":"IF(①はじめに!G370=TRUE,①はじめに!G365,\"\")","v":""},null,null,{"$f":"IF(①はじめに!G370=TRUE,①はじめに!D367,\"\")&\"\"","v":""},null,null,{"$f":"IF(①はじめに!G370=TRUE,①はじめに!H367,\"\")&\"\"","v":""},null,null,{"$f":"IF(①はじめに!G370=TRUE,①はじめに!F367,\"\")&\"\"","v":""},null,null,null,null,null,null,null,null,null,null,null,null,null,null,null,null,null,null,null,null,null,null,null,null,null,null,null,null,null,0,null,null,0]
[{"$f":"+A408","v":59},{"$f":"IF(①はじめに!H370=TRUE,①はじめに!D365,\"\")","v":""},null,null,null,null,{"$f":"IF(①はじめに!H370=TRUE,\"加配要員\",\"\")","v":""},null,null,null,null,null,null,null,{"$f":"IF(①はじめに!H370=TRUE,①はじめに!G365,\"\")","v":""},null,null,{"$f":"IF(①はじめに!H370=TRUE,①はじめに!D367,\"\")&\"\"","v":""},null,null,{"$f":"IF(①はじめに!H370=TRUE,①はじめに!H367,\"\")&\"\"","v":""},null,null,{"$f":"IF(①はじめに!H370=TRUE,①はじめに!F367,\"\")&\"\"","v":""},null,null,null,null,null,null,null,null,null,null,null,null,null,null,null,null,null,null,null,null,null,null,null,null,null,null,null,null,null,0,null,null,0]
[{"$f":"+A408+1","v":60},{"$f":"IF(①はじめに!C376=TRUE,①はじめに!D371,\"\")","v":""},null,null,null,null,{"$f":"IF(①はじめに!C376=TRUE,\"サービス管理責任者\",\"\")","v":""},null,null,null,null,null,null,null,{"$f":"IF(①はじめに!C376=TRUE,①はじめに!G371,\"\")","v":""},null,null,{"$f":"IF(①はじめに!C376=TRUE,①はじめに!D373,\"\")&\"\"","v":""},null,null,{"$f":"IF(①はじめに!C376=TRUE,①はじめに!H373,\"\")&\"\"","v":""},null,null,{"$f":"IF(①はじめに!C376=TRUE,①はじめに!F373,\"\")&\"\"","v":""},null,null,null,null,null,null,null,null,null,null,null,null,null,null,null,null,null,null,null,null,null,null,null,null,null,null,null,null,null,0,null,null,0,null,null,null,null,null,null,null,null,null,null,null,null,null,null,null,null,null,null,null,null,null,null,"常勤・専従",{"$f":"COUNTIF($J$61:$L$83,CB414)","v":0}]
[{"$f":"+A414","v":60},{"$f":"IF(①はじめに!D376=TRUE,①はじめに!D371,\"\")","v":""},null,null,null,null,{"$f":"IF(①はじめに!D376=TRUE,\"世話人\",\"\")","v":""},null,null,null,null,null,null,null,{"$f":"IF(①はじめに!D376=TRUE,①はじめに!G371,\"\")","v":""},null,null,{"$f":"IF(①はじめに!D376=TRUE,①はじめに!D373,\"\")&\"\"","v":""},null,null,{"$f":"IF(①はじめに!D376=TRUE,①はじめに!H373,\"\")&\"\"","v":""},null,null,{"$f":"IF(①はじめに!D376=TRUE,①はじめに!F373,\"\")&\"\"","v":""},null,null,null,null,null,null,null,null,null,null,null,null,null,null,null,null,null,null,null,null,null,null,null,null,null,null,null,null,null,0,null,null,0,null,null,null,null,null,null,null,null,null,null,null,null,null,null,null,null,null,null,null,null,null,null,"常勤・兼務",{"$f":"COUNTIF($J$61:$L$83,CB415)","v":0}]
[{"$f":"+A414","v":60},{"$f":"IF(①はじめに!E376=TRUE,①はじめに!D371,\"\")","v":""},null,null,null,null,{"$f":"IF(①はじめに!E376=TRUE,\"生活支援員\",\"\")","v":""},null,null,null,null,null,null,null,{"$f":"IF(①はじめに!E376=TRUE,①はじめに!G371,\"\")","v":""},null,null,{"$f":"IF(①はじめに!E376=TRUE,①はじめに!D373,\"\")&\"\"","v":""},null,null,{"$f":"IF(①はじめに!E376=TRUE,①はじめに!H373,\"\")&\"\"","v":""},null,null,{"$f":"IF(①はじめに!E376=TRUE,①はじめに!F373,\"\")&\"\"","v":""},null,null,null,null,null,null,null,null,null,null,null,null,null,null,null,null,null,null,null,null,null,null,null,null,null,null,null,null,null,0,null,null,0,null,null,null,null,null,null,null,null,null,null,null,null,null,null,null,null,null,null,null,null,null,null,"非常勤・専従",{"$f":"COUNTIF($J$61:$L$83,CB416)","v":0}]
[{"$f":"+A414","v":60},{"$f":"IF(①はじめに!F376=TRUE,①はじめに!D371,\"\")","v":""},null,null,null,null,{"$f":"IF(①はじめに!F376=TRUE,\"夜間支援員\",\"\")","v":""},null,null,null,null,null,null,null,{"$f":"IF(①はじめに!F376=TRUE,①はじめに!G371,\"\")","v":""},null,null,{"$f":"IF(①はじめに!F376=TRUE,①はじめに!D373,\"\")&\"\"","v":""},null,null,{"$f":"IF(①はじめに!F376=TRUE,①はじめに!H373,\"\")&\"\"","v":""},null,null,{"$f":"IF(①はじめに!F376=TRUE,①はじめに!F373,\"\")&\"\"","v":""},null,null,null,null,null,null,null,null,null,null,null,null,null,null,null,null,null,null,null,null,null,null,null,null,null,null,null,null,null,0,null,null,0]
[{"$f":"+A414","v":60},{"$f":"IF(①はじめに!G376=TRUE,①はじめに!D371,\"\")","v":""},null,null,null,null,{"$f":"IF(①はじめに!G376=TRUE,\"日中支援員\",\"\")","v":""},null,null,null,null,null,null,null,{"$f":"IF(①はじめに!G376=TRUE,①はじめに!G371,\"\")","v":""},null,null,{"$f":"IF(①はじめに!G376=TRUE,①はじめに!D373,\"\")&\"\"","v":""},null,null,{"$f":"IF(①はじめに!G376=TRUE,①はじめに!H373,\"\")&\"\"","v":""},null,null,{"$f":"IF(①はじめに!G376=TRUE,①はじめに!F373,\"\")&\"\"","v":""},null,null,null,null,null,null,null,null,null,null,null,null,null,null,null,null,null,null,null,null,null,null,null,null,null,null,null,null,null,0,null,null,0]
[{"$f":"+A414","v":60},{"$f":"IF(①はじめに!H376=TRUE,①はじめに!D371,\"\")","v":""},null,null,null,null,{"$f":"IF(①はじめに!H376=TRUE,\"加配要員\",\"\")","v":""},null,null,null,null,null,null,null,{"$f":"IF(①はじめに!H376=TRUE,①はじめに!G371,\"\")","v":""},null,null,{"$f":"IF(①はじめに!H376=TRUE,①はじめに!D373,\"\")&\"\"","v":""},null,null,{"$f":"IF(①はじめに!H376=TRUE,①はじめに!H373,\"\")&\"\"","v":""},null,null,{"$f":"IF(①はじめに!H376=TRUE,①はじめに!F373,\"\")&\"\"","v":""},null,null,null,null,null,null,null,null,null,null,null,null,null,null,null,null,null,null,null,null,null,null,null,null,null,null,null,null,null,0,null,null,0]
[{"$f":"+A414+1","v":61},{"$f":"IF(①はじめに!C382=TRUE,①はじめに!D377,\"\")","v":""},null,null,null,null,{"$f":"IF(①はじめに!C382=TRUE,\"サービス管理責任者\",\"\")","v":""},null,null,null,null,null,null,null,{"$f":"IF(①はじめに!C382=TRUE,①はじめに!G377,\"\")","v":""},null,null,{"$f":"IF(①はじめに!C382=TRUE,①はじめに!D379,\"\")&\"\"","v":""},null,null,{"$f":"IF(①はじめに!C382=TRUE,①はじめに!H379,\"\")&\"\"","v":""},null,null,{"$f":"IF(①はじめに!C382=TRUE,①はじめに!F379,\"\")&\"\"","v":""},null,null,null,null,null,null,null,null,null,null,null,null,null,null,null,null,null,null,null,null,null,null,null,null,null,null,null,null,null,0,null,null,0]
[{"$f":"+A420","v":61},{"$f":"IF(①はじめに!D382=TRUE,①はじめに!D377,\"\")","v":""},null,null,null,null,{"$f":"IF(①はじめに!D382=TRUE,\"世話人\",\"\")","v":""},null,null,null,null,null,null,null,{"$f":"IF(①はじめに!D382=TRUE,①はじめに!G377,\"\")","v":""},null,null,{"$f":"IF(①はじめに!D382=TRUE,①はじめに!D379,\"\")&\"\"","v":""},null,null,{"$f":"IF(①はじめに!D382=TRUE,①はじめに!H379,\"\")&\"\"","v":""},null,null,{"$f":"IF(①はじめに!D382=TRUE,①はじめに!F379,\"\")&\"\"","v":""},null,null,null,null,null,null,null,null,null,null,null,null,null,null,null,null,null,null,null,null,null,null,null,null,null,null,null,null,null,0,null,null,0]
[{"$f":"+A420","v":61},{"$f":"IF(①はじめに!E382=TRUE,①はじめに!D377,\"\")","v":""},null,null,null,null,{"$f":"IF(①はじめに!E382=TRUE,\"生活支援員\",\"\")","v":""},null,null,null,null,null,null,null,{"$f":"IF(①はじめに!E382=TRUE,①はじめに!G377,\"\")","v":""},null,null,{"$f":"IF(①はじめに!E382=TRUE,①はじめに!D379,\"\")&\"\"","v":""},null,null,{"$f":"IF(①はじめに!E382=TRUE,①はじめに!H379,\"\")&\"\"","v":""},null,null,{"$f":"IF(①はじめに!E382=TRUE,①はじめに!F379,\"\")&\"\"","v":""},null,null,null,null,null,null,null,null,null,null,null,null,null,null,null,null,null,null,null,null,null,null,null,null,null,null,null,null,null,0,null,null,0,null,null,null,null,null,null,null,null,null,null,null,null,null,null,null,null,null,null,null,null,null,null,"常勤・専従",{"$f":"COUNTIF($J$61:$L$83,CB422)","v":0}]
[{"$f":"+A420","v":61},{"$f":"IF(①はじめに!F382=TRUE,①はじめに!D377,\"\")","v":""},null,null,null,null,{"$f":"IF(①はじめに!F382=TRUE,\"夜間支援員\",\"\")","v":""},null,null,null,null,null,null,null,{"$f":"IF(①はじめに!F382=TRUE,①はじめに!G377,\"\")","v":""},null,null,{"$f":"IF(①はじめに!F382=TRUE,①はじめに!D379,\"\")&\"\"","v":""},null,null,{"$f":"IF(①はじめに!F382=TRUE,①はじめに!H379,\"\")&\"\"","v":""},null,null,{"$f":"IF(①はじめに!F382=TRUE,①はじめに!F379,\"\")&\"\"","v":""},null,null,null,null,null,null,null,null,null,null,null,null,null,null,null,null,null,null,null,null,null,null,null,null,null,null,null,null,null,0,null,null,0,null,null,null,null,null,null,null,null,null,null,null,null,null,null,null,null,null,null,null,null,null,null,"常勤・兼務",{"$f":"COUNTIF($J$61:$L$83,CB423)","v":0}]
[{"$f":"+A420","v":61},{"$f":"IF(①はじめに!G382=TRUE,①はじめに!D377,\"\")","v":""},null,null,null,null,{"$f":"IF(①はじめに!G382=TRUE,\"日中支援員\",\"\")","v":""},null,null,null,null,null,null,null,{"$f":"IF(①はじめに!G382=TRUE,①はじめに!G377,\"\")","v":""},null,null,{"$f":"IF(①はじめに!G382=TRUE,①はじめに!D379,\"\")&\"\"","v":""},null,null,{"$f":"IF(①はじめに!G382=TRUE,①はじめに!H379,\"\")&\"\"","v":""},null,null,{"$f":"IF(①はじめに!G382=TRUE,①はじめに!F379,\"\")&\"\"","v":""},null,null,null,null,null,null,null,null,null,null,null,null,null,null,null,null,null,null,null,null,null,null,null,null,null,null,null,null,null,0,null,null,0,null,null,null,null,null,null,null,null,null,null,null,null,null,null,null,null,null,null,null,null,null,null,"非常勤・専従",{"$f":"COUNTIF($J$61:$L$83,CB424)","v":0}]
[{"$f":"+A420","v":61},{"$f":"IF(①はじめに!H382=TRUE,①はじめに!D377,\"\")","v":""},null,null,null,null,{"$f":"IF(①はじめに!H382=TRUE,\"加配要員\",\"\")","v":""},null,null,null,null,null,null,null,{"$f":"IF(①はじめに!H382=TRUE,①はじめに!G377,\"\")","v":""},null,null,{"$f":"IF(①はじめに!H382=TRUE,①はじめに!D379,\"\")&\"\"","v":""},null,null,{"$f":"IF(①はじめに!H382=TRUE,①はじめに!H379,\"\")&\"\"","v":""},null,null,{"$f":"IF(①はじめに!H382=TRUE,①はじめに!F379,\"\")&\"\"","v":""},null,null,null,null,null,null,null,null,null,null,null,null,null,null,null,null,null,null,null,null,null,null,null,null,null,null,null,null,null,0,null,null,0]
[{"$f":"+A420+1","v":62},{"$f":"IF(①はじめに!C388=TRUE,①はじめに!D383,\"\")","v":""},null,null,null,null,{"$f":"IF(①はじめに!C388=TRUE,\"サービス管理責任者\",\"\")","v":""},null,null,null,null,null,null,null,{"$f":"IF(①はじめに!C388=TRUE,①はじめに!G383,\"\")","v":""},null,null,{"$f":"IF(①はじめに!C388=TRUE,①はじめに!D385,\"\")&\"\"","v":""},null,null,{"$f":"IF(①はじめに!C388=TRUE,①はじめに!H385,\"\")&\"\"","v":""},null,null,{"$f":"IF(①はじめに!C388=TRUE,①はじめに!F385,\"\")&\"\"","v":""},null,null,null,null,null,null,null,null,null,null,null,null,null,null,null,null,null,null,null,null,null,null,null,null,null,null,null,null,null,0,null,null,0]
[{"$f":"+A426","v":62},{"$f":"IF(①はじめに!D388=TRUE,①はじめに!D383,\"\")","v":""},null,null,null,null,{"$f":"IF(①はじめに!D388=TRUE,\"世話人\",\"\")","v":""},null,null,null,null,null,null,null,{"$f":"IF(①はじめに!D388=TRUE,①はじめに!G383,\"\")","v":""},null,null,{"$f":"IF(①はじめに!D388=TRUE,①はじめに!D385,\"\")&\"\"","v":""},null,null,{"$f":"IF(①はじめに!D388=TRUE,①はじめに!H385,\"\")&\"\"","v":""},null,null,{"$f":"IF(①はじめに!D388=TRUE,①はじめに!F385,\"\")&\"\"","v":""},null,null,null,null,null,null,null,null,null,null,null,null,null,null,null,null,null,null,null,null,null,null,null,null,null,null,null,null,null,0,null,null,0]
[{"$f":"+A426","v":62},{"$f":"IF(①はじめに!E388=TRUE,①はじめに!D383,\"\")","v":""},null,null,null,null,{"$f":"IF(①はじめに!E388=TRUE,\"生活支援員\",\"\")","v":""},null,null,null,null,null,null,null,{"$f":"IF(①はじめに!E388=TRUE,①はじめに!G383,\"\")","v":""},null,null,{"$f":"IF(①はじめに!E388=TRUE,①はじめに!D385,\"\")&\"\"","v":""},null,null,{"$f":"IF(①はじめに!E388=TRUE,①はじめに!H385,\"\")&\"\"","v":""},null,null,{"$f":"IF(①はじめに!E388=TRUE,①はじめに!F385,\"\")&\"\"","v":""},null,null,null,null,null,null,null,null,null,null,null,null,null,null,null,null,null,null,null,null,null,null,null,null,null,null,null,null,null,0,null,null,0,null,null,null,null,null,null,null,null,null,null,null,null,null,null,null,null,null,null,null,null,null,null,"常勤・専従",{"$f":"COUNTIF($J$61:$L$83,CB428)","v":0}]
[{"$f":"+A426","v":62},{"$f":"IF(①はじめに!F388=TRUE,①はじめに!D383,\"\")","v":""},null,null,null,null,{"$f":"IF(①はじめに!F388=TRUE,\"夜間支援員\",\"\")","v":""},null,null,null,null,null,null,null,{"$f":"IF(①はじめに!F388=TRUE,①はじめに!G383,\"\")","v":""},null,null,{"$f":"IF(①はじめに!F388=TRUE,①はじめに!D385,\"\")&\"\"","v":""},null,null,{"$f":"IF(①はじめに!F388=TRUE,①はじめに!H385,\"\")&\"\"","v":""},null,null,{"$f":"IF(①はじめに!F388=TRUE,①はじめに!F385,\"\")&\"\"","v":""},null,null,null,null,null,null,null,null,null,null,null,null,null,null,null,null,null,null,null,null,null,null,null,null,null,null,null,null,null,0,null,null,0,null,null,null,null,null,null,null,null,null,null,null,null,null,null,null,null,null,null,null,null,null,null,"常勤・兼務",{"$f":"COUNTIF($J$61:$L$83,CB429)","v":0}]
[{"$f":"+A426","v":62},{"$f":"IF(①はじめに!G388=TRUE,①はじめに!D383,\"\")","v":""},null,null,null,null,{"$f":"IF(①はじめに!G388=TRUE,\"日中支援員\",\"\")","v":""},null,null,null,null,null,null,null,{"$f":"IF(①はじめに!G388=TRUE,①はじめに!G383,\"\")","v":""},null,null,{"$f":"IF(①はじめに!G388=TRUE,①はじめに!D385,\"\")&\"\"","v":""},null,null,{"$f":"IF(①はじめに!G388=TRUE,①はじめに!H385,\"\")&\"\"","v":""},null,null,{"$f":"IF(①はじめに!G388=TRUE,①はじめに!F385,\"\")&\"\"","v":""},null,null,null,null,null,null,null,null,null,null,null,null,null,null,null,null,null,null,null,null,null,null,null,null,null,null,null,null,null,{"$f":"SUM(Z430:BA430)","v":0},null,null,{"$f":"BB430/4","v":0}]
[{"$f":"+A426","v":62},{"$f":"IF(①はじめに!H388=TRUE,①はじめに!D383,\"\")","v":""},null,null,null,null,{"$f":"IF(①はじめに!H388=TRUE,\"加配要員\",\"\")","v":""},null,null,null,null,null,null,null,{"$f":"IF(①はじめに!H388=TRUE,①はじめに!G383,\"\")","v":""},null,null,{"$f":"IF(①はじめに!H388=TRUE,①はじめに!D385,\"\")&\"\"","v":""},null,null,{"$f":"IF(①はじめに!H388=TRUE,①はじめに!H385,\"\")&\"\"","v":""},null,null,{"$f":"IF(①はじめに!H388=TRUE,①はじめに!F385,\"\")&\"\"","v":""},null,null,null,null,null,null,null,null,null,null,null,null,null,null,null,null,null,null,null,null,null,null,null,null,null,null,null,null,null,0,null,null,0]
[{"$f":"+A426+1","v":63},{"$f":"IF(①はじめに!C394=TRUE,①はじめに!D389,\"\")","v":""},null,null,null,null,{"$f":"IF(①はじめに!C394=TRUE,\"サービス管理責任者\",\"\")","v":""},null,null,null,null,null,null,null,{"$f":"IF(①はじめに!C394=TRUE,①はじめに!G389,\"\")","v":""},null,null,{"$f":"IF(①はじめに!C394=TRUE,①はじめに!D391,\"\")&\"\"","v":""},null,null,{"$f":"IF(①はじめに!C394=TRUE,①はじめに!H391,\"\")&\"\"","v":""},null,null,{"$f":"IF(①はじめに!C394=TRUE,①はじめに!F391,\"\")&\"\"","v":""},null,null,null,null,null,null,null,null,null,null,null,null,null,null,null,null,null,null,null,null,null,null,null,null,null,null,null,null,null,0,null,null,0,null,null,null,null,null,null,null,null,null,null,null,null,null,null,null,null,null,null,null,null,null,null,"常勤・専従",{"$f":"COUNTIF($J$61:$L$83,CB432)","v":0}]
[{"$f":"+A432","v":63},{"$f":"IF(①はじめに!D394=TRUE,①はじめに!D389,\"\")","v":""},null,null,null,null,{"$f":"IF(①はじめに!D394=TRUE,\"世話人\",\"\")","v":""},null,null,null,null,null,null,null,{"$f":"IF(①はじめに!D394=TRUE,①はじめに!G389,\"\")","v":""},null,null,{"$f":"IF(①はじめに!D394=TRUE,①はじめに!D391,\"\")&\"\"","v":""},null,null,{"$f":"IF(①はじめに!D394=TRUE,①はじめに!H391,\"\")&\"\"","v":""},null,null,{"$f":"IF(①はじめに!D394=TRUE,①はじめに!F391,\"\")&\"\"","v":""},null,null,null,null,null,null,null,null,null,null,null,null,null,null,null,null,null,null,null,null,null,null,null,null,null,null,null,null,null,0,null,null,0,null,null,null,null,null,null,null,null,null,null,null,null,null,null,null,null,null,null,null,null,null,null,"常勤・兼務",{"$f":"COUNTIF($J$61:$L$83,CB433)","v":0}]
[{"$f":"+A432","v":63},{"$f":"IF(①はじめに!E394=TRUE,①はじめに!D389,\"\")","v":""},null,null,null,null,{"$f":"IF(①はじめに!E394=TRUE,\"生活支援員\",\"\")","v":""},null,null,null,null,null,null,null,{"$f":"IF(①はじめに!E394=TRUE,①はじめに!G389,\"\")","v":""},null,null,{"$f":"IF(①はじめに!E394=TRUE,①はじめに!D391,\"\")&\"\"","v":""},null,null,{"$f":"IF(①はじめに!E394=TRUE,①はじめに!H391,\"\")&\"\"","v":""},null,null,{"$f":"IF(①はじめに!E394=TRUE,①はじめに!F391,\"\")&\"\"","v":""},null,null,null,null,null,null,null,null,null,null,null,null,null,null,null,null,null,null,null,null,null,null,null,null,null,null,null,null,null,0,null,null,0,null,null,null,null,null,null,null,null,null,null,null,null,null,null,null,null,null,null,null,null,null,null,"非常勤・専従",{"$f":"COUNTIF($J$61:$L$83,CB434)","v":0}]
[{"$f":"+A432","v":63},{"$f":"IF(①はじめに!F394=TRUE,①はじめに!D389,\"\")","v":""},null,null,null,null,{"$f":"IF(①はじめに!F394=TRUE,\"夜間支援員\",\"\")","v":""},null,null,null,null,null,null,null,{"$f":"IF(①はじめに!F394=TRUE,①はじめに!G389,\"\")","v":""},null,null,{"$f":"IF(①はじめに!F394=TRUE,①はじめに!D391,\"\")&\"\"","v":""},null,null,{"$f":"IF(①はじめに!F394=TRUE,①はじめに!H391,\"\")&\"\"","v":""},null,null,{"$f":"IF(①はじめに!F394=TRUE,①はじめに!F391,\"\")&\"\"","v":""},null,null,null,null,null,null,null,null,null,null,null,null,null,null,null,null,null,null,null,null,null,null,null,null,null,null,null,null,null,0,null,null,0]
[{"$f":"+A432","v":63},{"$f":"IF(①はじめに!G394=TRUE,①はじめに!D389,\"\")","v":""},null,null,null,null,{"$f":"IF(①はじめに!G394=TRUE,\"日中支援員\",\"\")","v":""},null,null,null,null,null,null,null,{"$f":"IF(①はじめに!G394=TRUE,①はじめに!G389,\"\")","v":""},null,null,{"$f":"IF(①はじめに!G394=TRUE,①はじめに!D391,\"\")&\"\"","v":""},null,null,{"$f":"IF(①はじめに!G394=TRUE,①はじめに!H391,\"\")&\"\"","v":""},null,null,{"$f":"IF(①はじめに!G394=TRUE,①はじめに!F391,\"\")&\"\"","v":""},null,null,null,null,null,null,null,null,null,null,null,null,null,null,null,null,null,null,null,null,null,null,null,null,null,null,null,null,null,0,null,null,0]
[{"$f":"+A432","v":63},{"$f":"IF(①はじめに!H394=TRUE,①はじめに!D389,\"\")","v":""},null,null,null,null,{"$f":"IF(①はじめに!H394=TRUE,\"加配要員\",\"\")","v":""},null,null,null,null,null,null,null,{"$f":"IF(①はじめに!H394=TRUE,①はじめに!G389,\"\")","v":""},null,null,{"$f":"IF(①はじめに!H394=TRUE,①はじめに!D391,\"\")&\"\"","v":""},null,null,{"$f":"IF(①はじめに!H394=TRUE,①はじめに!H391,\"\")&\"\"","v":""},null,null,{"$f":"IF(①はじめに!H394=TRUE,①はじめに!F391,\"\")&\"\"","v":""},null,null,null,null,null,null,null,null,null,null,null,null,null,null,null,null,null,null,null,null,null,null,null,null,null,null,null,null,null,0,null,null,0]
[{"$f":"+A432+1","v":64},{"$f":"IF(①はじめに!C400=TRUE,①はじめに!D395,\"\")","v":""},null,null,null,null,{"$f":"IF(①はじめに!C400=TRUE,\"サービス管理責任者\",\"\")","v":""},null,null,null,null,null,null,null,{"$f":"IF(①はじめに!C400=TRUE,①はじめに!G395,\"\")","v":""},null,null,{"$f":"IF(①はじめに!C400=TRUE,①はじめに!D397,\"\")&\"\"","v":""},null,null,{"$f":"IF(①はじめに!C400=TRUE,①はじめに!H397,\"\")&\"\"","v":""},null,null,{"$f":"IF(①はじめに!C400=TRUE,①はじめに!F397,\"\")&\"\"","v":""},null,null,null,null,null,null,null,null,null,null,null,null,null,null,null,null,null,null,null,null,null,null,null,null,null,null,null,null,null,0,null,null,0]
[{"$f":"+A438","v":64},{"$f":"IF(①はじめに!D400=TRUE,①はじめに!D395,\"\")","v":""},null,null,null,null,{"$f":"IF(①はじめに!D400=TRUE,\"世話人\",\"\")","v":""},null,null,null,null,null,null,null,{"$f":"IF(①はじめに!D400=TRUE,①はじめに!G395,\"\")","v":""},null,null,{"$f":"IF(①はじめに!D400=TRUE,①はじめに!D397,\"\")&\"\"","v":""},null,null,{"$f":"IF(①はじめに!D400=TRUE,①はじめに!H397,\"\")&\"\"","v":""},null,null,{"$f":"IF(①はじめに!D400=TRUE,①はじめに!F397,\"\")&\"\"","v":""},null,null,null,null,null,null,null,null,null,null,null,null,null,null,null,null,null,null,null,null,null,null,null,null,null,null,null,null,null,0,null,null,0]
[{"$f":"+A438","v":64},{"$f":"IF(①はじめに!E400=TRUE,①はじめに!D395,\"\")","v":""},null,null,null,null,{"$f":"IF(①はじめに!E400=TRUE,\"生活支援員\",\"\")","v":""},null,null,null,null,null,null,null,{"$f":"IF(①はじめに!E400=TRUE,①はじめに!G395,\"\")","v":""},null,null,{"$f":"IF(①はじめに!E400=TRUE,①はじめに!D397,\"\")&\"\"","v":""},null,null,{"$f":"IF(①はじめに!E400=TRUE,①はじめに!H397,\"\")&\"\"","v":""},null,null,{"$f":"IF(①はじめに!E400=TRUE,①はじめに!F397,\"\")&\"\"","v":""},null,null,null,null,null,null,null,null,null,null,null,null,null,null,null,null,null,null,null,null,null,null,null,null,null,null,null,null,null,0,null,null,0,null,null,null,null,null,null,null,null,null,null,null,null,null,null,null,null,null,null,null,null,null,null,"常勤・専従",{"$f":"COUNTIF($J$61:$L$83,CB440)","v":0}]
[{"$f":"+A438","v":64},{"$f":"IF(①はじめに!F400=TRUE,①はじめに!D395,\"\")","v":""},null,null,null,null,{"$f":"IF(①はじめに!F400=TRUE,\"夜間支援員\",\"\")","v":""},null,null,null,null,null,null,null,{"$f":"IF(①はじめに!F400=TRUE,①はじめに!G395,\"\")","v":""},null,null,{"$f":"IF(①はじめに!F400=TRUE,①はじめに!D397,\"\")&\"\"","v":""},null,null,{"$f":"IF(①はじめに!F400=TRUE,①はじめに!H397,\"\")&\"\"","v":""},null,null,{"$f":"IF(①はじめに!F400=TRUE,①はじめに!F397,\"\")&\"\"","v":""},null,null,null,null,null,null,null,null,null,null,null,null,null,null,null,null,null,null,null,null,null,null,null,null,null,null,null,null,null,0,null,null,0,null,null,null,null,null,null,null,null,null,null,null,null,null,null,null,null,null,null,null,null,null,null,"常勤・兼務",{"$f":"COUNTIF($J$61:$L$83,CB441)","v":0}]
[{"$f":"+A438","v":64},{"$f":"IF(①はじめに!G400=TRUE,①はじめに!D395,\"\")","v":""},null,null,null,null,{"$f":"IF(①はじめに!G400=TRUE,\"日中支援員\",\"\")","v":""},null,null,null,null,null,null,null,{"$f":"IF(①はじめに!G400=TRUE,①はじめに!G395,\"\")","v":""},null,null,{"$f":"IF(①はじめに!G400=TRUE,①はじめに!D397,\"\")&\"\"","v":""},null,null,{"$f":"IF(①はじめに!G400=TRUE,①はじめに!H397,\"\")&\"\"","v":""},null,null,{"$f":"IF(①はじめに!G400=TRUE,①はじめに!F397,\"\")&\"\"","v":""},null,null,null,null,null,null,null,null,null,null,null,null,null,null,null,null,null,null,null,null,null,null,null,null,null,null,null,null,null,0,null,null,0]
[{"$f":"+A438","v":64},{"$f":"IF(①はじめに!H400=TRUE,①はじめに!D395,\"\")","v":""},null,null,null,null,{"$f":"IF(①はじめに!H400=TRUE,\"加配要員\",\"\")","v":""},null,null,null,null,null,null,null,{"$f":"IF(①はじめに!H400=TRUE,①はじめに!G395,\"\")","v":""},null,null,{"$f":"IF(①はじめに!H400=TRUE,①はじめに!D397,\"\")&\"\"","v":""},null,null,{"$f":"IF(①はじめに!H400=TRUE,①はじめに!H397,\"\")&\"\"","v":""},null,null,{"$f":"IF(①はじめに!H400=TRUE,①はじめに!F397,\"\")&\"\"","v":""},null,null,null,null,null,null,null,null,null,null,null,null,null,null,null,null,null,null,null,null,null,null,null,null,null,null,null,null,null,0,null,null,0]
[{"$f":"+A438+1","v":65},{"$f":"IF(①はじめに!C406=TRUE,①はじめに!D401,\"\")","v":""},null,null,null,null,{"$f":"IF(①はじめに!C406=TRUE,\"サービス管理責任者\",\"\")","v":""},null,null,null,null,null,null,null,{"$f":"IF(①はじめに!C406=TRUE,①はじめに!G401,\"\")","v":""},null,null,{"$f":"IF(①はじめに!C406=TRUE,①はじめに!D403,\"\")&\"\"","v":""},null,null,{"$f":"IF(①はじめに!C406=TRUE,①はじめに!H403,\"\")&\"\"","v":""},null,null,{"$f":"IF(①はじめに!C406=TRUE,①はじめに!F403,\"\")&\"\"","v":""},null,null,null,null,null,null,null,null,null,null,null,null,null,null,null,null,null,null,null,null,null,null,null,null,null,null,null,null,null,0,null,null,0,null,null,null,null,null,null,null,null,null,null,null,null,null,null,null,null,null,null,null,null,null,null,"常勤・専従",{"$f":"COUNTIF($J$61:$L$83,CB444)","v":0}]
[{"$f":"+A444","v":65},{"$f":"IF(①はじめに!D406=TRUE,①はじめに!D401,\"\")","v":""},null,null,null,null,{"$f":"IF(①はじめに!D406=TRUE,\"世話人\",\"\")","v":""},null,null,null,null,null,null,null,{"$f":"IF(①はじめに!D406=TRUE,①はじめに!G401,\"\")","v":""},null,null,{"$f":"IF(①はじめに!D406=TRUE,①はじめに!D403,\"\")&\"\"","v":""},null,null,{"$f":"IF(①はじめに!D406=TRUE,①はじめに!H403,\"\")&\"\"","v":""},null,null,{"$f":"IF(①はじめに!D406=TRUE,①はじめに!F403,\"\")&\"\"","v":""},null,null,null,null,null,null,null,null,null,null,null,null,null,null,null,null,null,null,null,null,null,null,null,null,null,null,null,null,null,0,null,null,0,null,null,null,null,null,null,null,null,null,null,null,null,null,null,null,null,null,null,null,null,null,null,"常勤・兼務",{"$f":"COUNTIF($J$61:$L$83,CB445)","v":0}]
[{"$f":"+A444","v":65},{"$f":"IF(①はじめに!E406=TRUE,①はじめに!D401,\"\")","v":""},null,null,null,null,{"$f":"IF(①はじめに!E406=TRUE,\"生活支援員\",\"\")","v":""},null,null,null,null,null,null,null,{"$f":"IF(①はじめに!E406=TRUE,①はじめに!G401,\"\")","v":""},null,null,{"$f":"IF(①はじめに!E406=TRUE,①はじめに!D403,\"\")&\"\"","v":""},null,null,{"$f":"IF(①はじめに!E406=TRUE,①はじめに!H403,\"\")&\"\"","v":""},null,null,{"$f":"IF(①はじめに!E406=TRUE,①はじめに!F403,\"\")&\"\"","v":""},null,null,null,null,null,null,null,null,null,null,null,null,null,null,null,null,null,null,null,null,null,null,null,null,null,null,null,null,null,0,null,null,0,null,null,null,null,null,null,null,null,null,null,null,null,null,null,null,null,null,null,null,null,null,null,"非常勤・専従",{"$f":"COUNTIF($J$61:$L$83,CB446)","v":0}]
[{"$f":"+A444","v":65},{"$f":"IF(①はじめに!F406=TRUE,①はじめに!D401,\"\")","v":""},null,null,null,null,{"$f":"IF(①はじめに!F406=TRUE,\"夜間支援員\",\"\")","v":""},null,null,null,null,null,null,null,{"$f":"IF(①はじめに!F406=TRUE,①はじめに!G401,\"\")","v":""},null,null,{"$f":"IF(①はじめに!F406=TRUE,①はじめに!D403,\"\")&\"\"","v":""},null,null,{"$f":"IF(①はじめに!F406=TRUE,①はじめに!H403,\"\")&\"\"","v":""},null,null,{"$f":"IF(①はじめに!F406=TRUE,①はじめに!F403,\"\")&\"\"","v":""},null,null,null,null,null,null,null,null,null,null,null,null,null,null,null,null,null,null,null,null,null,null,null,null,null,null,null,null,null,0,null,null,0]
[{"$f":"+A444","v":65},{"$f":"IF(①はじめに!G406=TRUE,①はじめに!D401,\"\")","v":""},null,null,null,null,{"$f":"IF(①はじめに!G406=TRUE,\"日中支援員\",\"\")","v":""},null,null,null,null,null,null,null,{"$f":"IF(①はじめに!G406=TRUE,①はじめに!G401,\"\")","v":""},null,null,{"$f":"IF(①はじめに!G406=TRUE,①はじめに!D403,\"\")&\"\"","v":""},null,null,{"$f":"IF(①はじめに!G406=TRUE,①はじめに!H403,\"\")&\"\"","v":""},null,null,{"$f":"IF(①はじめに!G406=TRUE,①はじめに!F403,\"\")&\"\"","v":""},null,null,null,null,null,null,null,null,null,null,null,null,null,null,null,null,null,null,null,null,null,null,null,null,null,null,null,null,null,0,null,null,0]
[{"$f":"+A444","v":65},{"$f":"IF(①はじめに!H406=TRUE,①はじめに!D401,\"\")","v":""},null,null,null,null,{"$f":"IF(①はじめに!H406=TRUE,\"加配要員\",\"\")","v":""},null,null,null,null,null,null,null,{"$f":"IF(①はじめに!H406=TRUE,①はじめに!G401,\"\")","v":""},null,null,{"$f":"IF(①はじめに!H406=TRUE,①はじめに!D403,\"\")&\"\"","v":""},null,null,{"$f":"IF(①はじめに!H406=TRUE,①はじめに!H403,\"\")&\"\"","v":""},null,null,{"$f":"IF(①はじめに!H406=TRUE,①はじめに!F403,\"\")&\"\"","v":""},null,null,null,null,null,null,null,null,null,null,null,null,null,null,null,null,null,null,null,null,null,null,null,null,null,null,null,null,null,0,null,null,0]
[{"$f":"+A444+1","v":66},{"$f":"IF(①はじめに!C412=TRUE,①はじめに!D407,\"\")","v":""},null,null,null,null,{"$f":"IF(①はじめに!C412=TRUE,\"サービス管理責任者\",\"\")","v":""},null,null,null,null,null,null,null,{"$f":"IF(①はじめに!C412=TRUE,①はじめに!G407,\"\")","v":""},null,null,{"$f":"IF(①はじめに!C412=TRUE,①はじめに!D409,\"\")&\"\"","v":""},null,null,{"$f":"IF(①はじめに!C412=TRUE,①はじめに!H409,\"\")&\"\"","v":""},null,null,{"$f":"IF(①はじめに!C412=TRUE,①はじめに!F409,\"\")&\"\"","v":""},null,null,null,null,null,null,null,null,null,null,null,null,null,null,null,null,null,null,null,null,null,null,null,null,null,null,null,null,null,0,null,null,0]
[{"$f":"+A450","v":66},{"$f":"IF(①はじめに!D412=TRUE,①はじめに!D407,\"\")","v":""},null,null,null,null,{"$f":"IF(①はじめに!D412=TRUE,\"世話人\",\"\")","v":""},null,null,null,null,null,null,null,{"$f":"IF(①はじめに!D412=TRUE,①はじめに!G407,\"\")","v":""},null,null,{"$f":"IF(①はじめに!D412=TRUE,①はじめに!D409,\"\")&\"\"","v":""},null,null,{"$f":"IF(①はじめに!D412=TRUE,①はじめに!H409,\"\")&\"\"","v":""},null,null,{"$f":"IF(①はじめに!D412=TRUE,①はじめに!F409,\"\")&\"\"","v":""},null,null,null,null,null,null,null,null,null,null,null,null,null,null,null,null,null,null,null,null,null,null,null,null,null,null,null,null,null,0,null,null,0]
[{"$f":"+A450","v":66},{"$f":"IF(①はじめに!E412=TRUE,①はじめに!D407,\"\")","v":""},null,null,null,null,{"$f":"IF(①はじめに!E412=TRUE,\"生活支援員\",\"\")","v":""},null,null,null,null,null,null,null,{"$f":"IF(①はじめに!E412=TRUE,①はじめに!G407,\"\")","v":""},null,null,{"$f":"IF(①はじめに!E412=TRUE,①はじめに!D409,\"\")&\"\"","v":""},null,null,{"$f":"IF(①はじめに!E412=TRUE,①はじめに!H409,\"\")&\"\"","v":""},null,null,{"$f":"IF(①はじめに!E412=TRUE,①はじめに!F409,\"\")&\"\"","v":""},null,null,null,null,null,null,null,null,null,null,null,null,null,null,null,null,null,null,null,null,null,null,null,null,null,null,null,null,null,0,null,null,0,null,null,null,null,null,null,null,null,null,null,null,null,null,null,null,null,null,null,null,null,null,null,"常勤・専従",{"$f":"COUNTIF($J$61:$L$83,CB452)","v":0}]
[{"$f":"+A450","v":66},{"$f":"IF(①はじめに!F412=TRUE,①はじめに!D407,\"\")","v":""},null,null,null,null,{"$f":"IF(①はじめに!F412=TRUE,\"夜間支援員\",\"\")","v":""},null,null,null,null,null,null,null,{"$f":"IF(①はじめに!F412=TRUE,①はじめに!G407,\"\")","v":""},null,null,{"$f":"IF(①はじめに!F412=TRUE,①はじめに!D409,\"\")&\"\"","v":""},null,null,{"$f":"IF(①はじめに!F412=TRUE,①はじめに!H409,\"\")&\"\"","v":""},null,null,{"$f":"IF(①はじめに!F412=TRUE,①はじめに!F409,\"\")&\"\"","v":""},null,null,null,null,null,null,null,null,null,null,null,null,null,null,null,null,null,null,null,null,null,null,null,null,null,null,null,null,null,0,null,null,0,null,null,null,null,null,null,null,null,null,null,null,null,null,null,null,null,null,null,null,null,null,null,"常勤・兼務",{"$f":"COUNTIF($J$61:$L$83,CB453)","v":0}]
[{"$f":"+A450","v":66},{"$f":"IF(①はじめに!G412=TRUE,①はじめに!D407,\"\")","v":""},null,null,null,null,{"$f":"IF(①はじめに!G412=TRUE,\"日中支援員\",\"\")","v":""},null,null,null,null,null,null,null,{"$f":"IF(①はじめに!G412=TRUE,①はじめに!G407,\"\")","v":""},null,null,{"$f":"IF(①はじめに!G412=TRUE,①はじめに!D409,\"\")&\"\"","v":""},null,null,{"$f":"IF(①はじめに!G412=TRUE,①はじめに!H409,\"\")&\"\"","v":""},null,null,{"$f":"IF(①はじめに!G412=TRUE,①はじめに!F409,\"\")&\"\"","v":""},null,null,null,null,null,null,null,null,null,null,null,null,null,null,null,null,null,null,null,null,null,null,null,null,null,null,null,null,null,0,null,null,0,null,null,null,null,null,null,null,null,null,null,null,null,null,null,null,null,null,null,null,null,null,null,"非常勤・専従",{"$f":"COUNTIF($J$61:$L$83,CB454)","v":0}]
[{"$f":"+A450","v":66},{"$f":"IF(①はじめに!H412=TRUE,①はじめに!D407,\"\")","v":""},null,null,null,null,{"$f":"IF(①はじめに!H412=TRUE,\"加配要員\",\"\")","v":""},null,null,null,null,null,null,null,{"$f":"IF(①はじめに!H412=TRUE,①はじめに!G407,\"\")","v":""},null,null,{"$f":"IF(①はじめに!H412=TRUE,①はじめに!D409,\"\")&\"\"","v":""},null,null,{"$f":"IF(①はじめに!H412=TRUE,①はじめに!H409,\"\")&\"\"","v":""},null,null,{"$f":"IF(①はじめに!H412=TRUE,①はじめに!F409,\"\")&\"\"","v":""},null,null,null,null,null,null,null,null,null,null,null,null,null,null,null,null,null,null,null,null,null,null,null,null,null,null,null,null,null,0,null,null,0]
[{"$f":"+A450+1","v":67},{"$f":"IF(①はじめに!C418=TRUE,①はじめに!D413,\"\")","v":""},null,null,null,null,{"$f":"IF(①はじめに!C418=TRUE,\"サービス管理責任者\",\"\")","v":""},null,null,null,null,null,null,null,{"$f":"IF(①はじめに!C418=TRUE,①はじめに!G413,\"\")","v":""},null,null,{"$f":"IF(①はじめに!C418=TRUE,①はじめに!D415,\"\")&\"\"","v":""},null,null,{"$f":"IF(①はじめに!C418=TRUE,①はじめに!H415,\"\")&\"\"","v":""},null,null,{"$f":"IF(①はじめに!C418=TRUE,①はじめに!F415,\"\")&\"\"","v":""},null,null,null,null,null,null,null,null,null,null,null,null,null,null,null,null,null,null,null,null,null,null,null,null,null,null,null,null,null,0,null,null,0]
[{"$f":"+A456","v":67},{"$f":"IF(①はじめに!D418=TRUE,①はじめに!D413,\"\")","v":""},null,null,null,null,{"$f":"IF(①はじめに!D418=TRUE,\"世話人\",\"\")","v":""},null,null,null,null,null,null,null,{"$f":"IF(①はじめに!D418=TRUE,①はじめに!G413,\"\")","v":""},null,null,{"$f":"IF(①はじめに!D418=TRUE,①はじめに!D415,\"\")&\"\"","v":""},null,null,{"$f":"IF(①はじめに!D418=TRUE,①はじめに!H415,\"\")&\"\"","v":""},null,null,{"$f":"IF(①はじめに!D418=TRUE,①はじめに!F415,\"\")&\"\"","v":""},null,null,null,null,null,null,null,null,null,null,null,null,null,null,null,null,null,null,null,null,null,null,null,null,null,null,null,null,null,0,null,null,0]
[{"$f":"+A456","v":67},{"$f":"IF(①はじめに!E418=TRUE,①はじめに!D413,\"\")","v":""},null,null,null,null,{"$f":"IF(①はじめに!E418=TRUE,\"生活支援員\",\"\")","v":""},null,null,null,null,null,null,null,{"$f":"IF(①はじめに!E418=TRUE,①はじめに!G413,\"\")","v":""},null,null,{"$f":"IF(①はじめに!E418=TRUE,①はじめに!D415,\"\")&\"\"","v":""},null,null,{"$f":"IF(①はじめに!E418=TRUE,①はじめに!H415,\"\")&\"\"","v":""},null,null,{"$f":"IF(①はじめに!E418=TRUE,①はじめに!F415,\"\")&\"\"","v":""},null,null,null,null,null,null,null,null,null,null,null,null,null,null,null,null,null,null,null,null,null,null,null,null,null,null,null,null,null,0,null,null,0,null,null,null,null,null,null,null,null,null,null,null,null,null,null,null,null,null,null,null,null,null,null,"常勤・専従",{"$f":"COUNTIF($J$61:$L$83,CB458)","v":0}]
[{"$f":"+A456","v":67},{"$f":"IF(①はじめに!F418=TRUE,①はじめに!D413,\"\")","v":""},null,null,null,null,{"$f":"IF(①はじめに!F418=TRUE,\"夜間支援員\",\"\")","v":""},null,null,null,null,null,null,null,{"$f":"IF(①はじめに!F418=TRUE,①はじめに!G413,\"\")","v":""},null,null,{"$f":"IF(①はじめに!F418=TRUE,①はじめに!D415,\"\")&\"\"","v":""},null,null,{"$f":"IF(①はじめに!F418=TRUE,①はじめに!H415,\"\")&\"\"","v":""},null,null,{"$f":"IF(①はじめに!F418=TRUE,①はじめに!F415,\"\")&\"\"","v":""},null,null,null,null,null,null,null,null,null,null,null,null,null,null,null,null,null,null,null,null,null,null,null,null,null,null,null,null,null,0,null,null,0,null,null,null,null,null,null,null,null,null,null,null,null,null,null,null,null,null,null,null,null,null,null,"常勤・兼務",{"$f":"COUNTIF($J$61:$L$83,CB459)","v":0}]
[{"$f":"+A456","v":67},{"$f":"IF(①はじめに!G418=TRUE,①はじめに!D413,\"\")","v":""},null,null,null,null,{"$f":"IF(①はじめに!G418=TRUE,\"日中支援員\",\"\")","v":""},null,null,null,null,null,null,null,{"$f":"IF(①はじめに!G418=TRUE,①はじめに!G413,\"\")","v":""},null,null,{"$f":"IF(①はじめに!G418=TRUE,①はじめに!D415,\"\")&\"\"","v":""},null,null,{"$f":"IF(①はじめに!G418=TRUE,①はじめに!H415,\"\")&\"\"","v":""},null,null,{"$f":"IF(①はじめに!G418=TRUE,①はじめに!F415,\"\")&\"\"","v":""},null,null,null,null,null,null,null,null,null,null,null,null,null,null,null,null,null,null,null,null,null,null,null,null,null,null,null,null,null,0,null,null,0]
[{"$f":"+A456","v":67},{"$f":"IF(①はじめに!H418=TRUE,①はじめに!D413,\"\")","v":""},null,null,null,null,{"$f":"IF(①はじめに!H418=TRUE,\"加配要員\",\"\")","v":""},null,null,null,null,null,null,null,{"$f":"IF(①はじめに!H418=TRUE,①はじめに!G413,\"\")","v":""},null,null,{"$f":"IF(①はじめに!H418=TRUE,①はじめに!D415,\"\")&\"\"","v":""},null,null,{"$f":"IF(①はじめに!H418=TRUE,①はじめに!H415,\"\")&\"\"","v":""},null,null,{"$f":"IF(①はじめに!H418=TRUE,①はじめに!F415,\"\")&\"\"","v":""},null,null,null,null,null,null,null,null,null,null,null,null,null,null,null,null,null,null,null,null,null,null,null,null,null,null,null,null,null,0,null,null,0]
[{"$f":"+A456+1","v":68},{"$f":"IF(①はじめに!C424=TRUE,①はじめに!D419,\"\")","v":""},null,null,null,null,{"$f":"IF(①はじめに!C424=TRUE,\"サービス管理責任者\",\"\")","v":""},null,null,null,null,null,null,null,{"$f":"IF(①はじめに!C424=TRUE,①はじめに!G419,\"\")","v":""},null,null,{"$f":"IF(①はじめに!C424=TRUE,①はじめに!D421,\"\")&\"\"","v":""},null,null,{"$f":"IF(①はじめに!C424=TRUE,①はじめに!H421,\"\")&\"\"","v":""},null,null,{"$f":"IF(①はじめに!C424=TRUE,①はじめに!F421,\"\")&\"\"","v":""},null,null,null,null,null,null,null,null,null,null,null,null,null,null,null,null,null,null,null,null,null,null,null,null,null,null,null,null,null,0,null,null,0,null,null,null,null,null,null,null,null,null,null,null,null,null,null,null,null,null,null,null,null,null,null,"常勤・専従",{"$f":"COUNTIF($J$61:$L$83,CB462)","v":0}]
[{"$f":"+A462","v":68},{"$f":"IF(①はじめに!D424=TRUE,①はじめに!D419,\"\")","v":""},null,null,null,null,{"$f":"IF(①はじめに!D424=TRUE,\"世話人\",\"\")","v":""},null,null,null,null,null,null,null,{"$f":"IF(①はじめに!D424=TRUE,①はじめに!G419,\"\")","v":""},null,null,{"$f":"IF(①はじめに!D424=TRUE,①はじめに!D421,\"\")&\"\"","v":""},null,null,{"$f":"IF(①はじめに!D424=TRUE,①はじめに!H421,\"\")&\"\"","v":""},null,null,{"$f":"IF(①はじめに!D424=TRUE,①はじめに!F421,\"\")&\"\"","v":""},null,null,null,null,null,null,null,null,null,null,null,null,null,null,null,null,null,null,null,null,null,null,null,null,null,null,null,null,null,0,null,null,0,null,null,null,null,null,null,null,null,null,null,null,null,null,null,null,null,null,null,null,null,null,null,"常勤・兼務",{"$f":"COUNTIF($J$61:$L$83,CB463)","v":0}]
[{"$f":"+A462","v":68},{"$f":"IF(①はじめに!E424=TRUE,①はじめに!D419,\"\")","v":""},null,null,null,null,{"$f":"IF(①はじめに!E424=TRUE,\"生活支援員\",\"\")","v":""},null,null,null,null,null,null,null,{"$f":"IF(①はじめに!E424=TRUE,①はじめに!G419,\"\")","v":""},null,null,{"$f":"IF(①はじめに!E424=TRUE,①はじめに!D421,\"\")&\"\"","v":""},null,null,{"$f":"IF(①はじめに!E424=TRUE,①はじめに!H421,\"\")&\"\"","v":""},null,null,{"$f":"IF(①はじめに!E424=TRUE,①はじめに!F421,\"\")&\"\"","v":""},null,null,null,null,null,null,null,null,null,null,null,null,null,null,null,null,null,null,null,null,null,null,null,null,null,null,null,null,null,0,null,null,0,null,null,null,null,null,null,null,null,null,null,null,null,null,null,null,null,null,null,null,null,null,null,"非常勤・専従",{"$f":"COUNTIF($J$61:$L$83,CB464)","v":0}]
[{"$f":"+A462","v":68},{"$f":"IF(①はじめに!F424=TRUE,①はじめに!D419,\"\")","v":""},null,null,null,null,{"$f":"IF(①はじめに!F424=TRUE,\"夜間支援員\",\"\")","v":""},null,null,null,null,null,null,null,{"$f":"IF(①はじめに!F424=TRUE,①はじめに!G419,\"\")","v":""},null,null,{"$f":"IF(①はじめに!F424=TRUE,①はじめに!D421,\"\")&\"\"","v":""},null,null,{"$f":"IF(①はじめに!F424=TRUE,①はじめに!H421,\"\")&\"\"","v":""},null,null,{"$f":"IF(①はじめに!F424=TRUE,①はじめに!F421,\"\")&\"\"","v":""},null,null,null,null,null,null,null,null,null,null,null,null,null,null,null,null,null,null,null,null,null,null,null,null,null,null,null,null,null,0,null,null,0]
[{"$f":"+A462","v":68},{"$f":"IF(①はじめに!G424=TRUE,①はじめに!D419,\"\")","v":""},null,null,null,null,{"$f":"IF(①はじめに!G424=TRUE,\"日中支援員\",\"\")","v":""},null,null,null,null,null,null,null,{"$f":"IF(①はじめに!G424=TRUE,①はじめに!G419,\"\")","v":""},null,null,{"$f":"IF(①はじめに!G424=TRUE,①はじめに!D421,\"\")&\"\"","v":""},null,null,{"$f":"IF(①はじめに!G424=TRUE,①はじめに!H421,\"\")&\"\"","v":""},null,null,{"$f":"IF(①はじめに!G424=TRUE,①はじめに!F421,\"\")&\"\"","v":""},null,null,null,null,null,null,null,null,null,null,null,null,null,null,null,null,null,null,null,null,null,null,null,null,null,null,null,null,null,0,null,null,0]
[{"$f":"+A462","v":68},{"$f":"IF(①はじめに!H424=TRUE,①はじめに!D419,\"\")","v":""},null,null,null,null,{"$f":"IF(①はじめに!H424=TRUE,\"加配要員\",\"\")","v":""},null,null,null,null,null,null,null,{"$f":"IF(①はじめに!H424=TRUE,①はじめに!G419,\"\")","v":""},null,null,{"$f":"IF(①はじめに!H424=TRUE,①はじめに!D421,\"\")&\"\"","v":""},null,null,{"$f":"IF(①はじめに!H424=TRUE,①はじめに!H421,\"\")&\"\"","v":""},null,null,{"$f":"IF(①はじめに!H424=TRUE,①はじめに!F421,\"\")&\"\"","v":""},null,null,null,null,null,null,null,null,null,null,null,null,null,null,null,null,null,null,null,null,null,null,null,null,null,null,null,null,null,0,null,null,0]
[{"$f":"+A462+1","v":69},{"$f":"IF(①はじめに!C430=TRUE,①はじめに!D425,\"\")","v":""},null,null,null,null,{"$f":"IF(①はじめに!C430=TRUE,\"サービス管理責任者\",\"\")","v":""},null,null,null,null,null,null,null,{"$f":"IF(①はじめに!C430=TRUE,①はじめに!G425,\"\")","v":""},null,null,{"$f":"IF(①はじめに!C430=TRUE,①はじめに!D427,\"\")&\"\"","v":""},null,null,{"$f":"IF(①はじめに!C430=TRUE,①はじめに!H427,\"\")&\"\"","v":""},null,null,{"$f":"IF(①はじめに!C430=TRUE,①はじめに!F427,\"\")&\"\"","v":""},null,null,null,null,null,null,null,null,null,null,null,null,null,null,null,null,null,null,null,null,null,null,null,null,null,null,null,null,null,0,null,null,0]
[{"$f":"+A468","v":69},{"$f":"IF(①はじめに!D430=TRUE,①はじめに!D425,\"\")","v":""},null,null,null,null,{"$f":"IF(①はじめに!D430=TRUE,\"世話人\",\"\")","v":""},null,null,null,null,null,null,null,{"$f":"IF(①はじめに!D430=TRUE,①はじめに!G425,\"\")","v":""},null,null,{"$f":"IF(①はじめに!D430=TRUE,①はじめに!D427,\"\")&\"\"","v":""},null,null,{"$f":"IF(①はじめに!D430=TRUE,①はじめに!H427,\"\")&\"\"","v":""},null,null,{"$f":"IF(①はじめに!D430=TRUE,①はじめに!F427,\"\")&\"\"","v":""},null,null,null,null,null,null,null,null,null,null,null,null,null,null,null,null,null,null,null,null,null,null,null,null,null,null,null,null,null,0,null,null,0]
[{"$f":"+A468","v":69},{"$f":"IF(①はじめに!E430=TRUE,①はじめに!D425,\"\")","v":""},null,null,null,null,{"$f":"IF(①はじめに!E430=TRUE,\"生活支援員\",\"\")","v":""},null,null,null,null,null,null,null,{"$f":"IF(①はじめに!E430=TRUE,①はじめに!G425,\"\")","v":""},null,null,{"$f":"IF(①はじめに!E430=TRUE,①はじめに!D427,\"\")&\"\"","v":""},null,null,{"$f":"IF(①はじめに!E430=TRUE,①はじめに!H427,\"\")&\"\"","v":""},null,null,{"$f":"IF(①はじめに!E430=TRUE,①はじめに!F427,\"\")&\"\"","v":""},null,null,null,null,null,null,null,null,null,null,null,null,null,null,null,null,null,null,null,null,null,null,null,null,null,null,null,null,null,0,null,null,0,null,null,null,null,null,null,null,null,null,null,null,null,null,null,null,null,null,null,null,null,null,null,"常勤・専従",{"$f":"COUNTIF($J$61:$L$83,CB470)","v":0}]
[{"$f":"+A468","v":69},{"$f":"IF(①はじめに!F430=TRUE,①はじめに!D425,\"\")","v":""},null,null,null,null,{"$f":"IF(①はじめに!F430=TRUE,\"夜間支援員\",\"\")","v":""},null,null,null,null,null,null,null,{"$f":"IF(①はじめに!F430=TRUE,①はじめに!G425,\"\")","v":""},null,null,{"$f":"IF(①はじめに!F430=TRUE,①はじめに!D427,\"\")&\"\"","v":""},null,null,{"$f":"IF(①はじめに!F430=TRUE,①はじめに!H427,\"\")&\"\"","v":""},null,null,{"$f":"IF(①はじめに!F430=TRUE,①はじめに!F427,\"\")&\"\"","v":""},null,null,null,null,null,null,null,null,null,null,null,null,null,null,null,null,null,null,null,null,null,null,null,null,null,null,null,null,null,0,null,null,0,null,null,null,null,null,null,null,null,null,null,null,null,null,null,null,null,null,null,null,null,null,null,"常勤・兼務",{"$f":"COUNTIF($J$61:$L$83,CB471)","v":0}]
[{"$f":"+A468","v":69},{"$f":"IF(①はじめに!G430=TRUE,①はじめに!D425,\"\")","v":""},null,null,null,null,{"$f":"IF(①はじめに!G430=TRUE,\"日中支援員\",\"\")","v":""},null,null,null,null,null,null,null,{"$f":"IF(①はじめに!G430=TRUE,①はじめに!G425,\"\")","v":""},null,null,{"$f":"IF(①はじめに!G430=TRUE,①はじめに!D427,\"\")&\"\"","v":""},null,null,{"$f":"IF(①はじめに!G430=TRUE,①はじめに!H427,\"\")&\"\"","v":""},null,null,{"$f":"IF(①はじめに!G430=TRUE,①はじめに!F427,\"\")&\"\"","v":""},null,null,null,null,null,null,null,null,null,null,null,null,null,null,null,null,null,null,null,null,null,null,null,null,null,null,null,null,null,0,null,null,0]
[{"$f":"+A468","v":69},{"$f":"IF(①はじめに!H430=TRUE,①はじめに!D425,\"\")","v":""},null,null,null,null,{"$f":"IF(①はじめに!H430=TRUE,\"加配要員\",\"\")","v":""},null,null,null,null,null,null,null,{"$f":"IF(①はじめに!H430=TRUE,①はじめに!G425,\"\")","v":""},null,null,{"$f":"IF(①はじめに!H430=TRUE,①はじめに!D427,\"\")&\"\"","v":""},null,null,{"$f":"IF(①はじめに!H430=TRUE,①はじめに!H427,\"\")&\"\"","v":""},null,null,{"$f":"IF(①はじめに!H430=TRUE,①はじめに!F427,\"\")&\"\"","v":""},null,null,null,null,null,null,null,null,null,null,null,null,null,null,null,null,null,null,null,null,null,null,null,null,null,null,null,null,null,0,null,null,0]
[{"$f":"+A468+1","v":70},{"$f":"IF(①はじめに!C436=TRUE,①はじめに!D431,\"\")","v":""},null,null,null,null,{"$f":"IF(①はじめに!C436=TRUE,\"サービス管理責任者\",\"\")","v":""},null,null,null,null,null,null,null,{"$f":"IF(①はじめに!C436=TRUE,①はじめに!G431,\"\")","v":""},null,null,{"$f":"IF(①はじめに!C436=TRUE,①はじめに!D433,\"\")&\"\"","v":""},null,null,{"$f":"IF(①はじめに!C436=TRUE,①はじめに!H433,\"\")&\"\"","v":""},null,null,{"$f":"IF(①はじめに!C436=TRUE,①はじめに!F433,\"\")&\"\"","v":""},null,null,null,null,null,null,null,null,null,null,null,null,null,null,null,null,null,null,null,null,null,null,null,null,null,null,null,null,null,0,null,null,0,null,null,null,null,null,null,null,null,null,null,null,null,null,null,null,null,null,null,null,null,null,null,"常勤・専従",{"$f":"COUNTIF($J$61:$L$83,CB474)","v":0}]
[{"$f":"+A474","v":70},{"$f":"IF(①はじめに!D436=TRUE,①はじめに!D431,\"\")","v":""},null,null,null,null,{"$f":"IF(①はじめに!D436=TRUE,\"世話人\",\"\")","v":""},null,null,null,null,null,null,null,{"$f":"IF(①はじめに!D436=TRUE,①はじめに!G431,\"\")","v":""},null,null,{"$f":"IF(①はじめに!D436=TRUE,①はじめに!D433,\"\")&\"\"","v":""},null,null,{"$f":"IF(①はじめに!D436=TRUE,①はじめに!H433,\"\")&\"\"","v":""},null,null,{"$f":"IF(①はじめに!D436=TRUE,①はじめに!F433,\"\")&\"\"","v":""},null,null,null,null,null,null,null,null,null,null,null,null,null,null,null,null,null,null,null,null,null,null,null,null,null,null,null,null,null,0,null,null,0,null,null,null,null,null,null,null,null,null,null,null,null,null,null,null,null,null,null,null,null,null,null,"常勤・兼務",{"$f":"COUNTIF($J$61:$L$83,CB475)","v":0}]
[{"$f":"+A474","v":70},{"$f":"IF(①はじめに!E436=TRUE,①はじめに!D431,\"\")","v":""},null,null,null,null,{"$f":"IF(①はじめに!E436=TRUE,\"生活支援員\",\"\")","v":""},null,null,null,null,null,null,null,{"$f":"IF(①はじめに!E436=TRUE,①はじめに!G431,\"\")","v":""},null,null,{"$f":"IF(①はじめに!E436=TRUE,①はじめに!D433,\"\")&\"\"","v":""},null,null,{"$f":"IF(①はじめに!E436=TRUE,①はじめに!H433,\"\")&\"\"","v":""},null,null,{"$f":"IF(①はじめに!E436=TRUE,①はじめに!F433,\"\")&\"\"","v":""},null,null,null,null,null,null,null,null,null,null,null,null,null,null,null,null,null,null,null,null,null,null,null,null,null,null,null,null,null,0,null,null,0,null,null,null,null,null,null,null,null,null,null,null,null,null,null,null,null,null,null,null,null,null,null,"非常勤・専従",{"$f":"COUNTIF($J$61:$L$83,CB476)","v":0}]
[{"$f":"+A474","v":70},{"$f":"IF(①はじめに!F436=TRUE,①はじめに!D431,\"\")","v":""},null,null,null,null,{"$f":"IF(①はじめに!F436=TRUE,\"夜間支援員\",\"\")","v":""},null,null,null,null,null,null,null,{"$f":"IF(①はじめに!F436=TRUE,①はじめに!G431,\"\")","v":""},null,null,{"$f":"IF(①はじめに!F436=TRUE,①はじめに!D433,\"\")&\"\"","v":""},null,null,{"$f":"IF(①はじめに!F436=TRUE,①はじめに!H433,\"\")&\"\"","v":""},null,null,{"$f":"IF(①はじめに!F436=TRUE,①はじめに!F433,\"\")&\"\"","v":""},null,null,null,null,null,null,null,null,null,null,null,null,null,null,null,null,null,null,null,null,null,null,null,null,null,null,null,null,null,0,null,null,0]
[{"$f":"+A474","v":70},{"$f":"IF(①はじめに!G436=TRUE,①はじめに!D431,\"\")","v":""},null,null,null,null,{"$f":"IF(①はじめに!G436=TRUE,\"日中支援員\",\"\")","v":""},null,null,null,null,null,null,null,{"$f":"IF(①はじめに!G436=TRUE,①はじめに!G431,\"\")","v":""},null,null,{"$f":"IF(①はじめに!G436=TRUE,①はじめに!D433,\"\")&\"\"","v":""},null,null,{"$f":"IF(①はじめに!G436=TRUE,①はじめに!H433,\"\")&\"\"","v":""},null,null,{"$f":"IF(①はじめに!G436=TRUE,①はじめに!F433,\"\")&\"\"","v":""},null,null,null,null,null,null,null,null,null,null,null,null,null,null,null,null,null,null,null,null,null,null,null,null,null,null,null,null,null,0,null,null,0]
[{"$f":"+A474","v":70},{"$f":"IF(①はじめに!H436=TRUE,①はじめに!D431,\"\")","v":""},null,null,null,null,{"$f":"IF(①はじめに!H436=TRUE,\"加配要員\",\"\")","v":""},null,null,null,null,null,null,null,{"$f":"IF(①はじめに!H436=TRUE,①はじめに!G431,\"\")","v":""},null,null,{"$f":"IF(①はじめに!H436=TRUE,①はじめに!D433,\"\")&\"\"","v":""},null,null,{"$f":"IF(①はじめに!H436=TRUE,①はじめに!H433,\"\")&\"\"","v":""},null,null,{"$f":"IF(①はじめに!H436=TRUE,①はじめに!F433,\"\")&\"\"","v":""},null,null,null,null,null,null,null,null,null,null,null,null,null,null,null,null,null,null,null,null,null,null,null,null,null,null,null,null,null,0,null,null,0]
[{"$f":"+A474+1","v":71},{"$f":"IF(①はじめに!C442=TRUE,①はじめに!D437,\"\")","v":""},null,null,null,null,{"$f":"IF(①はじめに!C442=TRUE,\"サービス管理責任者\",\"\")","v":""},null,null,null,null,null,null,null,{"$f":"IF(①はじめに!C442=TRUE,①はじめに!G437,\"\")","v":""},null,null,{"$f":"IF(①はじめに!C442=TRUE,①はじめに!D439,\"\")&\"\"","v":""},null,null,{"$f":"IF(①はじめに!C442=TRUE,①はじめに!H439,\"\")&\"\"","v":""},null,null,{"$f":"IF(①はじめに!C442=TRUE,①はじめに!F439,\"\")&\"\"","v":""},null,null,null,null,null,null,null,null,null,null,null,null,null,null,null,null,null,null,null,null,null,null,null,null,null,null,null,null,null,0,null,null,0]
[{"$f":"+A480","v":71},{"$f":"IF(①はじめに!D442=TRUE,①はじめに!D437,\"\")","v":""},null,null,null,null,{"$f":"IF(①はじめに!D442=TRUE,\"世話人\",\"\")","v":""},null,null,null,null,null,null,null,{"$f":"IF(①はじめに!D442=TRUE,①はじめに!G437,\"\")","v":""},null,null,{"$f":"IF(①はじめに!D442=TRUE,①はじめに!D439,\"\")&\"\"","v":""},null,null,{"$f":"IF(①はじめに!D442=TRUE,①はじめに!H439,\"\")&\"\"","v":""},null,null,{"$f":"IF(①はじめに!D442=TRUE,①はじめに!F439,\"\")&\"\"","v":""},null,null,null,null,null,null,null,null,null,null,null,null,null,null,null,null,null,null,null,null,null,null,null,null,null,null,null,null,null,0,null,null,0]
[{"$f":"+A480","v":71},{"$f":"IF(①はじめに!E442=TRUE,①はじめに!D437,\"\")","v":""},null,null,null,null,{"$f":"IF(①はじめに!E442=TRUE,\"生活支援員\",\"\")","v":""},null,null,null,null,null,null,null,{"$f":"IF(①はじめに!E442=TRUE,①はじめに!G437,\"\")","v":""},null,null,{"$f":"IF(①はじめに!E442=TRUE,①はじめに!D439,\"\")&\"\"","v":""},null,null,{"$f":"IF(①はじめに!E442=TRUE,①はじめに!H439,\"\")&\"\"","v":""},null,null,{"$f":"IF(①はじめに!E442=TRUE,①はじめに!F439,\"\")&\"\"","v":""},null,null,null,null,null,null,null,null,null,null,null,null,null,null,null,null,null,null,null,null,null,null,null,null,null,null,null,null,null,0,null,null,0,null,null,null,null,null,null,null,null,null,null,null,null,null,null,null,null,null,null,null,null,null,null,"常勤・専従",{"$f":"COUNTIF($J$61:$L$83,CB482)","v":0}]
[{"$f":"+A480","v":71},{"$f":"IF(①はじめに!F442=TRUE,①はじめに!D437,\"\")","v":""},null,null,null,null,{"$f":"IF(①はじめに!F442=TRUE,\"夜間支援員\",\"\")","v":""},null,null,null,null,null,null,null,{"$f":"IF(①はじめに!F442=TRUE,①はじめに!G437,\"\")","v":""},null,null,{"$f":"IF(①はじめに!F442=TRUE,①はじめに!D439,\"\")&\"\"","v":""},null,null,{"$f":"IF(①はじめに!F442=TRUE,①はじめに!H439,\"\")&\"\"","v":""},null,null,{"$f":"IF(①はじめに!F442=TRUE,①はじめに!F439,\"\")&\"\"","v":""},null,null,null,null,null,null,null,null,null,null,null,null,null,null,null,null,null,null,null,null,null,null,null,null,null,null,null,null,null,0,null,null,0,null,null,null,null,null,null,null,null,null,null,null,null,null,null,null,null,null,null,null,null,null,null,"常勤・兼務",{"$f":"COUNTIF($J$61:$L$83,CB483)","v":0}]
[{"$f":"+A480","v":71},{"$f":"IF(①はじめに!G442=TRUE,①はじめに!D437,\"\")","v":""},null,null,null,null,{"$f":"IF(①はじめに!G442=TRUE,\"日中支援員\",\"\")","v":""},null,null,null,null,null,null,null,{"$f":"IF(①はじめに!G442=TRUE,①はじめに!G437,\"\")","v":""},null,null,{"$f":"IF(①はじめに!G442=TRUE,①はじめに!D439,\"\")&\"\"","v":""},null,null,{"$f":"IF(①はじめに!G442=TRUE,①はじめに!H439,\"\")&\"\"","v":""},null,null,{"$f":"IF(①はじめに!G442=TRUE,①はじめに!F439,\"\")&\"\"","v":""},null,null,null,null,null,null,null,null,null,null,null,null,null,null,null,null,null,null,null,null,null,null,null,null,null,null,null,null,null,0,null,null,0,null,null,null,null,null,null,null,null,null,null,null,null,null,null,null,null,null,null,null,null,null,null,"非常勤・専従",{"$f":"COUNTIF($J$61:$L$83,CB484)","v":0}]
[{"$f":"+A480","v":71},{"$f":"IF(①はじめに!H442=TRUE,①はじめに!D437,\"\")","v":""},null,null,null,null,{"$f":"IF(①はじめに!H442=TRUE,\"加配要員\",\"\")","v":""},null,null,null,null,null,null,null,{"$f":"IF(①はじめに!H442=TRUE,①はじめに!G437,\"\")","v":""},null,null,{"$f":"IF(①はじめに!H442=TRUE,①はじめに!D439,\"\")&\"\"","v":""},null,null,{"$f":"IF(①はじめに!H442=TRUE,①はじめに!H439,\"\")&\"\"","v":""},null,null,{"$f":"IF(①はじめに!H442=TRUE,①はじめに!F439,\"\")&\"\"","v":""},null,null,null,null,null,null,null,null,null,null,null,null,null,null,null,null,null,null,null,null,null,null,null,null,null,null,null,null,null,0,null,null,0]
[{"$f":"+A480+1","v":72},{"$f":"IF(①はじめに!C448=TRUE,①はじめに!D443,\"\")","v":""},null,null,null,null,{"$f":"IF(①はじめに!C448=TRUE,\"サービス管理責任者\",\"\")","v":""},null,null,null,null,null,null,null,{"$f":"IF(①はじめに!C448=TRUE,①はじめに!G443,\"\")","v":""},null,null,{"$f":"IF(①はじめに!C448=TRUE,①はじめに!D445,\"\")&\"\"","v":""},null,null,{"$f":"IF(①はじめに!C448=TRUE,①はじめに!H445,\"\")&\"\"","v":""},null,null,{"$f":"IF(①はじめに!C448=TRUE,①はじめに!F445,\"\")&\"\"","v":""},null,null,null,null,null,null,null,null,null,null,null,null,null,null,null,null,null,null,null,null,null,null,null,null,null,null,null,null,null,0,null,null,0]
[{"$f":"+A486","v":72},{"$f":"IF(①はじめに!D448=TRUE,①はじめに!D443,\"\")","v":""},null,null,null,null,{"$f":"IF(①はじめに!D448=TRUE,\"世話人\",\"\")","v":""},null,null,null,null,null,null,null,{"$f":"IF(①はじめに!D448=TRUE,①はじめに!G443,\"\")","v":""},null,null,{"$f":"IF(①はじめに!D448=TRUE,①はじめに!D445,\"\")&\"\"","v":""},null,null,{"$f":"IF(①はじめに!D448=TRUE,①はじめに!H445,\"\")&\"\"","v":""},null,null,{"$f":"IF(①はじめに!D448=TRUE,①はじめに!F445,\"\")&\"\"","v":""},null,null,null,null,null,null,null,null,null,null,null,null,null,null,null,null,null,null,null,null,null,null,null,null,null,null,null,null,null,0,null,null,0]
[{"$f":"+A486","v":72},{"$f":"IF(①はじめに!E448=TRUE,①はじめに!D443,\"\")","v":""},null,null,null,null,{"$f":"IF(①はじめに!E448=TRUE,\"生活支援員\",\"\")","v":""},null,null,null,null,null,null,null,{"$f":"IF(①はじめに!E448=TRUE,①はじめに!G443,\"\")","v":""},null,null,{"$f":"IF(①はじめに!E448=TRUE,①はじめに!D445,\"\")&\"\"","v":""},null,null,{"$f":"IF(①はじめに!E448=TRUE,①はじめに!H445,\"\")&\"\"","v":""},null,null,{"$f":"IF(①はじめに!E448=TRUE,①はじめに!F445,\"\")&\"\"","v":""},null,null,null,null,null,null,null,null,null,null,null,null,null,null,null,null,null,null,null,null,null,null,null,null,null,null,null,null,null,0,null,null,0,null,null,null,null,null,null,null,null,null,null,null,null,null,null,null,null,null,null,null,null,null,null,"常勤・専従",{"$f":"COUNTIF($J$61:$L$83,CB488)","v":0}]
[{"$f":"+A486","v":72},{"$f":"IF(①はじめに!F448=TRUE,①はじめに!D443,\"\")","v":""},null,null,null,null,{"$f":"IF(①はじめに!F448=TRUE,\"夜間支援員\",\"\")","v":""},null,null,null,null,null,null,null,{"$f":"IF(①はじめに!F448=TRUE,①はじめに!G443,\"\")","v":""},null,null,{"$f":"IF(①はじめに!F448=TRUE,①はじめに!D445,\"\")&\"\"","v":""},null,null,{"$f":"IF(①はじめに!F448=TRUE,①はじめに!H445,\"\")&\"\"","v":""},null,null,{"$f":"IF(①はじめに!F448=TRUE,①はじめに!F445,\"\")&\"\"","v":""},null,null,null,null,null,null,null,null,null,null,null,null,null,null,null,null,null,null,null,null,null,null,null,null,null,null,null,null,null,0,null,null,0,null,null,null,null,null,null,null,null,null,null,null,null,null,null,null,null,null,null,null,null,null,null,"常勤・兼務",{"$f":"COUNTIF($J$61:$L$83,CB489)","v":0}]
[{"$f":"+A486","v":72},{"$f":"IF(①はじめに!G448=TRUE,①はじめに!D443,\"\")","v":""},null,null,null,null,{"$f":"IF(①はじめに!G448=TRUE,\"日中支援員\",\"\")","v":""},null,null,null,null,null,null,null,{"$f":"IF(①はじめに!G448=TRUE,①はじめに!G443,\"\")","v":""},null,null,{"$f":"IF(①はじめに!G448=TRUE,①はじめに!D445,\"\")&\"\"","v":""},null,null,{"$f":"IF(①はじめに!G448=TRUE,①はじめに!H445,\"\")&\"\"","v":""},null,null,{"$f":"IF(①はじめに!G448=TRUE,①はじめに!F445,\"\")&\"\"","v":""},null,null,null,null,null,null,null,null,null,null,null,null,null,null,null,null,null,null,null,null,null,null,null,null,null,null,null,null,null,0,null,null,0]
[{"$f":"+A486","v":72},{"$f":"IF(①はじめに!H448=TRUE,①はじめに!D443,\"\")","v":""},null,null,null,null,{"$f":"IF(①はじめに!H448=TRUE,\"加配要員\",\"\")","v":""},null,null,null,null,null,null,null,{"$f":"IF(①はじめに!H448=TRUE,①はじめに!G443,\"\")","v":""},null,null,{"$f":"IF(①はじめに!H448=TRUE,①はじめに!D445,\"\")&\"\"","v":""},null,null,{"$f":"IF(①はじめに!H448=TRUE,①はじめに!H445,\"\")&\"\"","v":""},null,null,{"$f":"IF(①はじめに!H448=TRUE,①はじめに!F445,\"\")&\"\"","v":""},null,null,null,null,null,null,null,null,null,null,null,null,null,null,null,null,null,null,null,null,null,null,null,null,null,null,null,null,null,0,null,null,0]
[{"$f":"+A486+1","v":73},{"$f":"IF(①はじめに!C454=TRUE,①はじめに!D449,\"\")","v":""},null,null,null,null,{"$f":"IF(①はじめに!C454=TRUE,\"サービス管理責任者\",\"\")","v":""},null,null,null,null,null,null,null,{"$f":"IF(①はじめに!C454=TRUE,①はじめに!G449,\"\")","v":""},null,null,{"$f":"IF(①はじめに!C454=TRUE,①はじめに!D451,\"\")&\"\"","v":""},null,null,{"$f":"IF(①はじめに!C454=TRUE,①はじめに!H451,\"\")&\"\"","v":""},null,null,{"$f":"IF(①はじめに!C454=TRUE,①はじめに!F451,\"\")&\"\"","v":""},null,null,null,null,null,null,null,null,null,null,null,null,null,null,null,null,null,null,null,null,null,null,null,null,null,null,null,null,null,0,null,null,0,null,null,null,null,null,null,null,null,null,null,null,null,null,null,null,null,null,null,null,null,null,null,"常勤・専従",{"$f":"COUNTIF($J$61:$L$83,CB492)","v":0}]
[{"$f":"+A492","v":73},{"$f":"IF(①はじめに!D454=TRUE,①はじめに!D449,\"\")","v":""},null,null,null,null,{"$f":"IF(①はじめに!D454=TRUE,\"世話人\",\"\")","v":""},null,null,null,null,null,null,null,{"$f":"IF(①はじめに!D454=TRUE,①はじめに!G449,\"\")","v":""},null,null,{"$f":"IF(①はじめに!D454=TRUE,①はじめに!D451,\"\")&\"\"","v":""},null,null,{"$f":"IF(①はじめに!D454=TRUE,①はじめに!H451,\"\")&\"\"","v":""},null,null,{"$f":"IF(①はじめに!D454=TRUE,①はじめに!F451,\"\")&\"\"","v":""},null,null,null,null,null,null,null,null,null,null,null,null,null,null,null,null,null,null,null,null,null,null,null,null,null,null,null,null,null,0,null,null,0,null,null,null,null,null,null,null,null,null,null,null,null,null,null,null,null,null,null,null,null,null,null,"常勤・兼務",{"$f":"COUNTIF($J$61:$L$83,CB493)","v":0}]
[{"$f":"+A492","v":73},{"$f":"IF(①はじめに!E454=TRUE,①はじめに!D449,\"\")","v":""},null,null,null,null,{"$f":"IF(①はじめに!E454=TRUE,\"生活支援員\",\"\")","v":""},null,null,null,null,null,null,null,{"$f":"IF(①はじめに!E454=TRUE,①はじめに!G449,\"\")","v":""},null,null,{"$f":"IF(①はじめに!E454=TRUE,①はじめに!D451,\"\")&\"\"","v":""},null,null,{"$f":"IF(①はじめに!E454=TRUE,①はじめに!H451,\"\")&\"\"","v":""},null,null,{"$f":"IF(①はじめに!E454=TRUE,①はじめに!F451,\"\")&\"\"","v":""},null,null,null,null,null,null,null,null,null,null,null,null,null,null,null,null,null,null,null,null,null,null,null,null,null,null,null,null,null,{"$f":"SUM(Z494:BA494)","v":0},null,null,{"$f":"BB494/4","v":0},null,null,null,null,null,null,null,null,null,null,null,null,null,null,null,null,null,null,null,null,null,null,"非常勤・専従",{"$f":"COUNTIF($J$61:$L$83,CB494)","v":0}]
[{"$f":"+A492","v":73},{"$f":"IF(①はじめに!F454=TRUE,①はじめに!D449,\"\")","v":""},null,null,null,null,{"$f":"IF(①はじめに!F454=TRUE,\"夜間支援員\",\"\")","v":""},null,null,null,null,null,null,null,{"$f":"IF(①はじめに!F454=TRUE,①はじめに!G449,\"\")","v":""},null,null,{"$f":"IF(①はじめに!F454=TRUE,①はじめに!D451,\"\")&\"\"","v":""},null,null,{"$f":"IF(①はじめに!F454=TRUE,①はじめに!H451,\"\")&\"\"","v":""},null,null,{"$f":"IF(①はじめに!F454=TRUE,①はじめに!F451,\"\")&\"\"","v":""},null,null,null,null,null,null,null,null,null,null,null,null,null,null,null,null,null,null,null,null,null,null,null,null,null,null,null,null,null,0,null,null,0]
[{"$f":"+A492","v":73},{"$f":"IF(①はじめに!G454=TRUE,①はじめに!D449,\"\")","v":""},null,null,null,null,{"$f":"IF(①はじめに!G454=TRUE,\"日中支援員\",\"\")","v":""},null,null,null,null,null,null,null,{"$f":"IF(①はじめに!G454=TRUE,①はじめに!G449,\"\")","v":""},null,null,{"$f":"IF(①はじめに!G454=TRUE,①はじめに!D451,\"\")&\"\"","v":""},null,null,{"$f":"IF(①はじめに!G454=TRUE,①はじめに!H451,\"\")&\"\"","v":""},null,null,{"$f":"IF(①はじめに!G454=TRUE,①はじめに!F451,\"\")&\"\"","v":""},null,null,null,null,null,null,null,null,null,null,null,null,null,null,null,null,null,null,null,null,null,null,null,null,null,null,null,null,null,0,null,null,0]
[{"$f":"+A492","v":73},{"$f":"IF(①はじめに!H454=TRUE,①はじめに!D449,\"\")","v":""},null,null,null,null,{"$f":"IF(①はじめに!H454=TRUE,\"加配要員\",\"\")","v":""},null,null,null,null,null,null,null,{"$f":"IF(①はじめに!H454=TRUE,①はじめに!G449,\"\")","v":""},null,null,{"$f":"IF(①はじめに!H454=TRUE,①はじめに!D451,\"\")&\"\"","v":""},null,null,{"$f":"IF(①はじめに!H454=TRUE,①はじめに!H451,\"\")&\"\"","v":""},null,null,{"$f":"IF(①はじめに!H454=TRUE,①はじめに!F451,\"\")&\"\"","v":""},null,null,null,null,null,null,null,null,null,null,null,null,null,null,null,null,null,null,null,null,null,null,null,null,null,null,null,null,null,0,null,null,0]
[{"$f":"+A492+1","v":74},{"$f":"IF(①はじめに!C460=TRUE,①はじめに!D455,\"\")","v":""},null,null,null,null,{"$f":"IF(①はじめに!C460=TRUE,\"サービス管理責任者\",\"\")","v":""},null,null,null,null,null,null,null,{"$f":"IF(①はじめに!C460=TRUE,①はじめに!G455,\"\")","v":""},null,null,{"$f":"IF(①はじめに!C460=TRUE,①はじめに!D457,\"\")&\"\"","v":""},null,null,{"$f":"IF(①はじめに!C460=TRUE,①はじめに!H457,\"\")&\"\"","v":""},null,null,{"$f":"IF(①はじめに!C460=TRUE,①はじめに!F457,\"\")&\"\"","v":""},null,null,null,null,null,null,null,null,null,null,null,null,null,null,null,null,null,null,null,null,null,null,null,null,null,null,null,null,null,0,null,null,0]
[{"$f":"+A498","v":74},{"$f":"IF(①はじめに!D460=TRUE,①はじめに!D455,\"\")","v":""},null,null,null,null,{"$f":"IF(①はじめに!D460=TRUE,\"世話人\",\"\")","v":""},null,null,null,null,null,null,null,{"$f":"IF(①はじめに!D460=TRUE,①はじめに!G455,\"\")","v":""},null,null,{"$f":"IF(①はじめに!D460=TRUE,①はじめに!D457,\"\")&\"\"","v":""},null,null,{"$f":"IF(①はじめに!D460=TRUE,①はじめに!H457,\"\")&\"\"","v":""},null,null,{"$f":"IF(①はじめに!D460=TRUE,①はじめに!F457,\"\")&\"\"","v":""},null,null,null,null,null,null,null,null,null,null,null,null,null,null,null,null,null,null,null,null,null,null,null,null,null,null,null,null,null,0,null,null,0]
[{"$f":"+A498","v":74},{"$f":"IF(①はじめに!E460=TRUE,①はじめに!D455,\"\")","v":""},null,null,null,null,{"$f":"IF(①はじめに!E460=TRUE,\"生活支援員\",\"\")","v":""},null,null,null,null,null,null,null,{"$f":"IF(①はじめに!E460=TRUE,①はじめに!G455,\"\")","v":""},null,null,{"$f":"IF(①はじめに!E460=TRUE,①はじめに!D457,\"\")&\"\"","v":""},null,null,{"$f":"IF(①はじめに!E460=TRUE,①はじめに!H457,\"\")&\"\"","v":""},null,null,{"$f":"IF(①はじめに!E460=TRUE,①はじめに!F457,\"\")&\"\"","v":""},null,null,null,null,null,null,null,null,null,null,null,null,null,null,null,null,null,null,null,null,null,null,null,null,null,null,null,null,null,0,null,null,0,null,null,null,null,null,null,null,null,null,null,null,null,null,null,null,null,null,null,null,null,null,null,"常勤・専従",{"$f":"COUNTIF($J$61:$L$83,CB500)","v":0}]
[{"$f":"+A498","v":74},{"$f":"IF(①はじめに!F460=TRUE,①はじめに!D455,\"\")","v":""},null,null,null,null,{"$f":"IF(①はじめに!F460=TRUE,\"夜間支援員\",\"\")","v":""},null,null,null,null,null,null,null,{"$f":"IF(①はじめに!F460=TRUE,①はじめに!G455,\"\")","v":""},null,null,{"$f":"IF(①はじめに!F460=TRUE,①はじめに!D457,\"\")&\"\"","v":""},null,null,{"$f":"IF(①はじめに!F460=TRUE,①はじめに!H457,\"\")&\"\"","v":""},null,null,{"$f":"IF(①はじめに!F460=TRUE,①はじめに!F457,\"\")&\"\"","v":""},null,null,null,null,null,null,null,null,null,null,null,null,null,null,null,null,null,null,null,null,null,null,null,null,null,null,null,null,null,0,null,null,0,null,null,null,null,null,null,null,null,null,null,null,null,null,null,null,null,null,null,null,null,null,null,"常勤・兼務",{"$f":"COUNTIF($J$61:$L$83,CB501)","v":0}]
[{"$f":"+A498","v":74},{"$f":"IF(①はじめに!G460=TRUE,①はじめに!D455,\"\")","v":""},null,null,null,null,{"$f":"IF(①はじめに!G460=TRUE,\"日中支援員\",\"\")","v":""},null,null,null,null,null,null,null,{"$f":"IF(①はじめに!G460=TRUE,①はじめに!G455,\"\")","v":""},null,null,{"$f":"IF(①はじめに!G460=TRUE,①はじめに!D457,\"\")&\"\"","v":""},null,null,{"$f":"IF(①はじめに!G460=TRUE,①はじめに!H457,\"\")&\"\"","v":""},null,null,{"$f":"IF(①はじめに!G460=TRUE,①はじめに!F457,\"\")&\"\"","v":""},null,null,null,null,null,null,null,null,null,null,null,null,null,null,null,null,null,null,null,null,null,null,null,null,null,null,null,null,null,0,null,null,0]
[{"$f":"+A498","v":74},{"$f":"IF(①はじめに!H460=TRUE,①はじめに!D455,\"\")","v":""},null,null,null,null,{"$f":"IF(①はじめに!H460=TRUE,\"加配要員\",\"\")","v":""},null,null,null,null,null,null,null,{"$f":"IF(①はじめに!H460=TRUE,①はじめに!G455,\"\")","v":""},null,null,{"$f":"IF(①はじめに!H460=TRUE,①はじめに!D457,\"\")&\"\"","v":""},null,null,{"$f":"IF(①はじめに!H460=TRUE,①はじめに!H457,\"\")&\"\"","v":""},null,null,{"$f":"IF(①はじめに!H460=TRUE,①はじめに!F457,\"\")&\"\"","v":""},null,null,null,null,null,null,null,null,null,null,null,null,null,null,null,null,null,null,null,null,null,null,null,null,null,null,null,null,null,0,null,null,0]
[{"$f":"+A498+1","v":75},{"$f":"IF(①はじめに!C466=TRUE,①はじめに!D461,\"\")","v":""},null,null,null,null,{"$f":"IF(①はじめに!C466=TRUE,\"サービス管理責任者\",\"\")","v":""},null,null,null,null,null,null,null,{"$f":"IF(①はじめに!C466=TRUE,①はじめに!G461,\"\")","v":""},null,null,{"$f":"IF(①はじめに!C466=TRUE,①はじめに!D463,\"\")&\"\"","v":""},null,null,{"$f":"IF(①はじめに!C466=TRUE,①はじめに!H463,\"\")&\"\"","v":""},null,null,{"$f":"IF(①はじめに!C466=TRUE,①はじめに!F463,\"\")&\"\"","v":""},null,null,null,null,null,null,null,null,null,null,null,null,null,null,null,null,null,null,null,null,null,null,null,null,null,null,null,null,null,0,null,null,0,null,null,null,null,null,null,null,null,null,null,null,null,null,null,null,null,null,null,null,null,null,null,"常勤・専従",{"$f":"COUNTIF($J$61:$L$83,CB504)","v":0}]
[{"$f":"+A504","v":75},{"$f":"IF(①はじめに!D466=TRUE,①はじめに!D461,\"\")","v":""},null,null,null,null,{"$f":"IF(①はじめに!D466=TRUE,\"世話人\",\"\")","v":""},null,null,null,null,null,null,null,{"$f":"IF(①はじめに!D466=TRUE,①はじめに!G461,\"\")","v":""},null,null,{"$f":"IF(①はじめに!D466=TRUE,①はじめに!D463,\"\")&\"\"","v":""},null,null,{"$f":"IF(①はじめに!D466=TRUE,①はじめに!H463,\"\")&\"\"","v":""},null,null,{"$f":"IF(①はじめに!D466=TRUE,①はじめに!F463,\"\")&\"\"","v":""},null,null,null,null,null,null,null,null,null,null,null,null,null,null,null,null,null,null,null,null,null,null,null,null,null,null,null,null,null,0,null,null,0,null,null,null,null,null,null,null,null,null,null,null,null,null,null,null,null,null,null,null,null,null,null,"常勤・兼務",{"$f":"COUNTIF($J$61:$L$83,CB505)","v":0}]
[{"$f":"+A504","v":75},{"$f":"IF(①はじめに!E466=TRUE,①はじめに!D461,\"\")","v":""},null,null,null,null,{"$f":"IF(①はじめに!E466=TRUE,\"生活支援員\",\"\")","v":""},null,null,null,null,null,null,null,{"$f":"IF(①はじめに!E466=TRUE,①はじめに!G461,\"\")","v":""},null,null,{"$f":"IF(①はじめに!E466=TRUE,①はじめに!D463,\"\")&\"\"","v":""},null,null,{"$f":"IF(①はじめに!E466=TRUE,①はじめに!H463,\"\")&\"\"","v":""},null,null,{"$f":"IF(①はじめに!E466=TRUE,①はじめに!F463,\"\")&\"\"","v":""},null,null,null,null,null,null,null,null,null,null,null,null,null,null,null,null,null,null,null,null,null,null,null,null,null,null,null,null,null,0,null,null,0,null,null,null,null,null,null,null,null,null,null,null,null,null,null,null,null,null,null,null,null,null,null,"非常勤・専従",{"$f":"COUNTIF($J$61:$L$83,CB506)","v":0}]
[{"$f":"+A504","v":75},{"$f":"IF(①はじめに!F466=TRUE,①はじめに!D461,\"\")","v":""},null,null,null,null,{"$f":"IF(①はじめに!F466=TRUE,\"夜間支援員\",\"\")","v":""},null,null,null,null,null,null,null,{"$f":"IF(①はじめに!F466=TRUE,①はじめに!G461,\"\")","v":""},null,null,{"$f":"IF(①はじめに!F466=TRUE,①はじめに!D463,\"\")&\"\"","v":""},null,null,{"$f":"IF(①はじめに!F466=TRUE,①はじめに!H463,\"\")&\"\"","v":""},null,null,{"$f":"IF(①はじめに!F466=TRUE,①はじめに!F463,\"\")&\"\"","v":""},null,null,null,null,null,null,null,null,null,null,null,null,null,null,null,null,null,null,null,null,null,null,null,null,null,null,null,null,null,0,null,null,0]
[{"$f":"+A504","v":75},{"$f":"IF(①はじめに!G466=TRUE,①はじめに!D461,\"\")","v":""},null,null,null,null,{"$f":"IF(①はじめに!G466=TRUE,\"日中支援員\",\"\")","v":""},null,null,null,null,null,null,null,{"$f":"IF(①はじめに!G466=TRUE,①はじめに!G461,\"\")","v":""},null,null,{"$f":"IF(①はじめに!G466=TRUE,①はじめに!D463,\"\")&\"\"","v":""},null,null,{"$f":"IF(①はじめに!G466=TRUE,①はじめに!H463,\"\")&\"\"","v":""},null,null,{"$f":"IF(①はじめに!G466=TRUE,①はじめに!F463,\"\")&\"\"","v":""},null,null,null,null,null,null,null,null,null,null,null,null,null,null,null,null,null,null,null,null,null,null,null,null,null,null,null,null,null,0,null,null,0]
[{"$f":"+A504","v":75},{"$f":"IF(①はじめに!H466=TRUE,①はじめに!D461,\"\")","v":""},null,null,null,null,{"$f":"IF(①はじめに!H466=TRUE,\"加配要員\",\"\")","v":""},null,null,null,null,null,null,null,{"$f":"IF(①はじめに!H466=TRUE,①はじめに!G461,\"\")","v":""},null,null,{"$f":"IF(①はじめに!H466=TRUE,①はじめに!D463,\"\")&\"\"","v":""},null,null,{"$f":"IF(①はじめに!H466=TRUE,①はじめに!H463,\"\")&\"\"","v":""},null,null,{"$f":"IF(①はじめに!H466=TRUE,①はじめに!F463,\"\")&\"\"","v":""},null,null,null,null,null,null,null,null,null,null,null,null,null,null,null,null,null,null,null,null,null,null,null,null,null,null,null,null,null,0,null,null,0]
[{"$f":"+A504+1","v":76},{"$f":"IF(①はじめに!C472=TRUE,①はじめに!D467,\"\")","v":""},null,null,null,null,{"$f":"IF(①はじめに!C472=TRUE,\"サービス管理責任者\",\"\")","v":""},null,null,null,null,null,null,null,{"$f":"IF(①はじめに!C472=TRUE,①はじめに!G467,\"\")","v":""},null,null,{"$f":"IF(①はじめに!C472=TRUE,①はじめに!D469,\"\")&\"\"","v":""},null,null,{"$f":"IF(①はじめに!C472=TRUE,①はじめに!H469,\"\")&\"\"","v":""},null,null,{"$f":"IF(①はじめに!C472=TRUE,①はじめに!F469,\"\")&\"\"","v":""},null,null,null,null,null,null,null,null,null,null,null,null,null,null,null,null,null,null,null,null,null,null,null,null,null,null,null,null,null,0,null,null,0]
[{"$f":"+A510","v":76},{"$f":"IF(①はじめに!D472=TRUE,①はじめに!D467,\"\")","v":""},null,null,null,null,{"$f":"IF(①はじめに!D472=TRUE,\"世話人\",\"\")","v":""},null,null,null,null,null,null,null,{"$f":"IF(①はじめに!D472=TRUE,①はじめに!G467,\"\")","v":""},null,null,{"$f":"IF(①はじめに!D472=TRUE,①はじめに!D469,\"\")&\"\"","v":""},null,null,{"$f":"IF(①はじめに!D472=TRUE,①はじめに!H469,\"\")&\"\"","v":""},null,null,{"$f":"IF(①はじめに!D472=TRUE,①はじめに!F469,\"\")&\"\"","v":""},null,null,null,null,null,null,null,null,null,null,null,null,null,null,null,null,null,null,null,null,null,null,null,null,null,null,null,null,null,0,null,null,0]
[{"$f":"+A510","v":76},{"$f":"IF(①はじめに!E472=TRUE,①はじめに!D467,\"\")","v":""},null,null,null,null,{"$f":"IF(①はじめに!E472=TRUE,\"生活支援員\",\"\")","v":""},null,null,null,null,null,null,null,{"$f":"IF(①はじめに!E472=TRUE,①はじめに!G467,\"\")","v":""},null,null,{"$f":"IF(①はじめに!E472=TRUE,①はじめに!D469,\"\")&\"\"","v":""},null,null,{"$f":"IF(①はじめに!E472=TRUE,①はじめに!H469,\"\")&\"\"","v":""},null,null,{"$f":"IF(①はじめに!E472=TRUE,①はじめに!F469,\"\")&\"\"","v":""},null,null,null,null,null,null,null,null,null,null,null,null,null,null,null,null,null,null,null,null,null,null,null,null,null,null,null,null,null,0,null,null,0,null,null,null,null,null,null,null,null,null,null,null,null,null,null,null,null,null,null,null,null,null,null,"常勤・専従",{"$f":"COUNTIF($J$61:$L$83,CB512)","v":0}]
[{"$f":"+A510","v":76},{"$f":"IF(①はじめに!F472=TRUE,①はじめに!D467,\"\")","v":""},null,null,null,null,{"$f":"IF(①はじめに!F472=TRUE,\"夜間支援員\",\"\")","v":""},null,null,null,null,null,null,null,{"$f":"IF(①はじめに!F472=TRUE,①はじめに!G467,\"\")","v":""},null,null,{"$f":"IF(①はじめに!F472=TRUE,①はじめに!D469,\"\")&\"\"","v":""},null,null,{"$f":"IF(①はじめに!F472=TRUE,①はじめに!H469,\"\")&\"\"","v":""},null,null,{"$f":"IF(①はじめに!F472=TRUE,①はじめに!F469,\"\")&\"\"","v":""},null,null,null,null,null,null,null,null,null,null,null,null,null,null,null,null,null,null,null,null,null,null,null,null,null,null,null,null,null,0,null,null,0,null,null,null,null,null,null,null,null,null,null,null,null,null,null,null,null,null,null,null,null,null,null,"常勤・兼務",{"$f":"COUNTIF($J$61:$L$83,CB513)","v":0}]
[{"$f":"+A510","v":76},{"$f":"IF(①はじめに!G472=TRUE,①はじめに!D467,\"\")","v":""},null,null,null,null,{"$f":"IF(①はじめに!G472=TRUE,\"日中支援員\",\"\")","v":""},null,null,null,null,null,null,null,{"$f":"IF(①はじめに!G472=TRUE,①はじめに!G467,\"\")","v":""},null,null,{"$f":"IF(①はじめに!G472=TRUE,①はじめに!D469,\"\")&\"\"","v":""},null,null,{"$f":"IF(①はじめに!G472=TRUE,①はじめに!H469,\"\")&\"\"","v":""},null,null,{"$f":"IF(①はじめに!G472=TRUE,①はじめに!F469,\"\")&\"\"","v":""},null,null,null,null,null,null,null,null,null,null,null,null,null,null,null,null,null,null,null,null,null,null,null,null,null,null,null,null,null,0,null,null,0,null,null,null,null,null,null,null,null,null,null,null,null,null,null,null,null,null,null,null,null,null,null,"非常勤・専従",{"$f":"COUNTIF($J$61:$L$83,CB514)","v":0}]
[{"$f":"+A510","v":76},{"$f":"IF(①はじめに!H472=TRUE,①はじめに!D467,\"\")","v":""},null,null,null,null,{"$f":"IF(①はじめに!H472=TRUE,\"加配要員\",\"\")","v":""},null,null,null,null,null,null,null,{"$f":"IF(①はじめに!H472=TRUE,①はじめに!G467,\"\")","v":""},null,null,{"$f":"IF(①はじめに!H472=TRUE,①はじめに!D469,\"\")&\"\"","v":""},null,null,{"$f":"IF(①はじめに!H472=TRUE,①はじめに!H469,\"\")&\"\"","v":""},null,null,{"$f":"IF(①はじめに!H472=TRUE,①はじめに!F469,\"\")&\"\"","v":""},null,null,null,null,null,null,null,null,null,null,null,null,null,null,null,null,null,null,null,null,null,null,null,null,null,null,null,null,null,0,null,null,0]
[{"$f":"+A510+1","v":77},{"$f":"IF(①はじめに!C478=TRUE,①はじめに!D473,\"\")","v":""},null,null,null,null,{"$f":"IF(①はじめに!C478=TRUE,\"サービス管理責任者\",\"\")","v":""},null,null,null,null,null,null,null,{"$f":"IF(①はじめに!C478=TRUE,①はじめに!G473,\"\")","v":""},null,null,{"$f":"IF(①はじめに!C478=TRUE,①はじめに!D475,\"\")&\"\"","v":""},null,null,{"$f":"IF(①はじめに!C478=TRUE,①はじめに!H475,\"\")&\"\"","v":""},null,null,{"$f":"IF(①はじめに!C478=TRUE,①はじめに!F475,\"\")&\"\"","v":""},null,null,null,null,null,null,null,null,null,null,null,null,null,null,null,null,null,null,null,null,null,null,null,null,null,null,null,null,null,0,null,null,0]
[{"$f":"+A516","v":77},{"$f":"IF(①はじめに!D478=TRUE,①はじめに!D473,\"\")","v":""},null,null,null,null,{"$f":"IF(①はじめに!D478=TRUE,\"世話人\",\"\")","v":""},null,null,null,null,null,null,null,{"$f":"IF(①はじめに!D478=TRUE,①はじめに!G473,\"\")","v":""},null,null,{"$f":"IF(①はじめに!D478=TRUE,①はじめに!D475,\"\")&\"\"","v":""},null,null,{"$f":"IF(①はじめに!D478=TRUE,①はじめに!H475,\"\")&\"\"","v":""},null,null,{"$f":"IF(①はじめに!D478=TRUE,①はじめに!F475,\"\")&\"\"","v":""},null,null,null,null,null,null,null,null,null,null,null,null,null,null,null,null,null,null,null,null,null,null,null,null,null,null,null,null,null,0,null,null,0]
[{"$f":"+A516","v":77},{"$f":"IF(①はじめに!E478=TRUE,①はじめに!D473,\"\")","v":""},null,null,null,null,{"$f":"IF(①はじめに!E478=TRUE,\"生活支援員\",\"\")","v":""},null,null,null,null,null,null,null,{"$f":"IF(①はじめに!E478=TRUE,①はじめに!G473,\"\")","v":""},null,null,{"$f":"IF(①はじめに!E478=TRUE,①はじめに!D475,\"\")&\"\"","v":""},null,null,{"$f":"IF(①はじめに!E478=TRUE,①はじめに!H475,\"\")&\"\"","v":""},null,null,{"$f":"IF(①はじめに!E478=TRUE,①はじめに!F475,\"\")&\"\"","v":""},null,null,null,null,null,null,null,null,null,null,null,null,null,null,null,null,null,null,null,null,null,null,null,null,null,null,null,null,null,0,null,null,0,null,null,null,null,null,null,null,null,null,null,null,null,null,null,null,null,null,null,null,null,null,null,"常勤・専従",{"$f":"COUNTIF($J$61:$L$83,CB518)","v":0}]
[{"$f":"+A516","v":77},{"$f":"IF(①はじめに!F478=TRUE,①はじめに!D473,\"\")","v":""},null,null,null,null,{"$f":"IF(①はじめに!F478=TRUE,\"夜間支援員\",\"\")","v":""},null,null,null,null,null,null,null,{"$f":"IF(①はじめに!F478=TRUE,①はじめに!G473,\"\")","v":""},null,null,{"$f":"IF(①はじめに!F478=TRUE,①はじめに!D475,\"\")&\"\"","v":""},null,null,{"$f":"IF(①はじめに!F478=TRUE,①はじめに!H475,\"\")&\"\"","v":""},null,null,{"$f":"IF(①はじめに!F478=TRUE,①はじめに!F475,\"\")&\"\"","v":""},null,null,null,null,null,null,null,null,null,null,null,null,null,null,null,null,null,null,null,null,null,null,null,null,null,null,null,null,null,0,null,null,0,null,null,null,null,null,null,null,null,null,null,null,null,null,null,null,null,null,null,null,null,null,null,"常勤・兼務",{"$f":"COUNTIF($J$61:$L$83,CB519)","v":0}]
[{"$f":"+A516","v":77},{"$f":"IF(①はじめに!G478=TRUE,①はじめに!D473,\"\")","v":""},null,null,null,null,{"$f":"IF(①はじめに!G478=TRUE,\"日中支援員\",\"\")","v":""},null,null,null,null,null,null,null,{"$f":"IF(①はじめに!G478=TRUE,①はじめに!G473,\"\")","v":""},null,null,{"$f":"IF(①はじめに!G478=TRUE,①はじめに!D475,\"\")&\"\"","v":""},null,null,{"$f":"IF(①はじめに!G478=TRUE,①はじめに!H475,\"\")&\"\"","v":""},null,null,{"$f":"IF(①はじめに!G478=TRUE,①はじめに!F475,\"\")&\"\"","v":""},null,null,null,null,null,null,null,null,null,null,null,null,null,null,null,null,null,null,null,null,null,null,null,null,null,null,null,null,null,0,null,null,0]
[{"$f":"+A516","v":77},{"$f":"IF(①はじめに!H478=TRUE,①はじめに!D473,\"\")","v":""},null,null,null,null,{"$f":"IF(①はじめに!H478=TRUE,\"加配要員\",\"\")","v":""},null,null,null,null,null,null,null,{"$f":"IF(①はじめに!H478=TRUE,①はじめに!G473,\"\")","v":""},null,null,{"$f":"IF(①はじめに!H478=TRUE,①はじめに!D475,\"\")&\"\"","v":""},null,null,{"$f":"IF(①はじめに!H478=TRUE,①はじめに!H475,\"\")&\"\"","v":""},null,null,{"$f":"IF(①はじめに!H478=TRUE,①はじめに!F475,\"\")&\"\"","v":""},null,null,null,null,null,null,null,null,null,null,null,null,null,null,null,null,null,null,null,null,null,null,null,null,null,null,null,null,null,0,null,null,0]
[{"$f":"+A516+1","v":78},{"$f":"IF(①はじめに!C484=TRUE,①はじめに!D479,\"\")","v":""},null,null,null,null,{"$f":"IF(①はじめに!C484=TRUE,\"サービス管理責任者\",\"\")","v":""},null,null,null,null,null,null,null,{"$f":"IF(①はじめに!C484=TRUE,①はじめに!G479,\"\")","v":""},null,null,{"$f":"IF(①はじめに!C484=TRUE,①はじめに!D481,\"\")&\"\"","v":""},null,null,{"$f":"IF(①はじめに!C484=TRUE,①はじめに!H481,\"\")&\"\"","v":""},null,null,{"$f":"IF(①はじめに!C484=TRUE,①はじめに!F481,\"\")&\"\"","v":""},null,null,null,null,null,null,null,null,null,null,null,null,null,null,null,null,null,null,null,null,null,null,null,null,null,null,null,null,null,0,null,null,0,null,null,null,null,null,null,null,null,null,null,null,null,null,null,null,null,null,null,null,null,null,null,"常勤・専従",{"$f":"COUNTIF($J$61:$L$83,CB522)","v":0}]
[{"$f":"+A522","v":78},{"$f":"IF(①はじめに!D484=TRUE,①はじめに!D479,\"\")","v":""},null,null,null,null,{"$f":"IF(①はじめに!D484=TRUE,\"世話人\",\"\")","v":""},null,null,null,null,null,null,null,{"$f":"IF(①はじめに!D484=TRUE,①はじめに!G479,\"\")","v":""},null,null,{"$f":"IF(①はじめに!D484=TRUE,①はじめに!D481,\"\")&\"\"","v":""},null,null,{"$f":"IF(①はじめに!D484=TRUE,①はじめに!H481,\"\")&\"\"","v":""},null,null,{"$f":"IF(①はじめに!D484=TRUE,①はじめに!F481,\"\")&\"\"","v":""},null,null,null,null,null,null,null,null,null,null,null,null,null,null,null,null,null,null,null,null,null,null,null,null,null,null,null,null,null,0,null,null,0,null,null,null,null,null,null,null,null,null,null,null,null,null,null,null,null,null,null,null,null,null,null,"常勤・兼務",{"$f":"COUNTIF($J$61:$L$83,CB523)","v":0}]
[{"$f":"+A522","v":78},{"$f":"IF(①はじめに!E484=TRUE,①はじめに!D479,\"\")","v":""},null,null,null,null,{"$f":"IF(①はじめに!E484=TRUE,\"生活支援員\",\"\")","v":""},null,null,null,null,null,null,null,{"$f":"IF(①はじめに!E484=TRUE,①はじめに!G479,\"\")","v":""},null,null,{"$f":"IF(①はじめに!E484=TRUE,①はじめに!D481,\"\")&\"\"","v":""},null,null,{"$f":"IF(①はじめに!E484=TRUE,①はじめに!H481,\"\")&\"\"","v":""},null,null,{"$f":"IF(①はじめに!E484=TRUE,①はじめに!F481,\"\")&\"\"","v":""},null,null,null,null,null,null,null,null,null,null,null,null,null,null,null,null,null,null,null,null,null,null,null,null,null,null,null,null,null,0,null,null,0,null,null,null,null,null,null,null,null,null,null,null,null,null,null,null,null,null,null,null,null,null,null,"非常勤・専従",{"$f":"COUNTIF($J$61:$L$83,CB524)","v":0}]
[{"$f":"+A522","v":78},{"$f":"IF(①はじめに!F484=TRUE,①はじめに!D479,\"\")","v":""},null,null,null,null,{"$f":"IF(①はじめに!F484=TRUE,\"夜間支援員\",\"\")","v":""},null,null,null,null,null,null,null,{"$f":"IF(①はじめに!F484=TRUE,①はじめに!G479,\"\")","v":""},null,null,{"$f":"IF(①はじめに!F484=TRUE,①はじめに!D481,\"\")&\"\"","v":""},null,null,{"$f":"IF(①はじめに!F484=TRUE,①はじめに!H481,\"\")&\"\"","v":""},null,null,{"$f":"IF(①はじめに!F484=TRUE,①はじめに!F481,\"\")&\"\"","v":""},null,null,null,null,null,null,null,null,null,null,null,null,null,null,null,null,null,null,null,null,null,null,null,null,null,null,null,null,null,0,null,null,0]
[{"$f":"+A522","v":78},{"$f":"IF(①はじめに!G484=TRUE,①はじめに!D479,\"\")","v":""},null,null,null,null,{"$f":"IF(①はじめに!G484=TRUE,\"日中支援員\",\"\")","v":""},null,null,null,null,null,null,null,{"$f":"IF(①はじめに!G484=TRUE,①はじめに!G479,\"\")","v":""},null,null,{"$f":"IF(①はじめに!G484=TRUE,①はじめに!D481,\"\")&\"\"","v":""},null,null,{"$f":"IF(①はじめに!G484=TRUE,①はじめに!H481,\"\")&\"\"","v":""},null,null,{"$f":"IF(①はじめに!G484=TRUE,①はじめに!F481,\"\")&\"\"","v":""},null,null,null,null,null,null,null,null,null,null,null,null,null,null,null,null,null,null,null,null,null,null,null,null,null,null,null,null,null,0,null,null,0]
[{"$f":"+A522","v":78},{"$f":"IF(①はじめに!H484=TRUE,①はじめに!D479,\"\")","v":""},null,null,null,null,{"$f":"IF(①はじめに!H484=TRUE,\"加配要員\",\"\")","v":""},null,null,null,null,null,null,null,{"$f":"IF(①はじめに!H484=TRUE,①はじめに!G479,\"\")","v":""},null,null,{"$f":"IF(①はじめに!H484=TRUE,①はじめに!D481,\"\")&\"\"","v":""},null,null,{"$f":"IF(①はじめに!H484=TRUE,①はじめに!H481,\"\")&\"\"","v":""},null,null,{"$f":"IF(①はじめに!H484=TRUE,①はじめに!F481,\"\")&\"\"","v":""},null,null,null,null,null,null,null,null,null,null,null,null,null,null,null,null,null,null,null,null,null,null,null,null,null,null,null,null,null,0,null,null,0]
[{"$f":"+A522+1","v":79},{"$f":"IF(①はじめに!C490=TRUE,①はじめに!D485,\"\")","v":""},null,null,null,null,{"$f":"IF(①はじめに!C490=TRUE,\"サービス管理責任者\",\"\")","v":""},null,null,null,null,null,null,null,{"$f":"IF(①はじめに!C490=TRUE,①はじめに!G485,\"\")","v":""},null,null,{"$f":"IF(①はじめに!C490=TRUE,①はじめに!D487,\"\")&\"\"","v":""},null,null,{"$f":"IF(①はじめに!C490=TRUE,①はじめに!H487,\"\")&\"\"","v":""},null,null,{"$f":"IF(①はじめに!C490=TRUE,①はじめに!F487,\"\")&\"\"","v":""},null,null,null,null,null,null,null,null,null,null,null,null,null,null,null,null,null,null,null,null,null,null,null,null,null,null,null,null,null,0,null,null,0]
[{"$f":"+A528","v":79},{"$f":"IF(①はじめに!D490=TRUE,①はじめに!D485,\"\")","v":""},null,null,null,null,{"$f":"IF(①はじめに!D490=TRUE,\"世話人\",\"\")","v":""},null,null,null,null,null,null,null,{"$f":"IF(①はじめに!D490=TRUE,①はじめに!G485,\"\")","v":""},null,null,{"$f":"IF(①はじめに!D490=TRUE,①はじめに!D487,\"\")&\"\"","v":""},null,null,{"$f":"IF(①はじめに!D490=TRUE,①はじめに!H487,\"\")&\"\"","v":""},null,null,{"$f":"IF(①はじめに!D490=TRUE,①はじめに!F487,\"\")&\"\"","v":""},null,null,null,null,null,null,null,null,null,null,null,null,null,null,null,null,null,null,null,null,null,null,null,null,null,null,null,null,null,0,null,null,0]
[{"$f":"+A528","v":79},{"$f":"IF(①はじめに!E490=TRUE,①はじめに!D485,\"\")","v":""},null,null,null,null,{"$f":"IF(①はじめに!E490=TRUE,\"生活支援員\",\"\")","v":""},null,null,null,null,null,null,null,{"$f":"IF(①はじめに!E490=TRUE,①はじめに!G485,\"\")","v":""},null,null,{"$f":"IF(①はじめに!E490=TRUE,①はじめに!D487,\"\")&\"\"","v":""},null,null,{"$f":"IF(①はじめに!E490=TRUE,①はじめに!H487,\"\")&\"\"","v":""},null,null,{"$f":"IF(①はじめに!E490=TRUE,①はじめに!F487,\"\")&\"\"","v":""},null,null,null,null,null,null,null,null,null,null,null,null,null,null,null,null,null,null,null,null,null,null,null,null,null,null,null,null,null,0,null,null,0,null,null,null,null,null,null,null,null,null,null,null,null,null,null,null,null,null,null,null,null,null,null,"常勤・専従",{"$f":"COUNTIF($J$61:$L$83,CB530)","v":0}]
[{"$f":"+A528","v":79},{"$f":"IF(①はじめに!F490=TRUE,①はじめに!D485,\"\")","v":""},null,null,null,null,{"$f":"IF(①はじめに!F490=TRUE,\"夜間支援員\",\"\")","v":""},null,null,null,null,null,null,null,{"$f":"IF(①はじめに!F490=TRUE,①はじめに!G485,\"\")","v":""},null,null,{"$f":"IF(①はじめに!F490=TRUE,①はじめに!D487,\"\")&\"\"","v":""},null,null,{"$f":"IF(①はじめに!F490=TRUE,①はじめに!H487,\"\")&\"\"","v":""},null,null,{"$f":"IF(①はじめに!F490=TRUE,①はじめに!F487,\"\")&\"\"","v":""},null,null,null,null,null,null,null,null,null,null,null,null,null,null,null,null,null,null,null,null,null,null,null,null,null,null,null,null,null,0,null,null,0,null,null,null,null,null,null,null,null,null,null,null,null,null,null,null,null,null,null,null,null,null,null,"常勤・兼務",{"$f":"COUNTIF($J$61:$L$83,CB531)","v":0}]
[{"$f":"+A528","v":79},{"$f":"IF(①はじめに!G490=TRUE,①はじめに!D485,\"\")","v":""},null,null,null,null,{"$f":"IF(①はじめに!G490=TRUE,\"日中支援員\",\"\")","v":""},null,null,null,null,null,null,null,{"$f":"IF(①はじめに!G490=TRUE,①はじめに!G485,\"\")","v":""},null,null,{"$f":"IF(①はじめに!G490=TRUE,①はじめに!D487,\"\")&\"\"","v":""},null,null,{"$f":"IF(①はじめに!G490=TRUE,①はじめに!H487,\"\")&\"\"","v":""},null,null,{"$f":"IF(①はじめに!G490=TRUE,①はじめに!F487,\"\")&\"\"","v":""},null,null,null,null,null,null,null,null,null,null,null,null,null,null,null,null,null,null,null,null,null,null,null,null,null,null,null,null,null,0,null,null,0]
[{"$f":"+A528","v":79},{"$f":"IF(①はじめに!H490=TRUE,①はじめに!D485,\"\")","v":""},null,null,null,null,{"$f":"IF(①はじめに!H490=TRUE,\"加配要員\",\"\")","v":""},null,null,null,null,null,null,null,{"$f":"IF(①はじめに!H490=TRUE,①はじめに!G485,\"\")","v":""},null,null,{"$f":"IF(①はじめに!H490=TRUE,①はじめに!D487,\"\")&\"\"","v":""},null,null,{"$f":"IF(①はじめに!H490=TRUE,①はじめに!H487,\"\")&\"\"","v":""},null,null,{"$f":"IF(①はじめに!H490=TRUE,①はじめに!F487,\"\")&\"\"","v":""},null,null,null,null,null,null,null,null,null,null,null,null,null,null,null,null,null,null,null,null,null,null,null,null,null,null,null,null,null,0,null,null,0]
[{"$f":"+A528+1","v":80},{"$f":"IF(①はじめに!C496=TRUE,①はじめに!D491,\"\")","v":""},null,null,null,null,{"$f":"IF(①はじめに!C496=TRUE,\"サービス管理責任者\",\"\")","v":""},null,null,null,null,null,null,null,{"$f":"IF(①はじめに!C496=TRUE,①はじめに!G491,\"\")","v":""},null,null,{"$f":"IF(①はじめに!C496=TRUE,①はじめに!D493,\"\")&\"\"","v":""},null,null,{"$f":"IF(①はじめに!C496=TRUE,①はじめに!H493,\"\")&\"\"","v":""},null,null,{"$f":"IF(①はじめに!C496=TRUE,①はじめに!F493,\"\")&\"\"","v":""},null,null,null,null,null,null,null,null,null,null,null,null,null,null,null,null,null,null,null,null,null,null,null,null,null,null,null,null,null,0,null,null,0]
[{"$f":"+A534","v":80},{"$f":"IF(①はじめに!D496=TRUE,①はじめに!D491,\"\")","v":""},null,null,null,null,{"$f":"IF(①はじめに!D496=TRUE,\"世話人\",\"\")","v":""},null,null,null,null,null,null,null,{"$f":"IF(①はじめに!D496=TRUE,①はじめに!G491,\"\")","v":""},null,null,{"$f":"IF(①はじめに!D496=TRUE,①はじめに!D493,\"\")&\"\"","v":""},null,null,{"$f":"IF(①はじめに!D496=TRUE,①はじめに!H493,\"\")&\"\"","v":""},null,null,{"$f":"IF(①はじめに!D496=TRUE,①はじめに!F493,\"\")&\"\"","v":""},null,null,null,null,null,null,null,null,null,null,null,null,null,null,null,null,null,null,null,null,null,null,null,null,null,null,null,null,null,0,null,null,0]
[{"$f":"+A534","v":80},{"$f":"IF(①はじめに!E496=TRUE,①はじめに!D491,\"\")","v":""},null,null,null,null,{"$f":"IF(①はじめに!E496=TRUE,\"生活支援員\",\"\")","v":""},null,null,null,null,null,null,null,{"$f":"IF(①はじめに!E496=TRUE,①はじめに!G491,\"\")","v":""},null,null,{"$f":"IF(①はじめに!E496=TRUE,①はじめに!D493,\"\")&\"\"","v":""},null,null,{"$f":"IF(①はじめに!E496=TRUE,①はじめに!H493,\"\")&\"\"","v":""},null,null,{"$f":"IF(①はじめに!E496=TRUE,①はじめに!F493,\"\")&\"\"","v":""},null,null,null,null,null,null,null,null,null,null,null,null,null,null,null,null,null,null,null,null,null,null,null,null,null,null,null,null,null,0,null,null,0]
[{"$f":"+A534","v":80},{"$f":"IF(①はじめに!F496=TRUE,①はじめに!D491,\"\")","v":""},null,null,null,null,{"$f":"IF(①はじめに!F496=TRUE,\"夜間支援員\",\"\")","v":""},null,null,null,null,null,null,null,{"$f":"IF(①はじめに!F496=TRUE,①はじめに!G491,\"\")","v":""},null,null,{"$f":"IF(①はじめに!F496=TRUE,①はじめに!D493,\"\")&\"\"","v":""},null,null,{"$f":"IF(①はじめに!F496=TRUE,①はじめに!H493,\"\")&\"\"","v":""},null,null,{"$f":"IF(①はじめに!F496=TRUE,①はじめに!F493,\"\")&\"\"","v":""},null,null,null,null,null,null,null,null,null,null,null,null,null,null,null,null,null,null,null,null,null,null,null,null,null,null,null,null,null,0,null,null,0]
[{"$f":"+A534","v":80},{"$f":"IF(①はじめに!G496=TRUE,①はじめに!D491,\"\")","v":""},null,null,null,null,{"$f":"IF(①はじめに!G496=TRUE,\"日中支援員\",\"\")","v":""},null,null,null,null,null,null,null,{"$f":"IF(①はじめに!G496=TRUE,①はじめに!G491,\"\")","v":""},null,null,{"$f":"IF(①はじめに!G496=TRUE,①はじめに!D493,\"\")&\"\"","v":""},null,null,{"$f":"IF(①はじめに!G496=TRUE,①はじめに!H493,\"\")&\"\"","v":""},null,null,{"$f":"IF(①はじめに!G496=TRUE,①はじめに!F493,\"\")&\"\"","v":""},null,null,null,null,null,null,null,null,null,null,null,null,null,null,null,null,null,null,null,null,null,null,null,null,null,null,null,null,null,0,null,null,0]
[{"$f":"+A534","v":80},{"$f":"IF(①はじめに!H496=TRUE,①はじめに!D491,\"\")","v":""},null,null,null,null,{"$f":"IF(①はじめに!H496=TRUE,\"加配要員\",\"\")","v":""},null,null,null,null,null,null,null,{"$f":"IF(①はじめに!H496=TRUE,①はじめに!G491,\"\")","v":""},null,null,{"$f":"IF(①はじめに!H496=TRUE,①はじめに!D493,\"\")&\"\"","v":""},null,null,{"$f":"IF(①はじめに!H496=TRUE,①はじめに!H493,\"\")&\"\"","v":""},null,null,{"$f":"IF(①はじめに!H496=TRUE,①はじめに!F493,\"\")&\"\"","v":""},null,null,null,null,null,null,null,null,null,null,null,null,null,null,null,null,null,null,null,null,null,null,null,null,null,null,null,null,null,0,null,null,0]
[]
[]
[]
[]
[null,null,null,null,null,null,null,null,null,null,null,null,null,null,null,null,null,null,null,null,null,null,null,null,null,null,null,null,null,null,null,null,null,null,null,null,null,null,null,null,null,null,null,null,null,"従業者の職種・員数",null,null,null,null,null,null,null,null,null,"世話人",null,null,null,"生活支援員",null,null,null,"加配要員"]
[null,null,null,null,null,null,null,null,null,null,null,null,null,null,null,null,null,null,null,null,null,null,null,null,null,null,null,null,null,null,null,null,null,null,null,null,null,null,null,null,null,null,null,null,null,null,null,null,null,null,null,null,null,null,null,"専従",null,"兼務",null,"専従",null,"兼務",null,"専従",null,"兼務"]
[null,null,null,null,null,null,null,null,null,null,null,null,null,null,null,null,null,null,null,null,null,null,null,null,null,null,null,null,null,null,null,null,null,null,null,null,null,null,null,null,null,null,null,null,null,null,"従業者数",null,null,"常勤（人）",null,null,null,null,null,{"$f":"+COUNTIFS($G$47:$G$539,BD544,$O$47:$O$539,\"常勤・専従\")","v":0},null,{"$f":"+COUNTIFS($G$47:$G$539,BD544,$O$47:$O$539,\"常勤・兼務\")","v":0},null,{"$f":"+COUNTIFS($G$47:$G$539,BH544,$O$47:$O$539,\"常勤・専従\")","v":0},null,{"$f":"+COUNTIFS($G$47:$G$539,BH544,$O$47:$O$539,\"常勤・兼務\")","v":0},null,{"$f":"+COUNTIFS($G$47:$G$539,BL544,$O$47:$O$539,\"常勤・専従\")","v":0},null,{"$f":"+COUNTIFS($G$47:$G$539,BL544,$O$47:$O$539,\"常勤・兼務\")","v":0}]
[null,null,null,null,null,null,null,null,null,null,null,null,null,null,null,null,null,null,null,null,null,null,null,null,null,null,null,null,null,null,null,null,null,null,null,null,null,null,null,null,null,null,null,null,null,null,null,null,null,"非常勤（人）",null,null,null,null,null,{"$f":"+COUNTIFS($G$47:$G$539,BD544,$O$47:$O$539,\"非常勤・専従\")","v":0},null,{"$f":"+COUNTIFS($G$47:$G$539,BD544,$O$47:$O$539,\"非常勤・兼務\")","v":0},null,{"$f":"+COUNTIFS($G$47:$G$539,BH544,$O$47:$O$539,\"非常勤・専従\")","v":0},null,{"$f":"+COUNTIFS($G$47:$G$539,BH544,$O$47:$O$539,\"非常勤・兼務\")","v":0},null,{"$f":"+COUNTIFS($G$47:$G$539,BL544,$O$47:$O$539,\"非常勤・専従\")","v":0},null,{"$f":"+COUNTIFS($G$47:$G$539,BL544,$O$47:$O$539,\"非常勤・兼務\")","v":0}]
[null,null,null,null,null,null,null,null,null,null,null,null,null,null,null,null,null,null,null,null,null,null,null,null,null,null,null,null,null,null,null,null,null,null,null,null,null,null,null,null,null,null,null,null,null,null,"延べ勤務時間数",null,null,null,null,null,null,null,null,{"$f":"SUMIFS($BB47:$BB539,$G47:$G539,\"世話人\")","v":0},null,null,null,{"$f":"SUMIFS($BB47:$BB539,$G47:$G539,\"生活支援員\")","v":0},null,null,null,{"$f":"SUMIFS($BB47:$BB539,$G47:$G539,\"加配要員\")","v":0}]
[null,null,null,null,null,null,null,null,null,null,null,null,null,null,null,null,null,null,null,null,null,null,null,null,null,null,null,null,null,null,null,null,null,null,null,null,null,null,null,null,null,null,null,null,null,null,"常勤換算数",null,null,null,null,null,null,null,null,{"$f":"ROUNDDOWN(+BD548/($BL$43*4),1)","v":{"$error":"#DIV/0!"}},null,null,null,{"$f":"ROUNDDOWN(+BH548/($BL$43*4),1)","v":{"$error":"#DIV/0!"}},null,null,null,{"$f":"ROUNDDOWN(+BL548/160,1)","v":0}]

{"sheet":"③集計用","index":3,"n_rows":39,"n_cols":19,"rows_kept":39,"cut":false,"hidden":false,"merged":[[11,0,11,5],[11,8,11,14],[1,0,1,14],[9,0,9,5],[9,8,9,14],[10,0,10,5],[10,8,10,14],[14,0,14,2],[14,3,14,7],[14,8,14,9],[14,11,14,12],[15,0,15,2],[15,3,15,7],[15,8,15,9],[15,11,15,12],[16,0,16,2],[16,3,16,7],[16,8,16,9],[16,11,16,12],[17,0,17,2],[17,3,17,7],[17,8,17,9],[17,11,17,12]]}
[null,null,null,null,null,null,null,null,null,null,null,null,null,null,"（体制付表５－１９）"]
["共同生活援助事業所における前年度平均利用者数等の算定資料\n（兼夜間支援対象者数の根拠資料）"]
[]
["0.作成要領"]
["・このシートは1住居に1シート作成してください。緑色のセルは選択、ピンク色のセルは入力が必要なセルです。"]
["・全て入力が終わったら、「集計用シート」を確認し、当該数値を「体制付表5-25」へ転記してください。"]
["・複数の住居がある場合、シートのコピーは行わず、予め用意したシートに入力してください。（数式が壊れ、うまく集計ができなくなります）"]
[]
["　1.はじめに"]
["この住居は指定（住居追加）時点から６か月未満ですか？",null,null,null,null,null,null,null,{"$f":"IF(G10=\"はい\",\"区分毎の平均利用者数は推定値で入力してください。\",\"\")","v":""}]
[{"$f":"IF(G10=\"\",\"\",VLOOKUP(G10,P11:R12,3,0)&\"\")","v":""},null,null,null,null,null,null,null,{"$f":"IF(G11=\"\",\"\",VLOOKUP(G11,P11:S12,4,0)&\"\")","v":""},null,null,null,null,null,null,"はい",null,null,"直近6か月の利用状況を「3.利用状況」に入力してください。"]
[{"$f":"IF(G11=\"\",\"\",VLOOKUP(G11,P11:Q12,2,0)&\"\")","v":""},null,null,null,null,null,null,null,"直近1年の利用状況を下表に入力してください",null,null,null,null,null,null,"いいえ","この住居は指定（住居追加）時点から1年以上経過していますか？","この住居は指定（住居追加）時点から6か月以上1年未満ですか？","直近1年又は前年度の利用状況を下表に入力してください"]
[]
["　2.事業所情報"]
["事業所名",null,null,{"$f":"+[1]①はじめに!C4","v":0},null,null,null,null,"平均利用者数合計\n（自動計算）",null,{"$f":"SUM('④○○ホーム:○○ホーム (32)'!L15)","v":0},"夜間支援対象者数\n（自動計算）",null,{"$f":"SUM('④○○ホーム:○○ホーム (32)'!O15)","v":0}]
[null,null,null,null,null,null,null,null,"区分6",null,{"$f":"SUM('④○○ホーム:○○ホーム (32)'!L16)","v":0},"区分5",null,{"$f":"SUM('④○○ホーム:○○ホーム (32)'!O16)","v":0}]
[null,null,null,null,null,null,null,null,"区分4",null,{"$f":"SUM('④○○ホーム:○○ホーム (32)'!L17)","v":0},"区分3",null,{"$f":"SUM('④○○ホーム:○○ホーム (32)'!O17)","v":0}]
[null,null,null,null,null,null,null,null,"区分2",null,{"$f":"SUM('④○○ホーム:○○ホーム (32)'!L18)","v":0},"区分1以下",null,{"$f":"SUM('④○○ホーム:○○ホーム (32)'!O18)","v":0}]
[null,null,null,null,null,null,null,null,null,null,"."]
[]
["　3.利用状況",null,null,null,null,null,null,"令和",null,"年度"]
["月","区分","4月","5月","6月","7月","8月","9月","10月","11月","12月","1月","2月","3月","合計"]
["利用者①（氏名を記入）","1以下",29,30,29,30,25,29,30,29,27,29,28,30,{"$f":"SUM(C23:N23)","v":345}]
["利用者②（氏名を記入）",5,20,20,20,20,20,20,20,20,20,20,20,20,{"$f":"SUM(C24:N24)","v":240}]
["利用者③（氏名を記入）","1以下",22,22,20,10,null,null,null,null,null,null,null,null,74]
["利用者④（氏名を記入）",6,null,null,23,22,25,20,22,22,20,21,22,23,220]
["利用者⑤（氏名を記入）",null,null,null,null,null,null,null,null,null,null,null,null,null,0,6]
["利用者⑥（氏名を記入）",null,null,null,null,null,null,null,null,null,null,null,null,null,0,5]
["利用者⑦（氏名を記入）",null,null,null,null,null,null,null,null,null,null,null,null,null,0,4]
["利用者⑧（氏名を記入）",null,null,null,null,null,null,null,null,null,null,null,null,null,0,3]
["利用者⑨（氏名を記入）",null,null,null,null,null,null,null,null,null,null,null,null,null,0,2]
["利用者⑩（氏名を記入）",null,null,null,null,null,null,null,null,null,null,null,null,null,0,"1以下"]
["月の延べ利用者数\n（自動計算）",null,{"$f":"SUM(C23:C32)","v":71},{"$f":"SUM(D23:D32)","v":72},92,82,70,69,72,71,67,70,70,73,{"$f":"SUM(C33:N33)","v":879}]
["月の開所日数\n(直接入力)",null,30,31,30,31,31,30,31,30,31,31,28,31,{"$f":"SUM(C34:N34)","v":365},{"$f":"+O33/O34","v":2.408219178082192}]
[]
[]
["※新規指定又は住居追加から6月以上１年未満の間は、直近の6月における全利用者の延べ数を6月間の開所日数で除して得た数以上とする。"]
["　例）令和5年4月に住居追加した場合、9月末を以て、6月間の実績が出ることから、10月から新たな対象者数での算定が可能となる。"]
["※新規指定又は住居追加から1年以上経過している場合は、直近1年間における全利用者の延べ数を1年間の開所日数で除して得た数以上とする。"]

{"sheet":"④記載例","index":4,"n_rows":40,"n_cols":20,"rows_kept":40,"cut":false,"hidden":false,"merged":[[11,0,11,6],[11,9,11,15],[1,0,1,15],[9,0,9,6],[9,9,9,15],[10,0,10,6],[10,9,10,15],[14,0,14,3],[14,4,14,8],[14,9,14,10],[14,12,14,13],[15,0,15,3],[15,4,15,8],[15,9,15,10],[15,12,15,13],[16,0,16,3],[16,4,16,8],[16,9,16,10],[16,12,16,13],[17,0,17,3],[17,4,17,8],[17,9,17,10],[17,12,17,13]]}
[null,null,null,null,null,null,null,null,null,null,null,null,null,null,null,"（体制付表５－１９）"]
["共同生活援助事業所における前年度平均利用者数等の算定資料\n（兼夜間支援対象者数の根拠資料）"]
[]
["0.作成要領"]
["・このシートは1住居に1シート作成してください。緑色のセルは選択、ピンク色のセルは入力が必要なセルです。"]
["・全て入力が終わったら、「集計用シート」を確認し、当該数値を「体制付表5-25」へ転記してください。"]
["・複数の住居がある場合、シートのコピーは行わず、予め用意したシートに入力してください。（数式が壊れ、うまく集計ができなくなります）"]
[]
["　1.はじめに"]
["この住居は指定（住居追加）時点から６か月未満ですか？",null,null,null,null,null,null,null,null,{"$f":"IF(H10=\"はい\",\"区分毎の平均利用者数は推定値で入力してください。\",\"\")","v":""}]
[{"$f":"IF(H10=\"\",\"\",VLOOKUP(H10,Q11:S12,3,0)&\"\")","v":""},null,null,null,null,null,null,null,null,{"$f":"IF(H11=\"\",\"\",VLOOKUP(H11,Q11:T12,4,0)&\"\")","v":""},null,null,null,null,null,null,"はい",null,null,"直近6か月の利用状況を「3.利用状況」に入力してください。"]
[{"$f":"IF(H11=\"\",\"\",VLOOKUP(H11,Q11:R12,2,0)&\"\")","v":""},null,null,null,null,null,null,null,null,"直近1年の利用状況を下表に入力してください",null,null,null,null,null,null,"いいえ","この住居は指定（住居追加）時点から1年以上経過していますか？","この住居は指定（住居追加）時点から6か月以上1年未満ですか？","直近1年又は前年度の利用状況を下表に入力してください"]
[]
["　2.事業所情報"]
["事業所名",null,null,null,"船橋グループホーム",null,null,null,null,"平均利用者数合計\n（自動計算）",null,{"$f":"IF(H10=\"はい\",E17*0.9,+ROUNDUP(Q35,1))","v":2.6},"夜間支援対象者数\n（自動計算）",null,{"$f":"IF(H10=\"はい\",E17*0.9,ROUND(Q37,0))","v":3}]
["住居名",null,null,null,"湊町ホーム",null,null,null,null,"区分6",null,{"$f":"ROUNDUP(SUMIFS($P:$P,$C:$C,6)/P35,1)","v":0.7},"区分5",null,{"$f":"ROUNDUP(SUMIFS($P:$P,$C:$C,5)/P35,1)","v":0.7}]
["住居定員",null,null,null,5,null,null,null,null,"区分4",null,{"$f":"ROUNDUP(SUMIFS($P:$P,$C:$C,4)/P35,1)","v":0.2},"区分3",null,{"$f":"ROUNDUP(SUMIFS($P:$P,$C:$C,3)/P35,1)","v":0.1}]
["住居追加日",null,null,null,"2023-10-01",null,null,null,null,"区分2",null,{"$f":"ROUNDUP(SUMIFS($P:$P,$C:$C,2)/P35,1)","v":0},"区分1以下",null,{"$f":"ROUNDUP(SUMIFS($P:$P,$C:$C,\"1以下\")/P35,1)","v":1.2000000000000002}]
[null,null,null,null,null,null,null,null,null,null,null,"."]
[]
["　3.利用状況",null,null,null,null,null,null,null,"令和",5,"年度"]
["月","サービス","区分","4月","5月","6月","7月","8月","9月","10月","11月","12月","1月","2月","3月","合計"]
["利用者①（氏名を記入）","GH","1以下",29,30,29,30,25,29,30,29,27,29,28,30,{"$f":"SUM(D23:O23)","v":345}]
["利用者②（氏名を記入）","GH",5,20,20,20,20,20,20,20,20,20,20,20,20,{"$f":"SUM(D24:O24)","v":240}]
["利用者③（氏名を記入）","GH","1以下",22,22,20,10,null,null,null,null,null,null,null,null,{"$f":"SUM(D25:O25)","v":74}]
["利用者④（氏名を記入）","GH",6,null,null,23,22,25,20,22,22,20,21,22,23,{"$f":"SUM(D26:O26)","v":220}]
["利用者⑤（氏名を記入）","短期入所",3,3,null,2,null,5,null,2,null,null,null,5,null,{"$f":"SUM(D27:O27)","v":17},6]
["利用者⑥（氏名を記入）","短期入所",4,5,null,20,null,10,null,2,null,6,null,5,null,{"$f":"SUM(D28:O28)","v":48},5]
["利用者⑦（氏名を記入）",null,null,null,null,null,null,null,null,null,null,null,null,null,null,0,4]
["利用者⑧（氏名を記入）",null,null,null,null,null,null,null,null,null,null,null,null,null,null,0,3]
["利用者⑨（氏名を記入）",null,null,null,null,null,null,null,null,null,null,null,null,null,null,0,2]
["利用者⑩（氏名を記入）",null,null,null,null,null,null,null,null,null,null,null,null,null,null,0,"1以下"]
["月の延べ利用者数\n（自動計算）",null,null,{"$f":"SUM(D23:D32)","v":79},{"$f":"SUM(E23:E32)","v":72},114,82,85,69,76,71,73,70,80,73,{"$f":"SUM(D33:O33)","v":944}]
["月の延べ利用者数（GH）\n（自動計算）",null,null,{"$f":"SUMIFS(D23:D32,$B$23:$B$32,\"GH\")","v":71},{"$f":"SUMIFS(E23:E32,$B$23:$B$32,\"GH\")","v":72},92,82,70,69,72,71,67,70,70,73,{"$f":"SUM(D34:O34)","v":879}]
["月の開所日数\n(直接入力)",null,null,30,31,30,31,31,30,31,30,31,31,28,31,{"$f":"SUM(D35:O35)","v":365},{"$f":"+P33/P35","v":2.5863013698630137}]
[null,null,null,null,null,null,null,null,null,null,null,null,null,null,null,null,{"$f":"+P34/P35","v":2.408219178082192}]
[null,null,null,null,null,null,null,null,null,null,null,null,null,null,null,null,{"$f":"+ROUNDUP(Q36,1)","v":2.5}]
["※新規指定又は住居追加から6月以上１年未満の間は、直近の6月における全利用者の延べ数を6月間の開所日数で除して得た数以上とする。"]
["　例）令和5年4月に住居追加した場合、9月末を以て、6月間の実績が出ることから、10月から新たな対象者数での算定が可能となる。"]
["※新規指定又は住居追加から1年以上経過している場合は、直近1年間における全利用者の延べ数を1年間の開所日数で除して得た数以上とする。"]

{"sheet":"④○○ホーム","index":5,"n_rows":40,"n_cols":20,"rows_kept":40,"cut":false,"hidden":false,"merged":[[11,0,11,6],[11,9,11,15],[1,0,1,15],[9,0,9,6],[9,9,9,15],[10,0,10,6],[10,9,10,15],[14,0,14,3],[14,4,14,8],[14,9,14,10],[14,12,14,13],[15,0,15,3],[15,4,15,8],[15,9,15,10],[15,12,15,13],[16,0,16,3],[16,4,16,8],[16,9,16,10],[16,12,16,13],[17,0,17,3],[17,4,17,8],[17,9,17,10],[17,12,17,13]]}
[null,null,null,null,null,null,null,null,null,null,null,null,null,null,null,"（体制付表５－１９）"]
["共同生活援助事業所における前年度平均利用者数等の算定資料\n（兼夜間支援対象者数の根拠資料）"]
[]
["0.作成要領"]
["・このシートは1住居に1シート作成してください。緑色のセルは選択、ピンク色のセルは入力が必要なセルです。"]
["・全て入力が終わったら、「集計用シート」を確認し、当該数値を「体制付表5-25」へ転記してください。"]
["・複数の住居がある場合、シートのコピーは行わず、予め用意したシートに入力してください。（数式が壊れ、うまく集計ができなくなります）"]
[]
["　1.はじめに"]
["この住居は指定（住居追加）時点から６か月未満ですか？",null,null,null,null,null,null,null,null,{"$f":"IF(H10=\"はい\",\"区分毎の平均利用者数は推定値で入力してください。\",\"\")","v":""}]
[{"$f":"IF(H10=\"\",\"\",VLOOKUP(H10,Q11:S12,3,0)&\"\")","v":""},null,null,null,null,null,null,null,null,{"$f":"IF(H11=\"\",\"\",VLOOKUP(H11,Q11:T12,4,0)&\"\")","v":""},null,null,null,null,null,null,"はい",null,null,"直近6か月の利用状況を「3.利用状況」に入力してください。"]
[{"$f":"IF(H11=\"\",\"\",VLOOKUP(H11,Q11:R12,2,0)&\"\")","v":""},null,null,null,null,null,null,null,null,"直近1年の利用状況を下表に入力してください",null,null,null,null,null,null,"いいえ","この住居は指定（住居追加）時点から1年以上経過していますか？","この住居は指定（住居追加）時点から6か月以上1年未満ですか？","直近1年又は前年度の利用状況を下表に入力してください"]
[]
["　2.事業所情報"]
["事業所名",null,null,null,null,null,null,null,null,"平均利用者数合計\n（自動計算）",null,{"$f":"IF(H10=\"はい\",E17*0.9,+ROUNDUP(Q35,1))","v":0},"夜間支援対象者数\n（自動計算）",null,{"$f":"IF(H10=\"はい\",E17*0.9,ROUND(Q37,0))","v":0}]
["住居名",null,null,null,null,null,null,null,null,"区分6",null,{"$f":"ROUNDUP(SUMIFS($P:$P,$C:$C,6)/P35,1)","v":0},"区分5",null,{"$f":"ROUNDUP(SUMIFS($P:$P,$C:$C,5)/P35,1)","v":0}]
["住居定員",null,null,null,null,null,null,null,null,"区分4",null,{"$f":"ROUNDUP(SUMIFS($P:$P,$C:$C,4)/P35,1)","v":0},"区分3",null,{"$f":"ROUNDUP(SUMIFS($P:$P,$C:$C,3)/P35,1)","v":0}]
["住居追加日",null,null,null,null,null,null,null,null,"区分2",null,{"$f":"ROUNDUP(SUMIFS($P:$P,$C:$C,2)/P35,1)","v":0},"区分1以下",null,{"$f":"ROUNDUP(SUMIFS($P:$P,$C:$C,\"1以下\")/P35,1)","v":0}]
[null,null,null,null,null,null,null,null,null,null,null,"."]
[]
["　3.利用状況",null,null,null,null,null,null,null,"令和",null,"年度"]
["月","サービス","区分","4月","5月","6月","7月","8月","9月","10月","11月","12月","1月","2月","3月","合計"]
["利用者①（氏名を記入）",null,null,null,null,null,null,null,null,null,null,null,null,null,null,{"$f":"SUM(D23:O23)","v":0}]
["利用者②（氏名を記入）",null,null,null,null,null,null,null,null,null,null,null,null,null,null,{"$f":"SUM(D24:O24)","v":0}]
["利用者③（氏名を記入）",null,null,null,null,null,null,null,null,null,null,null,null,null,null,0]
["利用者④（氏名を記入）",null,null,null,null,null,null,null,null,null,null,null,null,null,null,0]
["利用者⑤（氏名を記入）",null,null,null,null,null,null,null,null,null,null,null,null,null,null,0,6]
["利用者⑥（氏名を記入）",null,null,null,null,null,null,null,null,null,null,null,null,null,null,0,5]
["利用者⑦（氏名を記入）",null,null,null,null,null,null,null,null,null,null,null,null,null,null,0,4]
["利用者⑧（氏名を記入）",null,null,null,null,null,null,null,null,null,null,null,null,null,null,0,3]
["利用者⑨（氏名を記入）",null,null,null,null,null,null,null,null,null,null,null,null,null,null,0,2]
["利用者⑩（氏名を記入）",null,null,null,null,null,null,null,null,null,null,null,null,null,null,0,"1以下"]
["月の延べ利用者数\n（自動計算）",null,null,{"$f":"SUM(D23:D32)","v":0},{"$f":"SUM(E23:E32)","v":0},0,0,0,0,0,0,0,0,0,0,{"$f":"SUM(D33:O33)","v":0}]
["月の延べ利用者数（GH）\n（自動計算）",null,null,{"$f":"SUMIFS(D23:D32,$B$23:$B$32,\"GH\")","v":0},{"$f":"SUMIFS(E23:E32,$B$23:$B$32,\"GH\")","v":0},0,0,0,0,0,0,0,0,0,0,{"$f":"SUM(D34:O34)","v":0}]
["月の開所日数\n(直接入力)",null,null,30,31,30,31,31,30,31,30,31,31,28,31,{"$f":"SUM(D35:O35)","v":365},{"$f":"+P33/P35","v":0}]
[null,null,null,null,null,null,null,null,null,null,null,null,null,null,null,null,{"$f":"+P34/P35","v":0}]
[null,null,null,null,null,null,null,null,null,null,null,null,null,null,null,null,{"$f":"+ROUNDUP(Q36,1)","v":0}]
["※新規指定又は住居追加から6月以上１年未満の間は、直近の6月における全利用者の延べ数を6月間の開所日数で除して得た数以上とする。"]
["　例）令和5年4月に住居追加した場合、9月末を以て、6月間の実績が出ることから、10月から新たな対象者数での算定が可能となる。"]
["※新規指定又は住居追加から1年以上経過している場合は、直近1年間における全利用者の延べ数を1年間の開所日数で除して得た数以上とする。"]

{"sheet":"○○ホーム (2)","index":6,"n_rows":40,"n_cols":20,"rows_kept":40,"cut":false,"hidden":false,"merged":[[11,0,11,6],[11,9,11,15],[1,0,1,15],[9,0,9,6],[9,9,9,15],[10,0,10,6],[10,9,10,15],[14,0,14,3],[14,4,14,8],[14,9,14,10],[14,12,14,13],[15,0,15,3],[15,4,15,8],[15,9,15,10],[15,12,15,13],[16,0,16,3],[16,4,16,8],[16,9,16,10],[16,12,16,13],[17,0,17,3],[17,4,17,8],[17,9,17,10],[17,12,17,13]]}
[null,null,null,null,null,null,null,null,null,null,null,null,null,null,null,"（体制付表５－１９）"]
["共同生活援助事業所における前年度平均利用者数等の算定資料\n（兼夜間支援対象者数の根拠資料）"]
[]
["0.作成要領"]
["・このシートは1住居に1シート作成してください。緑色のセルは選択、ピンク色のセルは入力が必要なセルです。"]
["・全て入力が終わったら、「集計用シート」を確認し、当該数値を「体制付表5-25」へ転記してください。"]
["・複数の住居がある場合、シートのコピーは行わず、予め用意したシートに入力してください。（数式が壊れ、うまく集計ができなくなります）"]
[]
["　1.はじめに"]
["この住居は指定（住居追加）時点から６か月未満ですか？",null,null,null,null,null,null,null,null,{"$f":"IF(H10=\"はい\",\"区分毎の平均利用者数は推定値で入力してください。\",\"\")","v":""}]
[{"$f":"IF(H10=\"\",\"\",VLOOKUP(H10,Q11:S12,3,0)&\"\")","v":""},null,null,null,null,null,null,null,null,{"$f":"IF(H11=\"\",\"\",VLOOKUP(H11,Q11:T12,4,0)&\"\")","v":""},null,null,null,null,null,null,"はい",null,null,"直近6か月の利用状況を「3.利用状況」に入力してください。"]
[{"$f":"IF(H11=\"\",\"\",VLOOKUP(H11,Q11:R12,2,0)&\"\")","v":""},null,null,null,null,null,null,null,null,"直近1年の利用状況を下表に入力してください",null,null,null,null,null,null,"いいえ","この住居は指定（住居追加）時点から1年以上経過していますか？","この住居は指定（住居追加）時点から6か月以上1年未満ですか？","直近1年又は前年度の利用状況を下表に入力してください"]
[]
["　2.事業所情報"]
["事業所名",null,null,null,null,null,null,null,null,"平均利用者数合計\n（自動計算）",null,{"$f":"IF(H10=\"はい\",E17*0.9,+ROUNDUP(Q35,1))","v":0},"夜間支援対象者数\n（自動計算）",null,{"$f":"IF(H10=\"はい\",E17*0.9,ROUND(Q37,0))","v":0}]
["住居名",null,null,null,null,null,null,null,null,"区分6",null,{"$f":"ROUNDUP(SUMIFS($P:$P,$C:$C,6)/P35,1)","v":0},"区分5",null,{"$f":"ROUNDUP(SUMIFS($P:$P,$C:$C,5)/P35,1)","v":0}]
["住居定員",null,null,null,null,null,null,null,null,"区分4",null,{"$f":"ROUNDUP(SUMIFS($P:$P,$C:$C,4)/P35,1)","v":0},"区分3",null,{"$f":"ROUNDUP(SUMIFS($P:$P,$C:$C,3)/P35,1)","v":0}]
["住居追加日",null,null,null,null,null,null,null,null,"区分2",null,{"$f":"ROUNDUP(SUMIFS($P:$P,$C:$C,2)/P35,1)","v":0},"区分1以下",null,{"$f":"ROUNDUP(SUMIFS($P:$P,$C:$C,\"1以下\")/P35,1)","v":0}]
[null,null,null,null,null,null,null,null,null,null,null,"."]
[]
["　3.利用状況",null,null,null,null,null,null,null,"令和",null,"年度"]
["月","サービス","区分","4月","5月","6月","7月","8月","9月","10月","11月","12月","1月","2月","3月","合計"]
["利用者①（氏名を記入）",null,null,null,null,null,null,null,null,null,null,null,null,null,null,{"$f":"SUM(D23:O23)","v":0}]
["利用者②（氏名を記入）",null,null,null,null,null,null,null,null,null,null,null,null,null,null,{"$f":"SUM(D24:O24)","v":0}]
["利用者③（氏名を記入）",null,null,null,null,null,null,null,null,null,null,null,null,null,null,0]
["利用者④（氏名を記入）",null,null,null,null,null,null,null,null,null,null,null,null,null,null,0]
["利用者⑤（氏名を記入）",null,null,null,null,null,null,null,null,null,null,null,null,null,null,0,6]
["利用者⑥（氏名を記入）",null,null,null,null,null,null,null,null,null,null,null,null,null,null,0,5]
["利用者⑦（氏名を記入）",null,null,null,null,null,null,null,null,null,null,null,null,null,null,0,4]
["利用者⑧（氏名を記入）",null,null,null,null,null,null,null,null,null,null,null,null,null,null,0,3]
["利用者⑨（氏名を記入）",null,null,null,null,null,null,null,null,null,null,null,null,null,null,0,2]
["利用者⑩（氏名を記入）",null,null,null,null,null,null,null,null,null,null,null,null,null,null,0,"1以下"]
["月の延べ利用者数\n（自動計算）",null,null,{"$f":"SUM(D23:D32)","v":0},{"$f":"SUM(E23:E32)","v":0},0,0,0,0,0,0,0,0,0,0,{"$f":"SUM(D33:O33)","v":0}]
["月の延べ利用者数（GH）\n（自動計算）",null,null,{"$f":"SUMIFS(D23:D32,$B$23:$B$32,\"GH\")","v":0},{"$f":"SUMIFS(E23:E32,$B$23:$B$32,\"GH\")","v":0},0,0,0,0,0,0,0,0,0,0,{"$f":"SUM(D34:O34)","v":0}]
["月の開所日数\n(直接入力)",null,null,30,31,30,31,31,30,31,30,31,31,28,31,{"$f":"SUM(D35:O35)","v":365},{"$f":"+P33/P35","v":0}]
[null,null,null,null,null,null,null,null,null,null,null,null,null,null,null,null,{"$f":"+P34/P35","v":0}]
[null,null,null,null,null,null,null,null,null,null,null,null,null,null,null,null,{"$f":"+ROUNDUP(Q36,1)","v":0}]
["※新規指定又は住居追加から6月以上１年未満の間は、直近の6月における全利用者の延べ数を6月間の開所日数で除して得た数以上とする。"]
["　例）令和5年4月に住居追加した場合、9月末を以て、6月間の実績が出ることから、10月から新たな対象者数での算定が可能となる。"]
["※新規指定又は住居追加から1年以上経過している場合は、直近1年間における全利用者の延べ数を1年間の開所日数で除して得た数以上とする。"]

{"sheet":"○○ホーム (3)","index":7,"n_rows":40,"n_cols":20,"rows_kept":40,"cut":false,"hidden":false,"merged":[[11,0,11,6],[11,9,11,15],[1,0,1,15],[9,0,9,6],[9,9,9,15],[10,0,10,6],[10,9,10,15],[14,0,14,3],[14,4,14,8],[14,9,14,10],[14,12,14,13],[15,0,15,3],[15,4,15,8],[15,9,15,10],[15,12,15,13],[16,0,16,3],[16,4,16,8],[16,9,16,10],[16,12,16,13],[17,0,17,3],[17,4,17,8],[17,9,17,10],[17,12,17,13]]}
[null,null,null,null,null,null,null,null,null,null,null,null,null,null,null,"（体制付表５－１９）"]
["共同生活援助事業所における前年度平均利用者数等の算定資料\n（兼夜間支援対象者数の根拠資料）"]
[]
["0.作成要領"]
["・このシートは1住居に1シート作成してください。緑色のセルは選択、ピンク色のセルは入力が必要なセルです。"]
["・全て入力が終わったら、「集計用シート」を確認し、当該数値を「体制付表5-25」へ転記してください。"]
["・複数の住居がある場合、シートのコピーは行わず、予め用意したシートに入力してください。（数式が壊れ、うまく集計ができなくなります）"]
[]
["　1.はじめに"]
["この住居は指定（住居追加）時点から６か月未満ですか？",null,null,null,null,null,null,null,null,{"$f":"IF(H10=\"はい\",\"区分毎の平均利用者数は推定値で入力してください。\",\"\")","v":""}]
[{"$f":"IF(H10=\"\",\"\",VLOOKUP(H10,Q11:S12,3,0)&\"\")","v":""},null,null,null,null,null,null,null,null,{"$f":"IF(H11=\"\",\"\",VLOOKUP(H11,Q11:T12,4,0)&\"\")","v":""},null,null,null,null,null,null,"はい",null,null,"直近6か月の利用状況を「3.利用状況」に入力してください。"]
[{"$f":"IF(H11=\"\",\"\",VLOOKUP(H11,Q11:R12,2,0)&\"\")","v":""},null,null,null,null,null,null,null,null,"直近1年の利用状況を下表に入力してください",null,null,null,null,null,null,"いいえ","この住居は指定（住居追加）時点から1年以上経過していますか？","この住居は指定（住居追加）時点から6か月以上1年未満ですか？","直近1年又は前年度の利用状況を下表に入力してください"]
[]
["　2.事業所情報"]
["事業所名",null,null,null,null,null,null,null,null,"平均利用者数合計\n（自動計算）",null,{"$f":"IF(H10=\"はい\",E17*0.9,+ROUNDUP(Q35,1))","v":0},"夜間支援対象者数\n（自動計算）",null,{"$f":"IF(H10=\"はい\",E17*0.9,ROUND(Q37,0))","v":0}]
["住居名",null,null,null,null,null,null,null,null,"区分6",null,{"$f":"ROUNDUP(SUMIFS($P:$P,$C:$C,6)/P35,1)","v":0},"区分5",null,{"$f":"ROUNDUP(SUMIFS($P:$P,$C:$C,5)/P35,1)","v":0}]
["住居定員",null,null,null,null,null,null,null,null,"区分4",null,{"$f":"ROUNDUP(SUMIFS($P:$P,$C:$C,4)/P35,1)","v":0},"区分3",null,{"$f":"ROUNDUP(SUMIFS($P:$P,$C:$C,3)/P35,1)","v":0}]
["住居追加日",null,null,null,null,null,null,null,null,"区分2",null,{"$f":"ROUNDUP(SUMIFS($P:$P,$C:$C,2)/P35,1)","v":0},"区分1以下",null,{"$f":"ROUNDUP(SUMIFS($P:$P,$C:$C,\"1以下\")/P35,1)","v":0}]
[null,null,null,null,null,null,null,null,null,null,null,"."]
[]
["　3.利用状況",null,null,null,null,null,null,null,"令和",null,"年度"]
["月","サービス","区分","4月","5月","6月","7月","8月","9月","10月","11月","12月","1月","2月","3月","合計"]
["利用者①（氏名を記入）",null,null,null,null,null,null,null,null,null,null,null,null,null,null,{"$f":"SUM(D23:O23)","v":0}]
["利用者②（氏名を記入）",null,null,null,null,null,null,null,null,null,null,null,null,null,null,{"$f":"SUM(D24:O24)","v":0}]
["利用者③（氏名を記入）",null,null,null,null,null,null,null,null,null,null,null,null,null,null,0]
["利用者④（氏名を記入）",null,null,null,null,null,null,null,null,null,null,null,null,null,null,0]
["利用者⑤（氏名を記入）",null,null,null,null,null,null,null,null,null,null,null,null,null,null,0,6]
["利用者⑥（氏名を記入）",null,null,null,null,null,null,null,null,null,null,null,null,null,null,0,5]
["利用者⑦（氏名を記入）",null,null,null,null,null,null,null,null,null,null,null,null,null,null,0,4]
["利用者⑧（氏名を記入）",null,null,null,null,null,null,null,null,null,null,null,null,null,null,0,3]
["利用者⑨（氏名を記入）",null,null,null,null,null,null,null,null,null,null,null,null,null,null,0,2]
["利用者⑩（氏名を記入）",null,null,null,null,null,null,null,null,null,null,null,null,null,null,0,"1以下"]
["月の延べ利用者数\n（自動計算）",null,null,{"$f":"SUM(D23:D32)","v":0},{"$f":"SUM(E23:E32)","v":0},0,0,0,0,0,0,0,0,0,0,{"$f":"SUM(D33:O33)","v":0}]
["月の延べ利用者数（GH）\n（自動計算）",null,null,{"$f":"SUMIFS(D23:D32,$B$23:$B$32,\"GH\")","v":0},{"$f":"SUMIFS(E23:E32,$B$23:$B$32,\"GH\")","v":0},0,0,0,0,0,0,0,0,0,0,{"$f":"SUM(D34:O34)","v":0}]
["月の開所日数\n(直接入力)",null,null,30,31,30,31,31,30,31,30,31,31,28,31,{"$f":"SUM(D35:O35)","v":365},{"$f":"+P33/P35","v":0}]
[null,null,null,null,null,null,null,null,null,null,null,null,null,null,null,null,{"$f":"+P34/P35","v":0}]
[null,null,null,null,null,null,null,null,null,null,null,null,null,null,null,null,{"$f":"+ROUNDUP(Q36,1)","v":0}]
["※新規指定又は住居追加から6月以上１年未満の間は、直近の6月における全利用者の延べ数を6月間の開所日数で除して得た数以上とする。"]
["　例）令和5年4月に住居追加した場合、9月末を以て、6月間の実績が出ることから、10月から新たな対象者数での算定が可能となる。"]
["※新規指定又は住居追加から1年以上経過している場合は、直近1年間における全利用者の延べ数を1年間の開所日数で除して得た数以上とする。"]

{"sheet":"○○ホーム (4)","index":8,"n_rows":40,"n_cols":20,"rows_kept":40,"cut":false,"hidden":false,"merged":[[11,0,11,6],[11,9,11,15],[1,0,1,15],[9,0,9,6],[9,9,9,15],[10,0,10,6],[10,9,10,15],[14,0,14,3],[14,4,14,8],[14,9,14,10],[14,12,14,13],[15,0,15,3],[15,4,15,8],[15,9,15,10],[15,12,15,13],[16,0,16,3],[16,4,16,8],[16,9,16,10],[16,12,16,13],[17,0,17,3],[17,4,17,8],[17,9,17,10],[17,12,17,13]]}
[null,null,null,null,null,null,null,null,null,null,null,null,null,null,null,"（体制付表５－１９）"]
["共同生活援助事業所における前年度平均利用者数等の算定資料\n（兼夜間支援対象者数の根拠資料）"]
[]
["0.作成要領"]
["・このシートは1住居に1シート作成してください。緑色のセルは選択、ピンク色のセルは入力が必要なセルです。"]
["・全て入力が終わったら、「集計用シート」を確認し、当該数値を「体制付表5-25」へ転記してください。"]
["・複数の住居がある場合、シートのコピーは行わず、予め用意したシートに入力してください。（数式が壊れ、うまく集計ができなくなります）"]
[]
["　1.はじめに"]
["この住居は指定（住居追加）時点から６か月未満ですか？",null,null,null,null,null,null,null,null,{"$f":"IF(H10=\"はい\",\"区分毎の平均利用者数は推定値で入力してください。\",\"\")","v":""}]
[{"$f":"IF(H10=\"\",\"\",VLOOKUP(H10,Q11:S12,3,0)&\"\")","v":""},null,null,null,null,null,null,null,null,{"$f":"IF(H11=\"\",\"\",VLOOKUP(H11,Q11:T12,4,0)&\"\")","v":""},null,null,null,null,null,null,"はい",null,null,"直近6か月の利用状況を「3.利用状況」に入力してください。"]
[{"$f":"IF(H11=\"\",\"\",VLOOKUP(H11,Q11:R12,2,0)&\"\")","v":""},null,null,null,null,null,null,null,null,"直近1年の利用状況を下表に入力してください",null,null,null,null,null,null,"いいえ","この住居は指定（住居追加）時点から1年以上経過していますか？","この住居は指定（住居追加）時点から6か月以上1年未満ですか？","直近1年又は前年度の利用状況を下表に入力してください"]
[]
["　2.事業所情報"]
["事業所名",null,null,null,null,null,null,null,null,"平均利用者数合計\n（自動計算）",null,{"$f":"IF(H10=\"はい\",E17*0.9,+ROUNDUP(Q35,1))","v":0},"夜間支援対象者数\n（自動計算）",null,{"$f":"IF(H10=\"はい\",E17*0.9,ROUND(Q37,0))","v":0}]
["住居名",null,null,null,null,null,null,null,null,"区分6",null,{"$f":"ROUNDUP(SUMIFS($P:$P,$C:$C,6)/P35,1)","v":0},"区分5",null,{"$f":"ROUNDUP(SUMIFS($P:$P,$C:$C,5)/P35,1)","v":0}]
["住居定員",null,null,null,null,null,null,null,null,"区分4",null,{"$f":"ROUNDUP(SUMIFS($P:$P,$C:$C,4)/P35,1)","v":0},"区分3",null,{"$f":"ROUNDUP(SUMIFS($P:$P,$C:$C,3)/P35,1)","v":0}]
["住居追加日",null,null,null,null,null,null,null,null,"区分2",null,{"$f":"ROUNDUP(SUMIFS($P:$P,$C:$C,2)/P35,1)","v":0},"区分1以下",null,{"$f":"ROUNDUP(SUMIFS($P:$P,$C:$C,\"1以下\")/P35,1)","v":0}]
[null,null,null,null,null,null,null,null,null,null,null,"."]
[]
["　3.利用状況",null,null,null,null,null,null,null,"令和",null,"年度"]
["月","サービス","区分","4月","5月","6月","7月","8月","9月","10月","11月","12月","1月","2月","3月","合計"]
["利用者①（氏名を記入）",null,null,null,null,null,null,null,null,null,null,null,null,null,null,{"$f":"SUM(D23:O23)","v":0}]
["利用者②（氏名を記入）",null,null,null,null,null,null,null,null,null,null,null,null,null,null,{"$f":"SUM(D24:O24)","v":0}]
["利用者③（氏名を記入）",null,null,null,null,null,null,null,null,null,null,null,null,null,null,0]
["利用者④（氏名を記入）",null,null,null,null,null,null,null,null,null,null,null,null,null,null,0]
["利用者⑤（氏名を記入）",null,null,null,null,null,null,null,null,null,null,null,null,null,null,0,6]
["利用者⑥（氏名を記入）",null,null,null,null,null,null,null,null,null,null,null,null,null,null,0,5]
["利用者⑦（氏名を記入）",null,null,null,null,null,null,null,null,null,null,null,null,null,null,0,4]
["利用者⑧（氏名を記入）",null,null,null,null,null,null,null,null,null,null,null,null,null,null,0,3]
["利用者⑨（氏名を記入）",null,null,null,null,null,null,null,null,null,null,null,null,null,null,0,2]
["利用者⑩（氏名を記入）",null,null,null,null,null,null,null,null,null,null,null,null,null,null,0,"1以下"]
["月の延べ利用者数\n（自動計算）",null,null,{"$f":"SUM(D23:D32)","v":0},{"$f":"SUM(E23:E32)","v":0},0,0,0,0,0,0,0,0,0,0,{"$f":"SUM(D33:O33)","v":0}]
["月の延べ利用者数（GH）\n（自動計算）",null,null,{"$f":"SUMIFS(D23:D32,$B$23:$B$32,\"GH\")","v":0},{"$f":"SUMIFS(E23:E32,$B$23:$B$32,\"GH\")","v":0},0,0,0,0,0,0,0,0,0,0,{"$f":"SUM(D34:O34)","v":0}]
["月の開所日数\n(直接入力)",null,null,30,31,30,31,31,30,31,30,31,31,28,31,{"$f":"SUM(D35:O35)","v":365},{"$f":"+P33/P35","v":0}]
[null,null,null,null,null,null,null,null,null,null,null,null,null,null,null,null,{"$f":"+P34/P35","v":0}]
[null,null,null,null,null,null,null,null,null,null,null,null,null,null,null,null,{"$f":"+ROUNDUP(Q36,1)","v":0}]
["※新規指定又は住居追加から6月以上１年未満の間は、直近の6月における全利用者の延べ数を6月間の開所日数で除して得た数以上とする。"]
["　例）令和5年4月に住居追加した場合、9月末を以て、6月間の実績が出ることから、10月から新たな対象者数での算定が可能となる。"]
["※新規指定又は住居追加から1年以上経過している場合は、直近1年間における全利用者の延べ数を1年間の開所日数で除して得た数以上とする。"]

{"sheet":"○○ホーム (5)","index":9,"n_rows":40,"n_cols":20,"rows_kept":40,"cut":false,"hidden":false,"merged":[[11,0,11,6],[11,9,11,15],[1,0,1,15],[9,0,9,6],[9,9,9,15],[10,0,10,6],[10,9,10,15],[14,0,14,3],[14,4,14,8],[14,9,14,10],[14,12,14,13],[15,0,15,3],[15,4,15,8],[15,9,15,10],[15,12,15,13],[16,0,16,3],[16,4,16,8],[16,9,16,10],[16,12,16,13],[17,0,17,3],[17,4,17,8],[17,9,17,10],[17,12,17,13]]}
[null,null,null,null,null,null,null,null,null,null,null,null,null,null,null,"（体制付表５－１９）"]
["共同生活援助事業所における前年度平均利用者数等の算定資料\n（兼夜間支援対象者数の根拠資料）"]
[]
["0.作成要領"]
["・このシートは1住居に1シート作成してください。緑色のセルは選択、ピンク色のセルは入力が必要なセルです。"]
["・全て入力が終わったら、「集計用シート」を確認し、当該数値を「体制付表5-25」へ転記してください。"]
["・複数の住居がある場合、シートのコピーは行わず、予め用意したシートに入力してください。（数式が壊れ、うまく集計ができなくなります）"]
[]
["　1.はじめに"]
["この住居は指定（住居追加）時点から６か月未満ですか？",null,null,null,null,null,null,null,null,{"$f":"IF(H10=\"はい\",\"区分毎の平均利用者数は推定値で入力してください。\",\"\")","v":""}]
[{"$f":"IF(H10=\"\",\"\",VLOOKUP(H10,Q11:S12,3,0)&\"\")","v":""},null,null,null,null,null,null,null,null,{"$f":"IF(H11=\"\",\"\",VLOOKUP(H11,Q11:T12,4,0)&\"\")","v":""},null,null,null,null,null,null,"はい",null,null,"直近6か月の利用状況を「3.利用状況」に入力してください。"]
[{"$f":"IF(H11=\"\",\"\",VLOOKUP(H11,Q11:R12,2,0)&\"\")","v":""},null,null,null,null,null,null,null,null,"直近1年の利用状況を下表に入力してください",null,null,null,null,null,null,"いいえ","この住居は指定（住居追加）時点から1年以上経過していますか？","この住居は指定（住居追加）時点から6か月以上1年未満ですか？","直近1年又は前年度の利用状況を下表に入力してください"]
[]
["　2.事業所情報"]
["事業所名",null,null,null,null,null,null,null,null,"平均利用者数合計\n（自動計算）",null,{"$f":"IF(H10=\"はい\",E17*0.9,+ROUNDUP(Q35,1))","v":0},"夜間支援対象者数\n（自動計算）",null,{"$f":"IF(H10=\"はい\",E17*0.9,ROUND(Q37,0))","v":0}]
["住居名",null,null,null,null,null,null,null,null,"区分6",null,{"$f":"ROUNDUP(SUMIFS($P:$P,$C:$C,6)/P35,1)","v":0},"区分5",null,{"$f":"ROUNDUP(SUMIFS($P:$P,$C:$C,5)/P35,1)","v":0}]
["住居定員",null,null,null,null,null,null,null,null,"区分4",null,{"$f":"ROUNDUP(SUMIFS($P:$P,$C:$C,4)/P35,1)","v":0},"区分3",null,{"$f":"ROUNDUP(SUMIFS($P:$P,$C:$C,3)/P35,1)","v":0}]
["住居追加日",null,null,null,null,null,null,null,null,"区分2",null,{"$f":"ROUNDUP(SUMIFS($P:$P,$C:$C,2)/P35,1)","v":0},"区分1以下",null,{"$f":"ROUNDUP(SUMIFS($P:$P,$C:$C,\"1以下\")/P35,1)","v":0}]
[null,null,null,null,null,null,null,null,null,null,null,"."]
[]
["　3.利用状況",null,null,null,null,null,null,null,"令和",null,"年度"]
["月","サービス","区分","4月","5月","6月","7月","8月","9月","10月","11月","12月","1月","2月","3月","合計"]
["利用者①（氏名を記入）",null,null,null,null,null,null,null,null,null,null,null,null,null,null,{"$f":"SUM(D23:O23)","v":0}]
["利用者②（氏名を記入）",null,null,null,null,null,null,null,null,null,null,null,null,null,null,{"$f":"SUM(D24:O24)","v":0}]
["利用者③（氏名を記入）",null,null,null,null,null,null,null,null,null,null,null,null,null,null,0]
["利用者④（氏名を記入）",null,null,null,null,null,null,null,null,null,null,null,null,null,null,0]
["利用者⑤（氏名を記入）",null,null,null,null,null,null,null,null,null,null,null,null,null,null,0,6]
["利用者⑥（氏名を記入）",null,null,null,null,null,null,null,null,null,null,null,null,null,null,0,5]
["利用者⑦（氏名を記入）",null,null,null,null,null,null,null,null,null,null,null,null,null,null,0,4]
["利用者⑧（氏名を記入）",null,null,null,null,null,null,null,null,null,null,null,null,null,null,0,3]
["利用者⑨（氏名を記入）",null,null,null,null,null,null,null,null,null,null,null,null,null,null,0,2]
["利用者⑩（氏名を記入）",null,null,null,null,null,null,null,null,null,null,null,null,null,null,0,"1以下"]
["月の延べ利用者数\n（自動計算）",null,null,{"$f":"SUM(D23:D32)","v":0},{"$f":"SUM(E23:E32)","v":0},0,0,0,0,0,0,0,0,0,0,{"$f":"SUM(D33:O33)","v":0}]
["月の延べ利用者数（GH）\n（自動計算）",null,null,{"$f":"SUMIFS(D23:D32,$B$23:$B$32,\"GH\")","v":0},{"$f":"SUMIFS(E23:E32,$B$23:$B$32,\"GH\")","v":0},0,0,0,0,0,0,0,0,0,0,{"$f":"SUM(D34:O34)","v":0}]
["月の開所日数\n(直接入力)",null,null,30,31,30,31,31,30,31,30,31,31,28,31,{"$f":"SUM(D35:O35)","v":365},{"$f":"+P33/P35","v":0}]
[null,null,null,null,null,null,null,null,null,null,null,null,null,null,null,null,{"$f":"+P34/P35","v":0}]
[null,null,null,null,null,null,null,null,null,null,null,null,null,null,null,null,{"$f":"+ROUNDUP(Q36,1)","v":0}]
["※新規指定又は住居追加から6月以上１年未満の間は、直近の6月における全利用者の延べ数を6月間の開所日数で除して得た数以上とする。"]
["　例）令和5年4月に住居追加した場合、9月末を以て、6月間の実績が出ることから、10月から新たな対象者数での算定が可能となる。"]
["※新規指定又は住居追加から1年以上経過している場合は、直近1年間における全利用者の延べ数を1年間の開所日数で除して得た数以上とする。"]

{"sheet":"○○ホーム (6)","index":10,"n_rows":40,"n_cols":20,"rows_kept":40,"cut":false,"hidden":false,"merged":[[11,0,11,6],[11,9,11,15],[1,0,1,15],[9,0,9,6],[9,9,9,15],[10,0,10,6],[10,9,10,15],[14,0,14,3],[14,4,14,8],[14,9,14,10],[14,12,14,13],[15,0,15,3],[15,4,15,8],[15,9,15,10],[15,12,15,13],[16,0,16,3],[16,4,16,8],[16,9,16,10],[16,12,16,13],[17,0,17,3],[17,4,17,8],[17,9,17,10],[17,12,17,13]]}
[null,null,null,null,null,null,null,null,null,null,null,null,null,null,null,"（体制付表５－１９）"]
["共同生活援助事業所における前年度平均利用者数等の算定資料\n（兼夜間支援対象者数の根拠資料）"]
[]
["0.作成要領"]
["・このシートは1住居に1シート作成してください。緑色のセルは選択、ピンク色のセルは入力が必要なセルです。"]
["・全て入力が終わったら、「集計用シート」を確認し、当該数値を「体制付表5-25」へ転記してください。"]
["・複数の住居がある場合、シートのコピーは行わず、予め用意したシートに入力してください。（数式が壊れ、うまく集計ができなくなります）"]
[]
["　1.はじめに"]
["この住居は指定（住居追加）時点から６か月未満ですか？",null,null,null,null,null,null,null,null,{"$f":"IF(H10=\"はい\",\"区分毎の平均利用者数は推定値で入力してください。\",\"\")","v":""}]
[{"$f":"IF(H10=\"\",\"\",VLOOKUP(H10,Q11:S12,3,0)&\"\")","v":""},null,null,null,null,null,null,null,null,{"$f":"IF(H11=\"\",\"\",VLOOKUP(H11,Q11:T12,4,0)&\"\")","v":""},null,null,null,null,null,null,"はい",null,null,"直近6か月の利用状況を「3.利用状況」に入力してください。"]
[{"$f":"IF(H11=\"\",\"\",VLOOKUP(H11,Q11:R12,2,0)&\"\")","v":""},null,null,null,null,null,null,null,null,"直近1年の利用状況を下表に入力してください",null,null,null,null,null,null,"いいえ","この住居は指定（住居追加）時点から1年以上経過していますか？","この住居は指定（住居追加）時点から6か月以上1年未満ですか？","直近1年又は前年度の利用状況を下表に入力してください"]
[]
["　2.事業所情報"]
["事業所名",null,null,null,null,null,null,null,null,"平均利用者数合計\n（自動計算）",null,{"$f":"IF(H10=\"はい\",E17*0.9,+ROUNDUP(Q35,1))","v":0},"夜間支援対象者数\n（自動計算）",null,{"$f":"IF(H10=\"はい\",E17*0.9,ROUND(Q37,0))","v":0}]
["住居名",null,null,null,null,null,null,null,null,"区分6",null,{"$f":"ROUNDUP(SUMIFS($P:$P,$C:$C,6)/P35,1)","v":0},"区分5",null,{"$f":"ROUNDUP(SUMIFS($P:$P,$C:$C,5)/P35,1)","v":0}]
["住居定員",null,null,null,null,null,null,null,null,"区分4",null,{"$f":"ROUNDUP(SUMIFS($P:$P,$C:$C,4)/P35,1)","v":0},"区分3",null,{"$f":"ROUNDUP(SUMIFS($P:$P,$C:$C,3)/P35,1)","v":0}]
["住居追加日",null,null,null,null,null,null,null,null,"区分2",null,{"$f":"ROUNDUP(SUMIFS($P:$P,$C:$C,2)/P35,1)","v":0},"区分1以下",null,{"$f":"ROUNDUP(SUMIFS($P:$P,$C:$C,\"1以下\")/P35,1)","v":0}]
[null,null,null,null,null,null,null,null,null,null,null,"."]
[]
["　3.利用状況",null,null,null,null,null,null,null,"令和",null,"年度"]
["月","サービス","区分","4月","5月","6月","7月","8月","9月","10月","11月","12月","1月","2月","3月","合計"]
["利用者①（氏名を記入）",null,null,null,null,null,null,null,null,null,null,null,null,null,null,{"$f":"SUM(D23:O23)","v":0}]
["利用者②（氏名を記入）",null,null,null,null,null,null,null,null,null,null,null,null,null,null,{"$f":"SUM(D24:O24)","v":0}]
["利用者③（氏名を記入）",null,null,null,null,null,null,null,null,null,null,null,null,null,null,0]
["利用者④（氏名を記入）",null,null,null,null,null,null,null,null,null,null,null,null,null,null,0]
["利用者⑤（氏名を記入）",null,null,null,null,null,null,null,null,null,null,null,null,null,null,0,6]
["利用者⑥（氏名を記入）",null,null,null,null,null,null,null,null,null,null,null,null,null,null,0,5]
["利用者⑦（氏名を記入）",null,null,null,null,null,null,null,null,null,null,null,null,null,null,0,4]
["利用者⑧（氏名を記入）",null,null,null,null,null,null,null,null,null,null,null,null,null,null,0,3]
["利用者⑨（氏名を記入）",null,null,null,null,null,null,null,null,null,null,null,null,null,null,0,2]
["利用者⑩（氏名を記入）",null,null,null,null,null,null,null,null,null,null,null,null,null,null,0,"1以下"]
["月の延べ利用者数\n（自動計算）",null,null,{"$f":"SUM(D23:D32)","v":0},{"$f":"SUM(E23:E32)","v":0},0,0,0,0,0,0,0,0,0,0,{"$f":"SUM(D33:O33)","v":0}]
["月の延べ利用者数（GH）\n（自動計算）",null,null,{"$f":"SUMIFS(D23:D32,$B$23:$B$32,\"GH\")","v":0},{"$f":"SUMIFS(E23:E32,$B$23:$B$32,\"GH\")","v":0},0,0,0,0,0,0,0,0,0,0,{"$f":"SUM(D34:O34)","v":0}]
["月の開所日数\n(直接入力)",null,null,30,31,30,31,31,30,31,30,31,31,28,31,{"$f":"SUM(D35:O35)","v":365},{"$f":"+P33/P35","v":0}]
[null,null,null,null,null,null,null,null,null,null,null,null,null,null,null,null,{"$f":"+P34/P35","v":0}]
[null,null,null,null,null,null,null,null,null,null,null,null,null,null,null,null,{"$f":"+ROUNDUP(Q36,1)","v":0}]
["※新規指定又は住居追加から6月以上１年未満の間は、直近の6月における全利用者の延べ数を6月間の開所日数で除して得た数以上とする。"]
["　例）令和5年4月に住居追加した場合、9月末を以て、6月間の実績が出ることから、10月から新たな対象者数での算定が可能となる。"]
["※新規指定又は住居追加から1年以上経過している場合は、直近1年間における全利用者の延べ数を1年間の開所日数で除して得た数以上とする。"]

{"sheet":"○○ホーム (7)","index":11,"n_rows":40,"n_cols":20,"rows_kept":40,"cut":false,"hidden":false,"merged":[[11,0,11,6],[11,9,11,15],[1,0,1,15],[9,0,9,6],[9,9,9,15],[10,0,10,6],[10,9,10,15],[14,0,14,3],[14,4,14,8],[14,9,14,10],[14,12,14,13],[15,0,15,3],[15,4,15,8],[15,9,15,10],[15,12,15,13],[16,0,16,3],[16,4,16,8],[16,9,16,10],[16,12,16,13],[17,0,17,3],[17,4,17,8],[17,9,17,10],[17,12,17,13]]}
[null,null,null,null,null,null,null,null,null,null,null,null,null,null,null,"（体制付表５－１９）"]
["共同生活援助事業所における前年度平均利用者数等の算定資料\n（兼夜間支援対象者数の根拠資料）"]
[]
["0.作成要領"]
["・このシートは1住居に1シート作成してください。緑色のセルは選択、ピンク色のセルは入力が必要なセルです。"]
["・全て入力が終わったら、「集計用シート」を確認し、当該数値を「体制付表5-25」へ転記してください。"]
["・複数の住居がある場合、シートのコピーは行わず、予め用意したシートに入力してください。（数式が壊れ、うまく集計ができなくなります）"]
[]
["　1.はじめに"]
["この住居は指定（住居追加）時点から６か月未満ですか？",null,null,null,null,null,null,null,null,{"$f":"IF(H10=\"はい\",\"区分毎の平均利用者数は推定値で入力してください。\",\"\")","v":""}]
[{"$f":"IF(H10=\"\",\"\",VLOOKUP(H10,Q11:S12,3,0)&\"\")","v":""},null,null,null,null,null,null,null,null,{"$f":"IF(H11=\"\",\"\",VLOOKUP(H11,Q11:T12,4,0)&\"\")","v":""},null,null,null,null,null,null,"はい",null,null,"直近6か月の利用状況を「3.利用状況」に入力してください。"]
[{"$f":"IF(H11=\"\",\"\",VLOOKUP(H11,Q11:R12,2,0)&\"\")","v":""},null,null,null,null,null,null,null,null,"直近1年の利用状況を下表に入力してください",null,null,null,null,null,null,"いいえ","この住居は指定（住居追加）時点から1年以上経過していますか？","この住居は指定（住居追加）時点から6か月以上1年未満ですか？","直近1年又は前年度の利用状況を下表に入力してください"]
[]
["　2.事業所情報"]
["事業所名",null,null,null,null,null,null,null,null,"平均利用者数合計\n（自動計算）",null,{"$f":"IF(H10=\"はい\",E17*0.9,+ROUNDUP(Q35,1))","v":0},"夜間支援対象者数\n（自動計算）",null,{"$f":"IF(H10=\"はい\",E17*0.9,ROUND(Q37,0))","v":0}]
["住居名",null,null,null,null,null,null,null,null,"区分6",null,{"$f":"ROUNDUP(SUMIFS($P:$P,$C:$C,6)/P35,1)","v":0},"区分5",null,{"$f":"ROUNDUP(SUMIFS($P:$P,$C:$C,5)/P35,1)","v":0}]
["住居定員",null,null,null,null,null,null,null,null,"区分4",null,{"$f":"ROUNDUP(SUMIFS($P:$P,$C:$C,4)/P35,1)","v":0},"区分3",null,{"$f":"ROUNDUP(SUMIFS($P:$P,$C:$C,3)/P35,1)","v":0}]
["住居追加日",null,null,null,null,null,null,null,null,"区分2",null,{"$f":"ROUNDUP(SUMIFS($P:$P,$C:$C,2)/P35,1)","v":0},"区分1以下",null,{"$f":"ROUNDUP(SUMIFS($P:$P,$C:$C,\"1以下\")/P35,1)","v":0}]
[null,null,null,null,null,null,null,null,null,null,null,"."]
[]
["　3.利用状況",null,null,null,null,null,null,null,"令和",null,"年度"]
["月","サービス","区分","4月","5月","6月","7月","8月","9月","10月","11月","12月","1月","2月","3月","合計"]
["利用者①（氏名を記入）",null,null,null,null,null,null,null,null,null,null,null,null,null,null,{"$f":"SUM(D23:O23)","v":0}]
["利用者②（氏名を記入）",null,null,null,null,null,null,null,null,null,null,null,null,null,null,{"$f":"SUM(D24:O24)","v":0}]
["利用者③（氏名を記入）",null,null,null,null,null,null,null,null,null,null,null,null,null,null,0]
["利用者④（氏名を記入）",null,null,null,null,null,null,null,null,null,null,null,null,null,null,0]
["利用者⑤（氏名を記入）",null,null,null,null,null,null,null,null,null,null,null,null,null,null,0,6]
["利用者⑥（氏名を記入）",null,null,null,null,null,null,null,null,null,null,null,null,null,null,0,5]
["利用者⑦（氏名を記入）",null,null,null,null,null,null,null,null,null,null,null,null,null,null,0,4]
["利用者⑧（氏名を記入）",null,null,null,null,null,null,null,null,null,null,null,null,null,null,0,3]
["利用者⑨（氏名を記入）",null,null,null,null,null,null,null,null,null,null,null,null,null,null,0,2]
["利用者⑩（氏名を記入）",null,null,null,null,null,null,null,null,null,null,null,null,null,null,0,"1以下"]
["月の延べ利用者数\n（自動計算）",null,null,{"$f":"SUM(D23:D32)","v":0},{"$f":"SUM(E23:E32)","v":0},0,0,0,0,0,0,0,0,0,0,{"$f":"SUM(D33:O33)","v":0}]
["月の延べ利用者数（GH）\n（自動計算）",null,null,{"$f":"SUMIFS(D23:D32,$B$23:$B$32,\"GH\")","v":0},{"$f":"SUMIFS(E23:E32,$B$23:$B$32,\"GH\")","v":0},0,0,0,0,0,0,0,0,0,0,{"$f":"SUM(D34:O34)","v":0}]
["月の開所日数\n(直接入力)",null,null,30,31,30,31,31,30,31,30,31,31,28,31,{"$f":"SUM(D35:O35)","v":365},{"$f":"+P33/P35","v":0}]
[null,null,null,null,null,null,null,null,null,null,null,null,null,null,null,null,{"$f":"+P34/P35","v":0}]
[null,null,null,null,null,null,null,null,null,null,null,null,null,null,null,null,{"$f":"+ROUNDUP(Q36,1)","v":0}]
["※新規指定又は住居追加から6月以上１年未満の間は、直近の6月における全利用者の延べ数を6月間の開所日数で除して得た数以上とする。"]
["　例）令和5年4月に住居追加した場合、9月末を以て、6月間の実績が出ることから、10月から新たな対象者数での算定が可能となる。"]
["※新規指定又は住居追加から1年以上経過している場合は、直近1年間における全利用者の延べ数を1年間の開所日数で除して得た数以上とする。"]

{"sheet":"○○ホーム (8)","index":12,"n_rows":40,"n_cols":20,"rows_kept":40,"cut":false,"hidden":false,"merged":[[11,0,11,6],[11,9,11,15],[1,0,1,15],[9,0,9,6],[9,9,9,15],[10,0,10,6],[10,9,10,15],[14,0,14,3],[14,4,14,8],[14,9,14,10],[14,12,14,13],[15,0,15,3],[15,4,15,8],[15,9,15,10],[15,12,15,13],[16,0,16,3],[16,4,16,8],[16,9,16,10],[16,12,16,13],[17,0,17,3],[17,4,17,8],[17,9,17,10],[17,12,17,13]]}
[null,null,null,null,null,null,null,null,null,null,null,null,null,null,null,"（体制付表５－１９）"]
["共同生活援助事業所における前年度平均利用者数等の算定資料\n（兼夜間支援対象者数の根拠資料）"]
[]
["0.作成要領"]
["・このシートは1住居に1シート作成してください。緑色のセルは選択、ピンク色のセルは入力が必要なセルです。"]
["・全て入力が終わったら、「集計用シート」を確認し、当該数値を「体制付表5-25」へ転記してください。"]
["・複数の住居がある場合、シートのコピーは行わず、予め用意したシートに入力してください。（数式が壊れ、うまく集計ができなくなります）"]
[]
["　1.はじめに"]
["この住居は指定（住居追加）時点から６か月未満ですか？",null,null,null,null,null,null,null,null,{"$f":"IF(H10=\"はい\",\"区分毎の平均利用者数は推定値で入力してください。\",\"\")","v":""}]
[{"$f":"IF(H10=\"\",\"\",VLOOKUP(H10,Q11:S12,3,0)&\"\")","v":""},null,null,null,null,null,null,null,null,{"$f":"IF(H11=\"\",\"\",VLOOKUP(H11,Q11:T12,4,0)&\"\")","v":""},null,null,null,null,null,null,"はい",null,null,"直近6か月の利用状況を「3.利用状況」に入力してください。"]
[{"$f":"IF(H11=\"\",\"\",VLOOKUP(H11,Q11:R12,2,0)&\"\")","v":""},null,null,null,null,null,null,null,null,"直近1年の利用状況を下表に入力してください",null,null,null,null,null,null,"いいえ","この住居は指定（住居追加）時点から1年以上経過していますか？","この住居は指定（住居追加）時点から6か月以上1年未満ですか？","直近1年又は前年度の利用状況を下表に入力してください"]
[]
["　2.事業所情報"]
["事業所名",null,null,null,null,null,null,null,null,"平均利用者数合計\n（自動計算）",null,{"$f":"IF(H10=\"はい\",E17*0.9,+ROUNDUP(Q35,1))","v":0},"夜間支援対象者数\n（自動計算）",null,{"$f":"IF(H10=\"はい\",E17*0.9,ROUND(Q37,0))","v":0}]
["住居名",null,null,null,null,null,null,null,null,"区分6",null,{"$f":"ROUNDUP(SUMIFS($P:$P,$C:$C,6)/P35,1)","v":0},"区分5",null,{"$f":"ROUNDUP(SUMIFS($P:$P,$C:$C,5)/P35,1)","v":0}]
["住居定員",null,null,null,null,null,null,null,null,"区分4",null,{"$f":"ROUNDUP(SUMIFS($P:$P,$C:$C,4)/P35,1)","v":0},"区分3",null,{"$f":"ROUNDUP(SUMIFS($P:$P,$C:$C,3)/P35,1)","v":0}]
["住居追加日",null,null,null,null,null,null,null,null,"区分2",null,{"$f":"ROUNDUP(SUMIFS($P:$P,$C:$C,2)/P35,1)","v":0},"区分1以下",null,{"$f":"ROUNDUP(SUMIFS($P:$P,$C:$C,\"1以下\")/P35,1)","v":0}]
[null,null,null,null,null,null,null,null,null,null,null,"."]
[]
["　3.利用状況",null,null,null,null,null,null,null,"令和",null,"年度"]
["月","サービス","区分","4月","5月","6月","7月","8月","9月","10月","11月","12月","1月","2月","3月","合計"]
["利用者①（氏名を記入）",null,null,null,null,null,null,null,null,null,null,null,null,null,null,{"$f":"SUM(D23:O23)","v":0}]
["利用者②（氏名を記入）",null,null,null,null,null,null,null,null,null,null,null,null,null,null,{"$f":"SUM(D24:O24)","v":0}]
["利用者③（氏名を記入）",null,null,null,null,null,null,null,null,null,null,null,null,null,null,0]
["利用者④（氏名を記入）",null,null,null,null,null,null,null,null,null,null,null,null,null,null,0]
["利用者⑤（氏名を記入）",null,null,null,null,null,null,null,null,null,null,null,null,null,null,0,6]
["利用者⑥（氏名を記入）",null,null,null,null,null,null,null,null,null,null,null,null,null,null,0,5]
["利用者⑦（氏名を記入）",null,null,null,null,null,null,null,null,null,null,null,null,null,null,0,4]
["利用者⑧（氏名を記入）",null,null,null,null,null,null,null,null,null,null,null,null,null,null,0,3]
["利用者⑨（氏名を記入）",null,null,null,null,null,null,null,null,null,null,null,null,null,null,0,2]
["利用者⑩（氏名を記入）",null,null,null,null,null,null,null,null,null,null,null,null,null,null,0,"1以下"]
["月の延べ利用者数\n（自動計算）",null,null,{"$f":"SUM(D23:D32)","v":0},{"$f":"SUM(E23:E32)","v":0},0,0,0,0,0,0,0,0,0,0,{"$f":"SUM(D33:O33)","v":0}]
["月の延べ利用者数（GH）\n（自動計算）",null,null,{"$f":"SUMIFS(D23:D32,$B$23:$B$32,\"GH\")","v":0},{"$f":"SUMIFS(E23:E32,$B$23:$B$32,\"GH\")","v":0},0,0,0,0,0,0,0,0,0,0,{"$f":"SUM(D34:O34)","v":0}]
["月の開所日数\n(直接入力)",null,null,30,31,30,31,31,30,31,30,31,31,28,31,{"$f":"SUM(D35:O35)","v":365},{"$f":"+P33/P35","v":0}]
[null,null,null,null,null,null,null,null,null,null,null,null,null,null,null,null,{"$f":"+P34/P35","v":0}]
[null,null,null,null,null,null,null,null,null,null,null,null,null,null,null,null,{"$f":"+ROUNDUP(Q36,1)","v":0}]
["※新規指定又は住居追加から6月以上１年未満の間は、直近の6月における全利用者の延べ数を6月間の開所日数で除して得た数以上とする。"]
["　例）令和5年4月に住居追加した場合、9月末を以て、6月間の実績が出ることから、10月から新たな対象者数での算定が可能となる。"]
["※新規指定又は住居追加から1年以上経過している場合は、直近1年間における全利用者の延べ数を1年間の開所日数で除して得た数以上とする。"]

{"sheet":"○○ホーム (9)","index":13,"n_rows":40,"n_cols":20,"rows_kept":40,"cut":false,"hidden":false,"merged":[[11,0,11,6],[11,9,11,15],[1,0,1,15],[9,0,9,6],[9,9,9,15],[10,0,10,6],[10,9,10,15],[14,0,14,3],[14,4,14,8],[14,9,14,10],[14,12,14,13],[15,0,15,3],[15,4,15,8],[15,9,15,10],[15,12,15,13],[16,0,16,3],[16,4,16,8],[16,9,16,10],[16,12,16,13],[17,0,17,3],[17,4,17,8],[17,9,17,10],[17,12,17,13]]}
[null,null,null,null,null,null,null,null,null,null,null,null,null,null,null,"（体制付表５－１９）"]
["共同生活援助事業所における前年度平均利用者数等の算定資料\n（兼夜間支援対象者数の根拠資料）"]
[]
["0.作成要領"]
["・このシートは1住居に1シート作成してください。緑色のセルは選択、ピンク色のセルは入力が必要なセルです。"]
["・全て入力が終わったら、「集計用シート」を確認し、当該数値を「体制付表5-25」へ転記してください。"]
["・複数の住居がある場合、シートのコピーは行わず、予め用意したシートに入力してください。（数式が壊れ、うまく集計ができなくなります）"]
[]
["　1.はじめに"]
["この住居は指定（住居追加）時点から６か月未満ですか？",null,null,null,null,null,null,null,null,{"$f":"IF(H10=\"はい\",\"区分毎の平均利用者数は推定値で入力してください。\",\"\")","v":""}]
[{"$f":"IF(H10=\"\",\"\",VLOOKUP(H10,Q11:S12,3,0)&\"\")","v":""},null,null,null,null,null,null,null,null,{"$f":"IF(H11=\"\",\"\",VLOOKUP(H11,Q11:T12,4,0)&\"\")","v":""},null,null,null,null,null,null,"はい",null,null,"直近6か月の利用状況を「3.利用状況」に入力してください。"]
[{"$f":"IF(H11=\"\",\"\",VLOOKUP(H11,Q11:R12,2,0)&\"\")","v":""},null,null,null,null,null,null,null,null,"直近1年の利用状況を下表に入力してください",null,null,null,null,null,null,"いいえ","この住居は指定（住居追加）時点から1年以上経過していますか？","この住居は指定（住居追加）時点から6か月以上1年未満ですか？","直近1年又は前年度の利用状況を下表に入力してください"]
[]
["　2.事業所情報"]
["事業所名",null,null,null,null,null,null,null,null,"平均利用者数合計\n（自動計算）",null,{"$f":"IF(H10=\"はい\",E17*0.9,+ROUNDUP(Q35,1))","v":0},"夜間支援対象者数\n（自動計算）",null,{"$f":"IF(H10=\"はい\",E17*0.9,ROUND(Q37,0))","v":0}]
["住居名",null,null,null,null,null,null,null,null,"区分6",null,{"$f":"ROUNDUP(SUMIFS($P:$P,$C:$C,6)/P35,1)","v":0},"区分5",null,{"$f":"ROUNDUP(SUMIFS($P:$P,$C:$C,5)/P35,1)","v":0}]
["住居定員",null,null,null,null,null,null,null,null,"区分4",null,{"$f":"ROUNDUP(SUMIFS($P:$P,$C:$C,4)/P35,1)","v":0},"区分3",null,{"$f":"ROUNDUP(SUMIFS($P:$P,$C:$C,3)/P35,1)","v":0}]
["住居追加日",null,null,null,null,null,null,null,null,"区分2",null,{"$f":"ROUNDUP(SUMIFS($P:$P,$C:$C,2)/P35,1)","v":0},"区分1以下",null,{"$f":"ROUNDUP(SUMIFS($P:$P,$C:$C,\"1以下\")/P35,1)","v":0}]
[null,null,null,null,null,null,null,null,null,null,null,"."]
[]
["　3.利用状況",null,null,null,null,null,null,null,"令和",null,"年度"]
["月","サービス","区分","4月","5月","6月","7月","8月","9月","10月","11月","12月","1月","2月","3月","合計"]
["利用者①（氏名を記入）",null,null,null,null,null,null,null,null,null,null,null,null,null,null,{"$f":"SUM(D23:O23)","v":0}]
["利用者②（氏名を記入）",null,null,null,null,null,null,null,null,null,null,null,null,null,null,{"$f":"SUM(D24:O24)","v":0}]
["利用者③（氏名を記入）",null,null,null,null,null,null,null,null,null,null,null,null,null,null,0]
["利用者④（氏名を記入）",null,null,null,null,null,null,null,null,null,null,null,null,null,null,0]
["利用者⑤（氏名を記入）",null,null,null,null,null,null,null,null,null,null,null,null,null,null,0,6]
["利用者⑥（氏名を記入）",null,null,null,null,null,null,null,null,null,null,null,null,null,null,0,5]
["利用者⑦（氏名を記入）",null,null,null,null,null,null,null,null,null,null,null,null,null,null,0,4]
["利用者⑧（氏名を記入）",null,null,null,null,null,null,null,null,null,null,null,null,null,null,0,3]
["利用者⑨（氏名を記入）",null,null,null,null,null,null,null,null,null,null,null,null,null,null,0,2]
["利用者⑩（氏名を記入）",null,null,null,null,null,null,null,null,null,null,null,null,null,null,0,"1以下"]
["月の延べ利用者数\n（自動計算）",null,null,{"$f":"SUM(D23:D32)","v":0},{"$f":"SUM(E23:E32)","v":0},0,0,0,0,0,0,0,0,0,0,{"$f":"SUM(D33:O33)","v":0}]
["月の延べ利用者数（GH）\n（自動計算）",null,null,{"$f":"SUMIFS(D23:D32,$B$23:$B$32,\"GH\")","v":0},{"$f":"SUMIFS(E23:E32,$B$23:$B$32,\"GH\")","v":0},0,0,0,0,0,0,0,0,0,0,{"$f":"SUM(D34:O34)","v":0}]
["月の開所日数\n(直接入力)",null,null,30,31,30,31,31,30,31,30,31,31,28,31,{"$f":"SUM(D35:O35)","v":365},{"$f":"+P33/P35","v":0}]
[null,null,null,null,null,null,null,null,null,null,null,null,null,null,null,null,{"$f":"+P34/P35","v":0}]
[null,null,null,null,null,null,null,null,null,null,null,null,null,null,null,null,{"$f":"+ROUNDUP(Q36,1)","v":0}]
["※新規指定又は住居追加から6月以上１年未満の間は、直近の6月における全利用者の延べ数を6月間の開所日数で除して得た数以上とする。"]
["　例）令和5年4月に住居追加した場合、9月末を以て、6月間の実績が出ることから、10月から新たな対象者数での算定が可能となる。"]
["※新規指定又は住居追加から1年以上経過している場合は、直近1年間における全利用者の延べ数を1年間の開所日数で除して得た数以上とする。"]

{"sheet":"○○ホーム (10)","index":14,"n_rows":40,"n_cols":20,"rows_kept":40,"cut":false,"hidden":false,"merged":[[11,0,11,6],[11,9,11,15],[1,0,1,15],[9,0,9,6],[9,9,9,15],[10,0,10,6],[10,9,10,15],[14,0,14,3],[14,4,14,8],[14,9,14,10],[14,12,14,13],[15,0,15,3],[15,4,15,8],[15,9,15,10],[15,12,15,13],[16,0,16,3],[16,4,16,8],[16,9,16,10],[16,12,16,13],[17,0,17,3],[17,4,17,8],[17,9,17,10],[17,12,17,13]]}
[null,null,null,null,null,null,null,null,null,null,null,null,null,null,null,"（体制付表５－１９）"]
["共同生活援助事業所における前年度平均利用者数等の算定資料\n（兼夜間支援対象者数の根拠資料）"]
[]
["0.作成要領"]
["・このシートは1住居に1シート作成してください。緑色のセルは選択、ピンク色のセルは入力が必要なセルです。"]
["・全て入力が終わったら、「集計用シート」を確認し、当該数値を「体制付表5-25」へ転記してください。"]
["・複数の住居がある場合、シートのコピーは行わず、予め用意したシートに入力してください。（数式が壊れ、うまく集計ができなくなります）"]
[]
["　1.はじめに"]
["この住居は指定（住居追加）時点から６か月未満ですか？",null,null,null,null,null,null,null,null,{"$f":"IF(H10=\"はい\",\"区分毎の平均利用者数は推定値で入力してください。\",\"\")","v":""}]
[{"$f":"IF(H10=\"\",\"\",VLOOKUP(H10,Q11:S12,3,0)&\"\")","v":""},null,null,null,null,null,null,null,null,{"$f":"IF(H11=\"\",\"\",VLOOKUP(H11,Q11:T12,4,0)&\"\")","v":""},null,null,null,null,null,null,"はい",null,null,"直近6か月の利用状況を「3.利用状況」に入力してください。"]
[{"$f":"IF(H11=\"\",\"\",VLOOKUP(H11,Q11:R12,2,0)&\"\")","v":""},null,null,null,null,null,null,null,null,"直近1年の利用状況を下表に入力してください",null,null,null,null,null,null,"いいえ","この住居は指定（住居追加）時点から1年以上経過していますか？","この住居は指定（住居追加）時点から6か月以上1年未満ですか？","直近1年又は前年度の利用状況を下表に入力してください"]
[]
["　2.事業所情報"]
["事業所名",null,null,null,null,null,null,null,null,"平均利用者数合計\n（自動計算）",null,{"$f":"IF(H10=\"はい\",E17*0.9,+ROUNDUP(Q35,1))","v":0},"夜間支援対象者数\n（自動計算）",null,{"$f":"IF(H10=\"はい\",E17*0.9,ROUND(Q37,0))","v":0}]
["住居名",null,null,null,null,null,null,null,null,"区分6",null,{"$f":"ROUNDUP(SUMIFS($P:$P,$C:$C,6)/P35,1)","v":0},"区分5",null,{"$f":"ROUNDUP(SUMIFS($P:$P,$C:$C,5)/P35,1)","v":0}]
["住居定員",null,null,null,null,null,null,null,null,"区分4",null,{"$f":"ROUNDUP(SUMIFS($P:$P,$C:$C,4)/P35,1)","v":0},"区分3",null,{"$f":"ROUNDUP(SUMIFS($P:$P,$C:$C,3)/P35,1)","v":0}]
["住居追加日",null,null,null,null,null,null,null,null,"区分2",null,{"$f":"ROUNDUP(SUMIFS($P:$P,$C:$C,2)/P35,1)","v":0},"区分1以下",null,{"$f":"ROUNDUP(SUMIFS($P:$P,$C:$C,\"1以下\")/P35,1)","v":0}]
[null,null,null,null,null,null,null,null,null,null,null,"."]
[]
["　3.利用状況",null,null,null,null,null,null,null,"令和",null,"年度"]
["月","サービス","区分","4月","5月","6月","7月","8月","9月","10月","11月","12月","1月","2月","3月","合計"]
["利用者①（氏名を記入）",null,null,null,null,null,null,null,null,null,null,null,null,null,null,{"$f":"SUM(D23:O23)","v":0}]
["利用者②（氏名を記入）",null,null,null,null,null,null,null,null,null,null,null,null,null,null,{"$f":"SUM(D24:O24)","v":0}]
["利用者③（氏名を記入）",null,null,null,null,null,null,null,null,null,null,null,null,null,null,0]
["利用者④（氏名を記入）",null,null,null,null,null,null,null,null,null,null,null,null,null,null,0]
["利用者⑤（氏名を記入）",null,null,null,null,null,null,null,null,null,null,null,null,null,null,0,6]
["利用者⑥（氏名を記入）",null,null,null,null,null,null,null,null,null,null,null,null,null,null,0,5]
["利用者⑦（氏名を記入）",null,null,null,null,null,null,null,null,null,null,null,null,null,null,0,4]
["利用者⑧（氏名を記入）",null,null,null,null,null,null,null,null,null,null,null,null,null,null,0,3]
["利用者⑨（氏名を記入）",null,null,null,null,null,null,null,null,null,null,null,null,null,null,0,2]
["利用者⑩（氏名を記入）",null,null,null,null,null,null,null,null,null,null,null,null,null,null,0,"1以下"]
["月の延べ利用者数\n（自動計算）",null,null,{"$f":"SUM(D23:D32)","v":0},{"$f":"SUM(E23:E32)","v":0},0,0,0,0,0,0,0,0,0,0,{"$f":"SUM(D33:O33)","v":0}]
["月の延べ利用者数（GH）\n（自動計算）",null,null,{"$f":"SUMIFS(D23:D32,$B$23:$B$32,\"GH\")","v":0},{"$f":"SUMIFS(E23:E32,$B$23:$B$32,\"GH\")","v":0},0,0,0,0,0,0,0,0,0,0,{"$f":"SUM(D34:O34)","v":0}]
["月の開所日数\n(直接入力)",null,null,30,31,30,31,31,30,31,30,31,31,28,31,{"$f":"SUM(D35:O35)","v":365},{"$f":"+P33/P35","v":0}]
[null,null,null,null,null,null,null,null,null,null,null,null,null,null,null,null,{"$f":"+P34/P35","v":0}]
[null,null,null,null,null,null,null,null,null,null,null,null,null,null,null,null,{"$f":"+ROUNDUP(Q36,1)","v":0}]
["※新規指定又は住居追加から6月以上１年未満の間は、直近の6月における全利用者の延べ数を6月間の開所日数で除して得た数以上とする。"]
["　例）令和5年4月に住居追加した場合、9月末を以て、6月間の実績が出ることから、10月から新たな対象者数での算定が可能となる。"]
["※新規指定又は住居追加から1年以上経過している場合は、直近1年間における全利用者の延べ数を1年間の開所日数で除して得た数以上とする。"]

{"sheet":"○○ホーム (11)","index":15,"n_rows":40,"n_cols":20,"rows_kept":40,"cut":false,"hidden":false,"merged":[[11,0,11,6],[11,9,11,15],[1,0,1,15],[9,0,9,6],[9,9,9,15],[10,0,10,6],[10,9,10,15],[14,0,14,3],[14,4,14,8],[14,9,14,10],[14,12,14,13],[15,0,15,3],[15,4,15,8],[15,9,15,10],[15,12,15,13],[16,0,16,3],[16,4,16,8],[16,9,16,10],[16,12,16,13],[17,0,17,3],[17,4,17,8],[17,9,17,10],[17,12,17,13]]}
[null,null,null,null,null,null,null,null,null,null,null,null,null,null,null,"（体制付表５－１９）"]
["共同生活援助事業所における前年度平均利用者数等の算定資料\n（兼夜間支援対象者数の根拠資料）"]
[]
["0.作成要領"]
["・このシートは1住居に1シート作成してください。緑色のセルは選択、ピンク色のセルは入力が必要なセルです。"]
["・全て入力が終わったら、「集計用シート」を確認し、当該数値を「体制付表5-25」へ転記してください。"]
["・複数の住居がある場合、シートのコピーは行わず、予め用意したシートに入力してください。（数式が壊れ、うまく集計ができなくなります）"]
[]
["　1.はじめに"]
["この住居は指定（住居追加）時点から６か月未満ですか？",null,null,null,null,null,null,null,null,{"$f":"IF(H10=\"はい\",\"区分毎の平均利用者数は推定値で入力してください。\",\"\")","v":""}]
[{"$f":"IF(H10=\"\",\"\",VLOOKUP(H10,Q11:S12,3,0)&\"\")","v":""},null,null,null,null,null,null,null,null,{"$f":"IF(H11=\"\",\"\",VLOOKUP(H11,Q11:T12,4,0)&\"\")","v":""},null,null,null,null,null,null,"はい",null,null,"直近6か月の利用状況を「3.利用状況」に入力してください。"]
[{"$f":"IF(H11=\"\",\"\",VLOOKUP(H11,Q11:R12,2,0)&\"\")","v":""},null,null,null,null,null,null,null,null,"直近1年の利用状況を下表に入力してください",null,null,null,null,null,null,"いいえ","この住居は指定（住居追加）時点から1年以上経過していますか？","この住居は指定（住居追加）時点から6か月以上1年未満ですか？","直近1年又は前年度の利用状況を下表に入力してください"]
[]
["　2.事業所情報"]
["事業所名",null,null,null,null,null,null,null,null,"平均利用者数合計\n（自動計算）",null,{"$f":"IF(H10=\"はい\",E17*0.9,+ROUNDUP(Q35,1))","v":0},"夜間支援対象者数\n（自動計算）",null,{"$f":"IF(H10=\"はい\",E17*0.9,ROUND(Q37,0))","v":0}]
["住居名",null,null,null,null,null,null,null,null,"区分6",null,{"$f":"ROUNDUP(SUMIFS($P:$P,$C:$C,6)/P35,1)","v":0},"区分5",null,{"$f":"ROUNDUP(SUMIFS($P:$P,$C:$C,5)/P35,1)","v":0}]
["住居定員",null,null,null,null,null,null,null,null,"区分4",null,{"$f":"ROUNDUP(SUMIFS($P:$P,$C:$C,4)/P35,1)","v":0},"区分3",null,{"$f":"ROUNDUP(SUMIFS($P:$P,$C:$C,3)/P35,1)","v":0}]
["住居追加日",null,null,null,null,null,null,null,null,"区分2",null,{"$f":"ROUNDUP(SUMIFS($P:$P,$C:$C,2)/P35,1)","v":0},"区分1以下",null,{"$f":"ROUNDUP(SUMIFS($P:$P,$C:$C,\"1以下\")/P35,1)","v":0}]
[null,null,null,null,null,null,null,null,null,null,null,"."]
[]
["　3.利用状況",null,null,null,null,null,null,null,"令和",null,"年度"]
["月","サービス","区分","4月","5月","6月","7月","8月","9月","10月","11月","12月","1月","2月","3月","合計"]
["利用者①（氏名を記入）",null,null,null,null,null,null,null,null,null,null,null,null,null,null,{"$f":"SUM(D23:O23)","v":0}]
["利用者②（氏名を記入）",null,null,null,null,null,null,null,null,null,null,null,null,null,null,{"$f":"SUM(D24:O24)","v":0}]
["利用者③（氏名を記入）",null,null,null,null,null,null,null,null,null,null,null,null,null,null,0]
["利用者④（氏名を記入）",null,null,null,null,null,null,null,null,null,null,null,null,null,null,0]
["利用者⑤（氏名を記入）",null,null,null,null,null,null,null,null,null,null,null,null,null,null,0,6]
["利用者⑥（氏名を記入）",null,null,null,null,null,null,null,null,null,null,null,null,null,null,0,5]
["利用者⑦（氏名を記入）",null,null,null,null,null,null,null,null,null,null,null,null,null,null,0,4]
["利用者⑧（氏名を記入）",null,null,null,null,null,null,null,null,null,null,null,null,null,null,0,3]
["利用者⑨（氏名を記入）",null,null,null,null,null,null,null,null,null,null,null,null,null,null,0,2]
["利用者⑩（氏名を記入）",null,null,null,null,null,null,null,null,null,null,null,null,null,null,0,"1以下"]
["月の延べ利用者数\n（自動計算）",null,null,{"$f":"SUM(D23:D32)","v":0},{"$f":"SUM(E23:E32)","v":0},0,0,0,0,0,0,0,0,0,0,{"$f":"SUM(D33:O33)","v":0}]
["月の延べ利用者数（GH）\n（自動計算）",null,null,{"$f":"SUMIFS(D23:D32,$B$23:$B$32,\"GH\")","v":0},{"$f":"SUMIFS(E23:E32,$B$23:$B$32,\"GH\")","v":0},0,0,0,0,0,0,0,0,0,0,{"$f":"SUM(D34:O34)","v":0}]
["月の開所日数\n(直接入力)",null,null,30,31,30,31,31,30,31,30,31,31,28,31,{"$f":"SUM(D35:O35)","v":365},{"$f":"+P33/P35","v":0}]
[null,null,null,null,null,null,null,null,null,null,null,null,null,null,null,null,{"$f":"+P34/P35","v":0}]
[null,null,null,null,null,null,null,null,null,null,null,null,null,null,null,null,{"$f":"+ROUNDUP(Q36,1)","v":0}]
["※新規指定又は住居追加から6月以上１年未満の間は、直近の6月における全利用者の延べ数を6月間の開所日数で除して得た数以上とする。"]
["　例）令和5年4月に住居追加した場合、9月末を以て、6月間の実績が出ることから、10月から新たな対象者数での算定が可能となる。"]
["※新規指定又は住居追加から1年以上経過している場合は、直近1年間における全利用者の延べ数を1年間の開所日数で除して得た数以上とする。"]

{"sheet":"○○ホーム (12)","index":16,"n_rows":40,"n_cols":20,"rows_kept":40,"cut":false,"hidden":false,"merged":[[11,0,11,6],[11,9,11,15],[1,0,1,15],[9,0,9,6],[9,9,9,15],[10,0,10,6],[10,9,10,15],[14,0,14,3],[14,4,14,8],[14,9,14,10],[14,12,14,13],[15,0,15,3],[15,4,15,8],[15,9,15,10],[15,12,15,13],[16,0,16,3],[16,4,16,8],[16,9,16,10],[16,12,16,13],[17,0,17,3],[17,4,17,8],[17,9,17,10],[17,12,17,13]]}
[null,null,null,null,null,null,null,null,null,null,null,null,null,null,null,"（体制付表５－１９）"]
["共同生活援助事業所における前年度平均利用者数等の算定資料\n（兼夜間支援対象者数の根拠資料）"]
[]
["0.作成要領"]
["・このシートは1住居に1シート作成してください。緑色のセルは選択、ピンク色のセルは入力が必要なセルです。"]
["・全て入力が終わったら、「集計用シート」を確認し、当該数値を「体制付表5-25」へ転記してください。"]
["・複数の住居がある場合、シートのコピーは行わず、予め用意したシートに入力してください。（数式が壊れ、うまく集計ができなくなります）"]
[]
["　1.はじめに"]
["この住居は指定（住居追加）時点から６か月未満ですか？",null,null,null,null,null,null,null,null,{"$f":"IF(H10=\"はい\",\"区分毎の平均利用者数は推定値で入力してください。\",\"\")","v":""}]
[{"$f":"IF(H10=\"\",\"\",VLOOKUP(H10,Q11:S12,3,0)&\"\")","v":""},null,null,null,null,null,null,null,null,{"$f":"IF(H11=\"\",\"\",VLOOKUP(H11,Q11:T12,4,0)&\"\")","v":""},null,null,null,null,null,null,"はい",null,null,"直近6か月の利用状況を「3.利用状況」に入力してください。"]
[{"$f":"IF(H11=\"\",\"\",VLOOKUP(H11,Q11:R12,2,0)&\"\")","v":""},null,null,null,null,null,null,null,null,"直近1年の利用状況を下表に入力してください",null,null,null,null,null,null,"いいえ","この住居は指定（住居追加）時点から1年以上経過していますか？","この住居は指定（住居追加）時点から6か月以上1年未満ですか？","直近1年又は前年度の利用状況を下表に入力してください"]
[]
["　2.事業所情報"]
["事業所名",null,null,null,null,null,null,null,null,"平均利用者数合計\n（自動計算）",null,{"$f":"IF(H10=\"はい\",E17*0.9,+ROUNDUP(Q35,1))","v":0},"夜間支援対象者数\n（自動計算）",null,{"$f":"IF(H10=\"はい\",E17*0.9,ROUND(Q37,0))","v":0}]
["住居名",null,null,null,null,null,null,null,null,"区分6",null,{"$f":"ROUNDUP(SUMIFS($P:$P,$C:$C,6)/P35,1)","v":0},"区分5",null,{"$f":"ROUNDUP(SUMIFS($P:$P,$C:$C,5)/P35,1)","v":0}]
["住居定員",null,null,null,null,null,null,null,null,"区分4",null,{"$f":"ROUNDUP(SUMIFS($P:$P,$C:$C,4)/P35,1)","v":0},"区分3",null,{"$f":"ROUNDUP(SUMIFS($P:$P,$C:$C,3)/P35,1)","v":0}]
["住居追加日",null,null,null,null,null,null,null,null,"区分2",null,{"$f":"ROUNDUP(SUMIFS($P:$P,$C:$C,2)/P35,1)","v":0},"区分1以下",null,{"$f":"ROUNDUP(SUMIFS($P:$P,$C:$C,\"1以下\")/P35,1)","v":0}]
[null,null,null,null,null,null,null,null,null,null,null,"."]
[]
["　3.利用状況",null,null,null,null,null,null,null,"令和",null,"年度"]
["月","サービス","区分","4月","5月","6月","7月","8月","9月","10月","11月","12月","1月","2月","3月","合計"]
["利用者①（氏名を記入）",null,null,null,null,null,null,null,null,null,null,null,null,null,null,{"$f":"SUM(D23:O23)","v":0}]
["利用者②（氏名を記入）",null,null,null,null,null,null,null,null,null,null,null,null,null,null,{"$f":"SUM(D24:O24)","v":0}]
["利用者③（氏名を記入）",null,null,null,null,null,null,null,null,null,null,null,null,null,null,0]
["利用者④（氏名を記入）",null,null,null,null,null,null,null,null,null,null,null,null,null,null,0]
["利用者⑤（氏名を記入）",null,null,null,null,null,null,null,null,null,null,null,null,null,null,0,6]
["利用者⑥（氏名を記入）",null,null,null,null,null,null,null,null,null,null,null,null,null,null,0,5]
["利用者⑦（氏名を記入）",null,null,null,null,null,null,null,null,null,null,null,null,null,null,0,4]
["利用者⑧（氏名を記入）",null,null,null,null,null,null,null,null,null,null,null,null,null,null,0,3]
["利用者⑨（氏名を記入）",null,null,null,null,null,null,null,null,null,null,null,null,null,null,0,2]
["利用者⑩（氏名を記入）",null,null,null,null,null,null,null,null,null,null,null,null,null,null,0,"1以下"]
["月の延べ利用者数\n（自動計算）",null,null,{"$f":"SUM(D23:D32)","v":0},{"$f":"SUM(E23:E32)","v":0},0,0,0,0,0,0,0,0,0,0,{"$f":"SUM(D33:O33)","v":0}]
["月の延べ利用者数（GH）\n（自動計算）",null,null,{"$f":"SUMIFS(D23:D32,$B$23:$B$32,\"GH\")","v":0},{"$f":"SUMIFS(E23:E32,$B$23:$B$32,\"GH\")","v":0},0,0,0,0,0,0,0,0,0,0,{"$f":"SUM(D34:O34)","v":0}]
["月の開所日数\n(直接入力)",null,null,30,31,30,31,31,30,31,30,31,31,28,31,{"$f":"SUM(D35:O35)","v":365},{"$f":"+P33/P35","v":0}]
[null,null,null,null,null,null,null,null,null,null,null,null,null,null,null,null,{"$f":"+P34/P35","v":0}]
[null,null,null,null,null,null,null,null,null,null,null,null,null,null,null,null,{"$f":"+ROUNDUP(Q36,1)","v":0}]
["※新規指定又は住居追加から6月以上１年未満の間は、直近の6月における全利用者の延べ数を6月間の開所日数で除して得た数以上とする。"]
["　例）令和5年4月に住居追加した場合、9月末を以て、6月間の実績が出ることから、10月から新たな対象者数での算定が可能となる。"]
["※新規指定又は住居追加から1年以上経過している場合は、直近1年間における全利用者の延べ数を1年間の開所日数で除して得た数以上とする。"]

{"sheet":"○○ホーム (13)","index":17,"n_rows":40,"n_cols":20,"rows_kept":40,"cut":false,"hidden":false,"merged":[[11,0,11,6],[11,9,11,15],[1,0,1,15],[9,0,9,6],[9,9,9,15],[10,0,10,6],[10,9,10,15],[14,0,14,3],[14,4,14,8],[14,9,14,10],[14,12,14,13],[15,0,15,3],[15,4,15,8],[15,9,15,10],[15,12,15,13],[16,0,16,3],[16,4,16,8],[16,9,16,10],[16,12,16,13],[17,0,17,3],[17,4,17,8],[17,9,17,10],[17,12,17,13]]}
[null,null,null,null,null,null,null,null,null,null,null,null,null,null,null,"（体制付表５－１９）"]
["共同生活援助事業所における前年度平均利用者数等の算定資料\n（兼夜間支援対象者数の根拠資料）"]
[]
["0.作成要領"]
["・このシートは1住居に1シート作成してください。緑色のセルは選択、ピンク色のセルは入力が必要なセルです。"]
["・全て入力が終わったら、「集計用シート」を確認し、当該数値を「体制付表5-25」へ転記してください。"]
["・複数の住居がある場合、シートのコピーは行わず、予め用意したシートに入力してください。（数式が壊れ、うまく集計ができなくなります）"]
[]
["　1.はじめに"]
["この住居は指定（住居追加）時点から６か月未満ですか？",null,null,null,null,null,null,null,null,{"$f":"IF(H10=\"はい\",\"区分毎の平均利用者数は推定値で入力してください。\",\"\")","v":""}]
[{"$f":"IF(H10=\"\",\"\",VLOOKUP(H10,Q11:S12,3,0)&\"\")","v":""},null,null,null,null,null,null,null,null,{"$f":"IF(H11=\"\",\"\",VLOOKUP(H11,Q11:T12,4,0)&\"\")","v":""},null,null,null,null,null,null,"はい",null,null,"直近6か月の利用状況を「3.利用状況」に入力してください。"]
[{"$f":"IF(H11=\"\",\"\",VLOOKUP(H11,Q11:R12,2,0)&\"\")","v":""},null,null,null,null,null,null,null,null,"直近1年の利用状況を下表に入力してください",null,null,null,null,null,null,"いいえ","この住居は指定（住居追加）時点から1年以上経過していますか？","この住居は指定（住居追加）時点から6か月以上1年未満ですか？","直近1年又は前年度の利用状況を下表に入力してください"]
[]
["　2.事業所情報"]
["事業所名",null,null,null,null,null,null,null,null,"平均利用者数合計\n（自動計算）",null,{"$f":"IF(H10=\"はい\",E17*0.9,+ROUNDUP(Q35,1))","v":0},"夜間支援対象者数\n（自動計算）",null,{"$f":"IF(H10=\"はい\",E17*0.9,ROUND(Q37,0))","v":0}]
["住居名",null,null,null,null,null,null,null,null,"区分6",null,{"$f":"ROUNDUP(SUMIFS($P:$P,$C:$C,6)/P35,1)","v":0},"区分5",null,{"$f":"ROUNDUP(SUMIFS($P:$P,$C:$C,5)/P35,1)","v":0}]
["住居定員",null,null,null,null,null,null,null,null,"区分4",null,{"$f":"ROUNDUP(SUMIFS($P:$P,$C:$C,4)/P35,1)","v":0},"区分3",null,{"$f":"ROUNDUP(SUMIFS($P:$P,$C:$C,3)/P35,1)","v":0}]
["住居追加日",null,null,null,null,null,null,null,null,"区分2",null,{"$f":"ROUNDUP(SUMIFS($P:$P,$C:$C,2)/P35,1)","v":0},"区分1以下",null,{"$f":"ROUNDUP(SUMIFS($P:$P,$C:$C,\"1以下\")/P35,1)","v":0}]
[null,null,null,null,null,null,null,null,null,null,null,"."]
[]
["　3.利用状況",null,null,null,null,null,null,null,"令和",null,"年度"]
["月","サービス","区分","4月","5月","6月","7月","8月","9月","10月","11月","12月","1月","2月","3月","合計"]
["利用者①（氏名を記入）",null,null,null,null,null,null,null,null,null,null,null,null,null,null,{"$f":"SUM(D23:O23)","v":0}]
["利用者②（氏名を記入）",null,null,null,null,null,null,null,null,null,null,null,null,null,null,{"$f":"SUM(D24:O24)","v":0}]
["利用者③（氏名を記入）",null,null,null,null,null,null,null,null,null,null,null,null,null,null,0]
["利用者④（氏名を記入）",null,null,null,null,null,null,null,null,null,null,null,null,null,null,0]
["利用者⑤（氏名を記入）",null,null,null,null,null,null,null,null,null,null,null,null,null,null,0,6]
["利用者⑥（氏名を記入）",null,null,null,null,null,null,null,null,null,null,null,null,null,null,0,5]
["利用者⑦（氏名を記入）",null,null,null,null,null,null,null,null,null,null,null,null,null,null,0,4]
["利用者⑧（氏名を記入）",null,null,null,null,null,null,null,null,null,null,null,null,null,null,0,3]
["利用者⑨（氏名を記入）",null,null,null,null,null,null,null,null,null,null,null,null,null,null,0,2]
["利用者⑩（氏名を記入）",null,null,null,null,null,null,null,null,null,null,null,null,null,null,0,"1以下"]
["月の延べ利用者数\n（自動計算）",null,null,{"$f":"SUM(D23:D32)","v":0},{"$f":"SUM(E23:E32)","v":0},0,0,0,0,0,0,0,0,0,0,{"$f":"SUM(D33:O33)","v":0}]
["月の延べ利用者数（GH）\n（自動計算）",null,null,{"$f":"SUMIFS(D23:D32,$B$23:$B$32,\"GH\")","v":0},{"$f":"SUMIFS(E23:E32,$B$23:$B$32,\"GH\")","v":0},0,0,0,0,0,0,0,0,0,0,{"$f":"SUM(D34:O34)","v":0}]
["月の開所日数\n(直接入力)",null,null,30,31,30,31,31,30,31,30,31,31,28,31,{"$f":"SUM(D35:O35)","v":365},{"$f":"+P33/P35","v":0}]
[null,null,null,null,null,null,null,null,null,null,null,null,null,null,null,null,{"$f":"+P34/P35","v":0}]
[null,null,null,null,null,null,null,null,null,null,null,null,null,null,null,null,{"$f":"+ROUNDUP(Q36,1)","v":0}]
["※新規指定又は住居追加から6月以上１年未満の間は、直近の6月における全利用者の延べ数を6月間の開所日数で除して得た数以上とする。"]
["　例）令和5年4月に住居追加した場合、9月末を以て、6月間の実績が出ることから、10月から新たな対象者数での算定が可能となる。"]
["※新規指定又は住居追加から1年以上経過している場合は、直近1年間における全利用者の延べ数を1年間の開所日数で除して得た数以上とする。"]

{"sheet":"○○ホーム (14)","index":18,"n_rows":40,"n_cols":20,"rows_kept":40,"cut":false,"hidden":false,"merged":[[11,0,11,6],[11,9,11,15],[1,0,1,15],[9,0,9,6],[9,9,9,15],[10,0,10,6],[10,9,10,15],[14,0,14,3],[14,4,14,8],[14,9,14,10],[14,12,14,13],[15,0,15,3],[15,4,15,8],[15,9,15,10],[15,12,15,13],[16,0,16,3],[16,4,16,8],[16,9,16,10],[16,12,16,13],[17,0,17,3],[17,4,17,8],[17,9,17,10],[17,12,17,13]]}
[null,null,null,null,null,null,null,null,null,null,null,null,null,null,null,"（体制付表５－１９）"]
["共同生活援助事業所における前年度平均利用者数等の算定資料\n（兼夜間支援対象者数の根拠資料）"]
[]
["0.作成要領"]
["・このシートは1住居に1シート作成してください。緑色のセルは選択、ピンク色のセルは入力が必要なセルです。"]
["・全て入力が終わったら、「集計用シート」を確認し、当該数値を「体制付表5-25」へ転記してください。"]
["・複数の住居がある場合、シートのコピーは行わず、予め用意したシートに入力してください。（数式が壊れ、うまく集計ができなくなります）"]
[]
["　1.はじめに"]
["この住居は指定（住居追加）時点から６か月未満ですか？",null,null,null,null,null,null,null,null,{"$f":"IF(H10=\"はい\",\"区分毎の平均利用者数は推定値で入力してください。\",\"\")","v":""}]
[{"$f":"IF(H10=\"\",\"\",VLOOKUP(H10,Q11:S12,3,0)&\"\")","v":""},null,null,null,null,null,null,null,null,{"$f":"IF(H11=\"\",\"\",VLOOKUP(H11,Q11:T12,4,0)&\"\")","v":""},null,null,null,null,null,null,"はい",null,null,"直近6か月の利用状況を「3.利用状況」に入力してください。"]
[{"$f":"IF(H11=\"\",\"\",VLOOKUP(H11,Q11:R12,2,0)&\"\")","v":""},null,null,null,null,null,null,null,null,"直近1年の利用状況を下表に入力してください",null,null,null,null,null,null,"いいえ","この住居は指定（住居追加）時点から1年以上経過していますか？","この住居は指定（住居追加）時点から6か月以上1年未満ですか？","直近1年又は前年度の利用状況を下表に入力してください"]
[]
["　2.事業所情報"]
["事業所名",null,null,null,null,null,null,null,null,"平均利用者数合計\n（自動計算）",null,{"$f":"IF(H10=\"はい\",E17*0.9,+ROUNDUP(Q35,1))","v":0},"夜間支援対象者数\n（自動計算）",null,{"$f":"IF(H10=\"はい\",E17*0.9,ROUND(Q37,0))","v":0}]
["住居名",null,null,null,null,null,null,null,null,"区分6",null,{"$f":"ROUNDUP(SUMIFS($P:$P,$C:$C,6)/P35,1)","v":0},"区分5",null,{"$f":"ROUNDUP(SUMIFS($P:$P,$C:$C,5)/P35,1)","v":0}]
["住居定員",null,null,null,null,null,null,null,null,"区分4",null,{"$f":"ROUNDUP(SUMIFS($P:$P,$C:$C,4)/P35,1)","v":0},"区分3",null,{"$f":"ROUNDUP(SUMIFS($P:$P,$C:$C,3)/P35,1)","v":0}]
["住居追加日",null,null,null,null,null,null,null,null,"区分2",null,{"$f":"ROUNDUP(SUMIFS($P:$P,$C:$C,2)/P35,1)","v":0},"区分1以下",null,{"$f":"ROUNDUP(SUMIFS($P:$P,$C:$C,\"1以下\")/P35,1)","v":0}]
[null,null,null,null,null,null,null,null,null,null,null,"."]
[]
["　3.利用状況",null,null,null,null,null,null,null,"令和",null,"年度"]
["月","サービス","区分","4月","5月","6月","7月","8月","9月","10月","11月","12月","1月","2月","3月","合計"]
["利用者①（氏名を記入）",null,null,null,null,null,null,null,null,null,null,null,null,null,null,{"$f":"SUM(D23:O23)","v":0}]
["利用者②（氏名を記入）",null,null,null,null,null,null,null,null,null,null,null,null,null,null,{"$f":"SUM(D24:O24)","v":0}]
["利用者③（氏名を記入）",null,null,null,null,null,null,null,null,null,null,null,null,null,null,0]
["利用者④（氏名を記入）",null,null,null,null,null,null,null,null,null,null,null,null,null,null,0]
["利用者⑤（氏名を記入）",null,null,null,null,null,null,null,null,null,null,null,null,null,null,0,6]
["利用者⑥（氏名を記入）",null,null,null,null,null,null,null,null,null,null,null,null,null,null,0,5]
["利用者⑦（氏名を記入）",null,null,null,null,null,null,null,null,null,null,null,null,null,null,0,4]
["利用者⑧（氏名を記入）",null,null,null,null,null,null,null,null,null,null,null,null,null,null,0,3]
["利用者⑨（氏名を記入）",null,null,null,null,null,null,null,null,null,null,null,null,null,null,0,2]
["利用者⑩（氏名を記入）",null,null,null,null,null,null,null,null,null,null,null,null,null,null,0,"1以下"]
["月の延べ利用者数\n（自動計算）",null,null,{"$f":"SUM(D23:D32)","v":0},{"$f":"SUM(E23:E32)","v":0},0,0,0,0,0,0,0,0,0,0,{"$f":"SUM(D33:O33)","v":0}]
["月の延べ利用者数（GH）\n（自動計算）",null,null,{"$f":"SUMIFS(D23:D32,$B$23:$B$32,\"GH\")","v":0},{"$f":"SUMIFS(E23:E32,$B$23:$B$32,\"GH\")","v":0},0,0,0,0,0,0,0,0,0,0,{"$f":"SUM(D34:O34)","v":0}]
["月の開所日数\n(直接入力)",null,null,30,31,30,31,31,30,31,30,31,31,28,31,{"$f":"SUM(D35:O35)","v":365},{"$f":"+P33/P35","v":0}]
[null,null,null,null,null,null,null,null,null,null,null,null,null,null,null,null,{"$f":"+P34/P35","v":0}]
[null,null,null,null,null,null,null,null,null,null,null,null,null,null,null,null,{"$f":"+ROUNDUP(Q36,1)","v":0}]
["※新規指定又は住居追加から6月以上１年未満の間は、直近の6月における全利用者の延べ数を6月間の開所日数で除して得た数以上とする。"]
["　例）令和5年4月に住居追加した場合、9月末を以て、6月間の実績が出ることから、10月から新たな対象者数での算定が可能となる。"]
["※新規指定又は住居追加から1年以上経過している場合は、直近1年間における全利用者の延べ数を1年間の開所日数で除して得た数以上とする。"]

{"sheet":"○○ホーム (15)","index":19,"n_rows":40,"n_cols":20,"rows_kept":40,"cut":false,"hidden":false,"merged":[[11,0,11,6],[11,9,11,15],[1,0,1,15],[9,0,9,6],[9,9,9,15],[10,0,10,6],[10,9,10,15],[14,0,14,3],[14,4,14,8],[14,9,14,10],[14,12,14,13],[15,0,15,3],[15,4,15,8],[15,9,15,10],[15,12,15,13],[16,0,16,3],[16,4,16,8],[16,9,16,10],[16,12,16,13],[17,0,17,3],[17,4,17,8],[17,9,17,10],[17,12,17,13]]}
[null,null,null,null,null,null,null,null,null,null,null,null,null,null,null,"（体制付表５－１９）"]
["共同生活援助事業所における前年度平均利用者数等の算定資料\n（兼夜間支援対象者数の根拠資料）"]
[]
["0.作成要領"]
["・このシートは1住居に1シート作成してください。緑色のセルは選択、ピンク色のセルは入力が必要なセルです。"]
["・全て入力が終わったら、「集計用シート」を確認し、当該数値を「体制付表5-25」へ転記してください。"]
["・複数の住居がある場合、シートのコピーは行わず、予め用意したシートに入力してください。（数式が壊れ、うまく集計ができなくなります）"]
[]
["　1.はじめに"]
["この住居は指定（住居追加）時点から６か月未満ですか？",null,null,null,null,null,null,null,null,{"$f":"IF(H10=\"はい\",\"区分毎の平均利用者数は推定値で入力してください。\",\"\")","v":""}]
[{"$f":"IF(H10=\"\",\"\",VLOOKUP(H10,Q11:S12,3,0)&\"\")","v":""},null,null,null,null,null,null,null,null,{"$f":"IF(H11=\"\",\"\",VLOOKUP(H11,Q11:T12,4,0)&\"\")","v":""},null,null,null,null,null,null,"はい",null,null,"直近6か月の利用状況を「3.利用状況」に入力してください。"]
[{"$f":"IF(H11=\"\",\"\",VLOOKUP(H11,Q11:R12,2,0)&\"\")","v":""},null,null,null,null,null,null,null,null,"直近1年の利用状況を下表に入力してください",null,null,null,null,null,null,"いいえ","この住居は指定（住居追加）時点から1年以上経過していますか？","この住居は指定（住居追加）時点から6か月以上1年未満ですか？","直近1年又は前年度の利用状況を下表に入力してください"]
[]
["　2.事業所情報"]
["事業所名",null,null,null,null,null,null,null,null,"平均利用者数合計\n（自動計算）",null,{"$f":"IF(H10=\"はい\",E17*0.9,+ROUNDUP(Q35,1))","v":0},"夜間支援対象者数\n（自動計算）",null,{"$f":"IF(H10=\"はい\",E17*0.9,ROUND(Q37,0))","v":0}]
["住居名",null,null,null,null,null,null,null,null,"区分6",null,{"$f":"ROUNDUP(SUMIFS($P:$P,$C:$C,6)/P35,1)","v":0},"区分5",null,{"$f":"ROUNDUP(SUMIFS($P:$P,$C:$C,5)/P35,1)","v":0}]
["住居定員",null,null,null,null,null,null,null,null,"区分4",null,{"$f":"ROUNDUP(SUMIFS($P:$P,$C:$C,4)/P35,1)","v":0},"区分3",null,{"$f":"ROUNDUP(SUMIFS($P:$P,$C:$C,3)/P35,1)","v":0}]
["住居追加日",null,null,null,null,null,null,null,null,"区分2",null,{"$f":"ROUNDUP(SUMIFS($P:$P,$C:$C,2)/P35,1)","v":0},"区分1以下",null,{"$f":"ROUNDUP(SUMIFS($P:$P,$C:$C,\"1以下\")/P35,1)","v":0}]
[null,null,null,null,null,null,null,null,null,null,null,"."]
[]
["　3.利用状況",null,null,null,null,null,null,null,"令和",null,"年度"]
["月","サービス","区分","4月","5月","6月","7月","8月","9月","10月","11月","12月","1月","2月","3月","合計"]
["利用者①（氏名を記入）",null,null,null,null,null,null,null,null,null,null,null,null,null,null,{"$f":"SUM(D23:O23)","v":0}]
["利用者②（氏名を記入）",null,null,null,null,null,null,null,null,null,null,null,null,null,null,{"$f":"SUM(D24:O24)","v":0}]
["利用者③（氏名を記入）",null,null,null,null,null,null,null,null,null,null,null,null,null,null,0]
["利用者④（氏名を記入）",null,null,null,null,null,null,null,null,null,null,null,null,null,null,0]
["利用者⑤（氏名を記入）",null,null,null,null,null,null,null,null,null,null,null,null,null,null,0,6]
["利用者⑥（氏名を記入）",null,null,null,null,null,null,null,null,null,null,null,null,null,null,0,5]
["利用者⑦（氏名を記入）",null,null,null,null,null,null,null,null,null,null,null,null,null,null,0,4]
["利用者⑧（氏名を記入）",null,null,null,null,null,null,null,null,null,null,null,null,null,null,0,3]
["利用者⑨（氏名を記入）",null,null,null,null,null,null,null,null,null,null,null,null,null,null,0,2]
["利用者⑩（氏名を記入）",null,null,null,null,null,null,null,null,null,null,null,null,null,null,0,"1以下"]
["月の延べ利用者数\n（自動計算）",null,null,{"$f":"SUM(D23:D32)","v":0},{"$f":"SUM(E23:E32)","v":0},0,0,0,0,0,0,0,0,0,0,{"$f":"SUM(D33:O33)","v":0}]
["月の延べ利用者数（GH）\n（自動計算）",null,null,{"$f":"SUMIFS(D23:D32,$B$23:$B$32,\"GH\")","v":0},{"$f":"SUMIFS(E23:E32,$B$23:$B$32,\"GH\")","v":0},0,0,0,0,0,0,0,0,0,0,{"$f":"SUM(D34:O34)","v":0}]
["月の開所日数\n(直接入力)",null,null,30,31,30,31,31,30,31,30,31,31,28,31,{"$f":"SUM(D35:O35)","v":365},{"$f":"+P33/P35","v":0}]
[null,null,null,null,null,null,null,null,null,null,null,null,null,null,null,null,{"$f":"+P34/P35","v":0}]
[null,null,null,null,null,null,null,null,null,null,null,null,null,null,null,null,{"$f":"+ROUNDUP(Q36,1)","v":0}]
["※新規指定又は住居追加から6月以上１年未満の間は、直近の6月における全利用者の延べ数を6月間の開所日数で除して得た数以上とする。"]
["　例）令和5年4月に住居追加した場合、9月末を以て、6月間の実績が出ることから、10月から新たな対象者数での算定が可能となる。"]
["※新規指定又は住居追加から1年以上経過している場合は、直近1年間における全利用者の延べ数を1年間の開所日数で除して得た数以上とする。"]

{"sheet":"○○ホーム (16)","index":20,"n_rows":40,"n_cols":20,"rows_kept":40,"cut":false,"hidden":false,"merged":[[11,0,11,6],[11,9,11,15],[1,0,1,15],[9,0,9,6],[9,9,9,15],[10,0,10,6],[10,9,10,15],[14,0,14,3],[14,4,14,8],[14,9,14,10],[14,12,14,13],[15,0,15,3],[15,4,15,8],[15,9,15,10],[15,12,15,13],[16,0,16,3],[16,4,16,8],[16,9,16,10],[16,12,16,13],[17,0,17,3],[17,4,17,8],[17,9,17,10],[17,12,17,13]]}
[null,null,null,null,null,null,null,null,null,null,null,null,null,null,null,"（体制付表５－１９）"]
["共同生活援助事業所における前年度平均利用者数等の算定資料\n（兼夜間支援対象者数の根拠資料）"]
[]
["0.作成要領"]
["・このシートは1住居に1シート作成してください。緑色のセルは選択、ピンク色のセルは入力が必要なセルです。"]
["・全て入力が終わったら、「集計用シート」を確認し、当該数値を「体制付表5-25」へ転記してください。"]
["・複数の住居がある場合、シートのコピーは行わず、予め用意したシートに入力してください。（数式が壊れ、うまく集計ができなくなります）"]
[]
["　1.はじめに"]
["この住居は指定（住居追加）時点から６か月未満ですか？",null,null,null,null,null,null,null,null,{"$f":"IF(H10=\"はい\",\"区分毎の平均利用者数は推定値で入力してください。\",\"\")","v":""}]
[{"$f":"IF(H10=\"\",\"\",VLOOKUP(H10,Q11:S12,3,0)&\"\")","v":""},null,null,null,null,null,null,null,null,{"$f":"IF(H11=\"\",\"\",VLOOKUP(H11,Q11:T12,4,0)&\"\")","v":""},null,null,null,null,null,null,"はい",null,null,"直近6か月の利用状況を「3.利用状況」に入力してください。"]
[{"$f":"IF(H11=\"\",\"\",VLOOKUP(H11,Q11:R12,2,0)&\"\")","v":""},null,null,null,null,null,null,null,null,"直近1年の利用状況を下表に入力してください",null,null,null,null,null,null,"いいえ","この住居は指定（住居追加）時点から1年以上経過していますか？","この住居は指定（住居追加）時点から6か月以上1年未満ですか？","直近1年又は前年度の利用状況を下表に入力してください"]
[]
["　2.事業所情報"]
["事業所名",null,null,null,null,null,null,null,null,"平均利用者数合計\n（自動計算）",null,{"$f":"IF(H10=\"はい\",E17*0.9,+ROUNDUP(Q35,1))","v":0},"夜間支援対象者数\n（自動計算）",null,{"$f":"IF(H10=\"はい\",E17*0.9,ROUND(Q37,0))","v":0}]
["住居名",null,null,null,null,null,null,null,null,"区分6",null,{"$f":"ROUNDUP(SUMIFS($P:$P,$C:$C,6)/P35,1)","v":0},"区分5",null,{"$f":"ROUNDUP(SUMIFS($P:$P,$C:$C,5)/P35,1)","v":0}]
["住居定員",null,null,null,null,null,null,null,null,"区分4",null,{"$f":"ROUNDUP(SUMIFS($P:$P,$C:$C,4)/P35,1)","v":0},"区分3",null,{"$f":"ROUNDUP(SUMIFS($P:$P,$C:$C,3)/P35,1)","v":0}]
["住居追加日",null,null,null,null,null,null,null,null,"区分2",null,{"$f":"ROUNDUP(SUMIFS($P:$P,$C:$C,2)/P35,1)","v":0},"区分1以下",null,{"$f":"ROUNDUP(SUMIFS($P:$P,$C:$C,\"1以下\")/P35,1)","v":0}]
[null,null,null,null,null,null,null,null,null,null,null,"."]
[]
["　3.利用状況",null,null,null,null,null,null,null,"令和",null,"年度"]
["月","サービス","区分","4月","5月","6月","7月","8月","9月","10月","11月","12月","1月","2月","3月","合計"]
["利用者①（氏名を記入）",null,null,null,null,null,null,null,null,null,null,null,null,null,null,{"$f":"SUM(D23:O23)","v":0}]
["利用者②（氏名を記入）",null,null,null,null,null,null,null,null,null,null,null,null,null,null,{"$f":"SUM(D24:O24)","v":0}]
["利用者③（氏名を記入）",null,null,null,null,null,null,null,null,null,null,null,null,null,null,0]
["利用者④（氏名を記入）",null,null,null,null,null,null,null,null,null,null,null,null,null,null,0]
["利用者⑤（氏名を記入）",null,null,null,null,null,null,null,null,null,null,null,null,null,null,0,6]
["利用者⑥（氏名を記入）",null,null,null,null,null,null,null,null,null,null,null,null,null,null,0,5]
["利用者⑦（氏名を記入）",null,null,null,null,null,null,null,null,null,null,null,null,null,null,0,4]
["利用者⑧（氏名を記入）",null,null,null,null,null,null,null,null,null,null,null,null,null,null,0,3]
["利用者⑨（氏名を記入）",null,null,null,null,null,null,null,null,null,null,null,null,null,null,0,2]
["利用者⑩（氏名を記入）",null,null,null,null,null,null,null,null,null,null,null,null,null,null,0,"1以下"]
["月の延べ利用者数\n（自動計算）",null,null,{"$f":"SUM(D23:D32)","v":0},{"$f":"SUM(E23:E32)","v":0},0,0,0,0,0,0,0,0,0,0,{"$f":"SUM(D33:O33)","v":0}]
["月の延べ利用者数（GH）\n（自動計算）",null,null,{"$f":"SUMIFS(D23:D32,$B$23:$B$32,\"GH\")","v":0},{"$f":"SUMIFS(E23:E32,$B$23:$B$32,\"GH\")","v":0},0,0,0,0,0,0,0,0,0,0,{"$f":"SUM(D34:O34)","v":0}]
["月の開所日数\n(直接入力)",null,null,30,31,30,31,31,30,31,30,31,31,28,31,{"$f":"SUM(D35:O35)","v":365},{"$f":"+P33/P35","v":0}]
[null,null,null,null,null,null,null,null,null,null,null,null,null,null,null,null,{"$f":"+P34/P35","v":0}]
[null,null,null,null,null,null,null,null,null,null,null,null,null,null,null,null,{"$f":"+ROUNDUP(Q36,1)","v":0}]
["※新規指定又は住居追加から6月以上１年未満の間は、直近の6月における全利用者の延べ数を6月間の開所日数で除して得た数以上とする。"]
["　例）令和5年4月に住居追加した場合、9月末を以て、6月間の実績が出ることから、10月から新たな対象者数での算定が可能となる。"]
["※新規指定又は住居追加から1年以上経過している場合は、直近1年間における全利用者の延べ数を1年間の開所日数で除して得た数以上とする。"]

{"sheet":"○○ホーム (17)","index":21,"n_rows":40,"n_cols":20,"rows_kept":40,"cut":false,"hidden":false,"merged":[[11,0,11,6],[11,9,11,15],[1,0,1,15],[9,0,9,6],[9,9,9,15],[10,0,10,6],[10,9,10,15],[14,0,14,3],[14,4,14,8],[14,9,14,10],[14,12,14,13],[15,0,15,3],[15,4,15,8],[15,9,15,10],[15,12,15,13],[16,0,16,3],[16,4,16,8],[16,9,16,10],[16,12,16,13],[17,0,17,3],[17,4,17,8],[17,9,17,10],[17,12,17,13]]}
[null,null,null,null,null,null,null,null,null,null,null,null,null,null,null,"（体制付表５－１９）"]
["共同生活援助事業所における前年度平均利用者数等の算定資料\n（兼夜間支援対象者数の根拠資料）"]
[]
["0.作成要領"]
["・このシートは1住居に1シート作成してください。緑色のセルは選択、ピンク色のセルは入力が必要なセルです。"]
["・全て入力が終わったら、「集計用シート」を確認し、当該数値を「体制付表5-25」へ転記してください。"]
["・複数の住居がある場合、シートのコピーは行わず、予め用意したシートに入力してください。（数式が壊れ、うまく集計ができなくなります）"]
[]
["　1.はじめに"]
["この住居は指定（住居追加）時点から６か月未満ですか？",null,null,null,null,null,null,null,null,{"$f":"IF(H10=\"はい\",\"区分毎の平均利用者数は推定値で入力してください。\",\"\")","v":""}]
[{"$f":"IF(H10=\"\",\"\",VLOOKUP(H10,Q11:S12,3,0)&\"\")","v":""},null,null,null,null,null,null,null,null,{"$f":"IF(H11=\"\",\"\",VLOOKUP(H11,Q11:T12,4,0)&\"\")","v":""},null,null,null,null,null,null,"はい",null,null,"直近6か月の利用状況を「3.利用状況」に入力してください。"]
[{"$f":"IF(H11=\"\",\"\",VLOOKUP(H11,Q11:R12,2,0)&\"\")","v":""},null,null,null,null,null,null,null,null,"直近1年の利用状況を下表に入力してください",null,null,null,null,null,null,"いいえ","この住居は指定（住居追加）時点から1年以上経過していますか？","この住居は指定（住居追加）時点から6か月以上1年未満ですか？","直近1年又は前年度の利用状況を下表に入力してください"]
[]
["　2.事業所情報"]
["事業所名",null,null,null,null,null,null,null,null,"平均利用者数合計\n（自動計算）",null,{"$f":"IF(H10=\"はい\",E17*0.9,+ROUNDUP(Q35,1))","v":0},"夜間支援対象者数\n（自動計算）",null,{"$f":"IF(H10=\"はい\",E17*0.9,ROUND(Q37,0))","v":0}]
["住居名",null,null,null,null,null,null,null,null,"区分6",null,{"$f":"ROUNDUP(SUMIFS($P:$P,$C:$C,6)/P35,1)","v":0},"区分5",null,{"$f":"ROUNDUP(SUMIFS($P:$P,$C:$C,5)/P35,1)","v":0}]
["住居定員",null,null,null,null,null,null,null,null,"区分4",null,{"$f":"ROUNDUP(SUMIFS($P:$P,$C:$C,4)/P35,1)","v":0},"区分3",null,{"$f":"ROUNDUP(SUMIFS($P:$P,$C:$C,3)/P35,1)","v":0}]
["住居追加日",null,null,null,null,null,null,null,null,"区分2",null,{"$f":"ROUNDUP(SUMIFS($P:$P,$C:$C,2)/P35,1)","v":0},"区分1以下",null,{"$f":"ROUNDUP(SUMIFS($P:$P,$C:$C,\"1以下\")/P35,1)","v":0}]
[null,null,null,null,null,null,null,null,null,null,null,"."]
[]
["　3.利用状況",null,null,null,null,null,null,null,"令和",null,"年度"]
["月","サービス","区分","4月","5月","6月","7月","8月","9月","10月","11月","12月","1月","2月","3月","合計"]
["利用者①（氏名を記入）",null,null,null,null,null,null,null,null,null,null,null,null,null,null,{"$f":"SUM(D23:O23)","v":0}]
["利用者②（氏名を記入）",null,null,null,null,null,null,null,null,null,null,null,null,null,null,{"$f":"SUM(D24:O24)","v":0}]
["利用者③（氏名を記入）",null,null,null,null,null,null,null,null,null,null,null,null,null,null,0]
["利用者④（氏名を記入）",null,null,null,null,null,null,null,null,null,null,null,null,null,null,0]
["利用者⑤（氏名を記入）",null,null,null,null,null,null,null,null,null,null,null,null,null,null,0,6]
["利用者⑥（氏名を記入）",null,null,null,null,null,null,null,null,null,null,null,null,null,null,0,5]
["利用者⑦（氏名を記入）",null,null,null,null,null,null,null,null,null,null,null,null,null,null,0,4]
["利用者⑧（氏名を記入）",null,null,null,null,null,null,null,null,null,null,null,null,null,null,0,3]
["利用者⑨（氏名を記入）",null,null,null,null,null,null,null,null,null,null,null,null,null,null,0,2]
["利用者⑩（氏名を記入）",null,null,null,null,null,null,null,null,null,null,null,null,null,null,0,"1以下"]
["月の延べ利用者数\n（自動計算）",null,null,{"$f":"SUM(D23:D32)","v":0},{"$f":"SUM(E23:E32)","v":0},0,0,0,0,0,0,0,0,0,0,{"$f":"SUM(D33:O33)","v":0}]
["月の延べ利用者数（GH）\n（自動計算）",null,null,{"$f":"SUMIFS(D23:D32,$B$23:$B$32,\"GH\")","v":0},{"$f":"SUMIFS(E23:E32,$B$23:$B$32,\"GH\")","v":0},0,0,0,0,0,0,0,0,0,0,{"$f":"SUM(D34:O34)","v":0}]
["月の開所日数\n(直接入力)",null,null,30,31,30,31,31,30,31,30,31,31,28,31,{"$f":"SUM(D35:O35)","v":365},{"$f":"+P33/P35","v":0}]
[null,null,null,null,null,null,null,null,null,null,null,null,null,null,null,null,{"$f":"+P34/P35","v":0}]
[null,null,null,null,null,null,null,null,null,null,null,null,null,null,null,null,{"$f":"+ROUNDUP(Q36,1)","v":0}]
["※新規指定又は住居追加から6月以上１年未満の間は、直近の6月における全利用者の延べ数を6月間の開所日数で除して得た数以上とする。"]
["　例）令和5年4月に住居追加した場合、9月末を以て、6月間の実績が出ることから、10月から新たな対象者数での算定が可能となる。"]
["※新規指定又は住居追加から1年以上経過している場合は、直近1年間における全利用者の延べ数を1年間の開所日数で除して得た数以上とする。"]

{"sheet":"○○ホーム (18)","index":22,"n_rows":40,"n_cols":20,"rows_kept":40,"cut":false,"hidden":false,"merged":[[11,0,11,6],[11,9,11,15],[1,0,1,15],[9,0,9,6],[9,9,9,15],[10,0,10,6],[10,9,10,15],[14,0,14,3],[14,4,14,8],[14,9,14,10],[14,12,14,13],[15,0,15,3],[15,4,15,8],[15,9,15,10],[15,12,15,13],[16,0,16,3],[16,4,16,8],[16,9,16,10],[16,12,16,13],[17,0,17,3],[17,4,17,8],[17,9,17,10],[17,12,17,13]]}
[null,null,null,null,null,null,null,null,null,null,null,null,null,null,null,"（体制付表５－１９）"]
["共同生活援助事業所における前年度平均利用者数等の算定資料\n（兼夜間支援対象者数の根拠資料）"]
[]
["0.作成要領"]
["・このシートは1住居に1シート作成してください。緑色のセルは選択、ピンク色のセルは入力が必要なセルです。"]
["・全て入力が終わったら、「集計用シート」を確認し、当該数値を「体制付表5-25」へ転記してください。"]
["・複数の住居がある場合、シートのコピーは行わず、予め用意したシートに入力してください。（数式が壊れ、うまく集計ができなくなります）"]
[]
["　1.はじめに"]
["この住居は指定（住居追加）時点から６か月未満ですか？",null,null,null,null,null,null,null,null,{"$f":"IF(H10=\"はい\",\"区分毎の平均利用者数は推定値で入力してください。\",\"\")","v":""}]
[{"$f":"IF(H10=\"\",\"\",VLOOKUP(H10,Q11:S12,3,0)&\"\")","v":""},null,null,null,null,null,null,null,null,{"$f":"IF(H11=\"\",\"\",VLOOKUP(H11,Q11:T12,4,0)&\"\")","v":""},null,null,null,null,null,null,"はい",null,null,"直近6か月の利用状況を「3.利用状況」に入力してください。"]
[{"$f":"IF(H11=\"\",\"\",VLOOKUP(H11,Q11:R12,2,0)&\"\")","v":""},null,null,null,null,null,null,null,null,"直近1年の利用状況を下表に入力してください",null,null,null,null,null,null,"いいえ","この住居は指定（住居追加）時点から1年以上経過していますか？","この住居は指定（住居追加）時点から6か月以上1年未満ですか？","直近1年又は前年度の利用状況を下表に入力してください"]
[]
["　2.事業所情報"]
["事業所名",null,null,null,null,null,null,null,null,"平均利用者数合計\n（自動計算）",null,{"$f":"IF(H10=\"はい\",E17*0.9,+ROUNDUP(Q35,1))","v":0},"夜間支援対象者数\n（自動計算）",null,{"$f":"IF(H10=\"はい\",E17*0.9,ROUND(Q37,0))","v":0}]
["住居名",null,null,null,null,null,null,null,null,"区分6",null,{"$f":"ROUNDUP(SUMIFS($P:$P,$C:$C,6)/P35,1)","v":0},"区分5",null,{"$f":"ROUNDUP(SUMIFS($P:$P,$C:$C,5)/P35,1)","v":0}]
["住居定員",null,null,null,null,null,null,null,null,"区分4",null,{"$f":"ROUNDUP(SUMIFS($P:$P,$C:$C,4)/P35,1)","v":0},"区分3",null,{"$f":"ROUNDUP(SUMIFS($P:$P,$C:$C,3)/P35,1)","v":0}]
["住居追加日",null,null,null,null,null,null,null,null,"区分2",null,{"$f":"ROUNDUP(SUMIFS($P:$P,$C:$C,2)/P35,1)","v":0},"区分1以下",null,{"$f":"ROUNDUP(SUMIFS($P:$P,$C:$C,\"1以下\")/P35,1)","v":0}]
[null,null,null,null,null,null,null,null,null,null,null,"."]
[]
["　3.利用状況",null,null,null,null,null,null,null,"令和",null,"年度"]
["月","サービス","区分","4月","5月","6月","7月","8月","9月","10月","11月","12月","1月","2月","3月","合計"]
["利用者①（氏名を記入）",null,null,null,null,null,null,null,null,null,null,null,null,null,null,{"$f":"SUM(D23:O23)","v":0}]
["利用者②（氏名を記入）",null,null,null,null,null,null,null,null,null,null,null,null,null,null,{"$f":"SUM(D24:O24)","v":0}]
["利用者③（氏名を記入）",null,null,null,null,null,null,null,null,null,null,null,null,null,null,0]
["利用者④（氏名を記入）",null,null,null,null,null,null,null,null,null,null,null,null,null,null,0]
["利用者⑤（氏名を記入）",null,null,null,null,null,null,null,null,null,null,null,null,null,null,0,6]
["利用者⑥（氏名を記入）",null,null,null,null,null,null,null,null,null,null,null,null,null,null,0,5]
["利用者⑦（氏名を記入）",null,null,null,null,null,null,null,null,null,null,null,null,null,null,0,4]
["利用者⑧（氏名を記入）",null,null,null,null,null,null,null,null,null,null,null,null,null,null,0,3]
["利用者⑨（氏名を記入）",null,null,null,null,null,null,null,null,null,null,null,null,null,null,0,2]
["利用者⑩（氏名を記入）",null,null,null,null,null,null,null,null,null,null,null,null,null,null,0,"1以下"]
["月の延べ利用者数\n（自動計算）",null,null,{"$f":"SUM(D23:D32)","v":0},{"$f":"SUM(E23:E32)","v":0},0,0,0,0,0,0,0,0,0,0,{"$f":"SUM(D33:O33)","v":0}]
["月の延べ利用者数（GH）\n（自動計算）",null,null,{"$f":"SUMIFS(D23:D32,$B$23:$B$32,\"GH\")","v":0},{"$f":"SUMIFS(E23:E32,$B$23:$B$32,\"GH\")","v":0},0,0,0,0,0,0,0,0,0,0,{"$f":"SUM(D34:O34)","v":0}]
["月の開所日数\n(直接入力)",null,null,30,31,30,31,31,30,31,30,31,31,28,31,{"$f":"SUM(D35:O35)","v":365},{"$f":"+P33/P35","v":0}]
[null,null,null,null,null,null,null,null,null,null,null,null,null,null,null,null,{"$f":"+P34/P35","v":0}]
[null,null,null,null,null,null,null,null,null,null,null,null,null,null,null,null,{"$f":"+ROUNDUP(Q36,1)","v":0}]
["※新規指定又は住居追加から6月以上１年未満の間は、直近の6月における全利用者の延べ数を6月間の開所日数で除して得た数以上とする。"]
["　例）令和5年4月に住居追加した場合、9月末を以て、6月間の実績が出ることから、10月から新たな対象者数での算定が可能となる。"]
["※新規指定又は住居追加から1年以上経過している場合は、直近1年間における全利用者の延べ数を1年間の開所日数で除して得た数以上とする。"]

{"sheet":"○○ホーム (19)","index":23,"n_rows":40,"n_cols":20,"rows_kept":40,"cut":false,"hidden":false,"merged":[[11,0,11,6],[11,9,11,15],[1,0,1,15],[9,0,9,6],[9,9,9,15],[10,0,10,6],[10,9,10,15],[14,0,14,3],[14,4,14,8],[14,9,14,10],[14,12,14,13],[15,0,15,3],[15,4,15,8],[15,9,15,10],[15,12,15,13],[16,0,16,3],[16,4,16,8],[16,9,16,10],[16,12,16,13],[17,0,17,3],[17,4,17,8],[17,9,17,10],[17,12,17,13]]}
[null,null,null,null,null,null,null,null,null,null,null,null,null,null,null,"（体制付表５－１９）"]
["共同生活援助事業所における前年度平均利用者数等の算定資料\n（兼夜間支援対象者数の根拠資料）"]
[]
["0.作成要領"]
["・このシートは1住居に1シート作成してください。緑色のセルは選択、ピンク色のセルは入力が必要なセルです。"]
["・全て入力が終わったら、「集計用シート」を確認し、当該数値を「体制付表5-25」へ転記してください。"]
["・複数の住居がある場合、シートのコピーは行わず、予め用意したシートに入力してください。（数式が壊れ、うまく集計ができなくなります）"]
[]
["　1.はじめに"]
["この住居は指定（住居追加）時点から６か月未満ですか？",null,null,null,null,null,null,null,null,{"$f":"IF(H10=\"はい\",\"区分毎の平均利用者数は推定値で入力してください。\",\"\")","v":""}]
[{"$f":"IF(H10=\"\",\"\",VLOOKUP(H10,Q11:S12,3,0)&\"\")","v":""},null,null,null,null,null,null,null,null,{"$f":"IF(H11=\"\",\"\",VLOOKUP(H11,Q11:T12,4,0)&\"\")","v":""},null,null,null,null,null,null,"はい",null,null,"直近6か月の利用状況を「3.利用状況」に入力してください。"]
[{"$f":"IF(H11=\"\",\"\",VLOOKUP(H11,Q11:R12,2,0)&\"\")","v":""},null,null,null,null,null,null,null,null,"直近1年の利用状況を下表に入力してください",null,null,null,null,null,null,"いいえ","この住居は指定（住居追加）時点から1年以上経過していますか？","この住居は指定（住居追加）時点から6か月以上1年未満ですか？","直近1年又は前年度の利用状況を下表に入力してください"]
[]
["　2.事業所情報"]
["事業所名",null,null,null,null,null,null,null,null,"平均利用者数合計\n（自動計算）",null,{"$f":"IF(H10=\"はい\",E17*0.9,+ROUNDUP(Q35,1))","v":0},"夜間支援対象者数\n（自動計算）",null,{"$f":"IF(H10=\"はい\",E17*0.9,ROUND(Q37,0))","v":0}]
["住居名",null,null,null,null,null,null,null,null,"区分6",null,{"$f":"ROUNDUP(SUMIFS($P:$P,$C:$C,6)/P35,1)","v":0},"区分5",null,{"$f":"ROUNDUP(SUMIFS($P:$P,$C:$C,5)/P35,1)","v":0}]
["住居定員",null,null,null,null,null,null,null,null,"区分4",null,{"$f":"ROUNDUP(SUMIFS($P:$P,$C:$C,4)/P35,1)","v":0},"区分3",null,{"$f":"ROUNDUP(SUMIFS($P:$P,$C:$C,3)/P35,1)","v":0}]
["住居追加日",null,null,null,null,null,null,null,null,"区分2",null,{"$f":"ROUNDUP(SUMIFS($P:$P,$C:$C,2)/P35,1)","v":0},"区分1以下",null,{"$f":"ROUNDUP(SUMIFS($P:$P,$C:$C,\"1以下\")/P35,1)","v":0}]
[null,null,null,null,null,null,null,null,null,null,null,"."]
[]
["　3.利用状況",null,null,null,null,null,null,null,"令和",null,"年度"]
["月","サービス","区分","4月","5月","6月","7月","8月","9月","10月","11月","12月","1月","2月","3月","合計"]
["利用者①（氏名を記入）",null,null,null,null,null,null,null,null,null,null,null,null,null,null,{"$f":"SUM(D23:O23)","v":0}]
["利用者②（氏名を記入）",null,null,null,null,null,null,null,null,null,null,null,null,null,null,{"$f":"SUM(D24:O24)","v":0}]
["利用者③（氏名を記入）",null,null,null,null,null,null,null,null,null,null,null,null,null,null,0]
["利用者④（氏名を記入）",null,null,null,null,null,null,null,null,null,null,null,null,null,null,0]
["利用者⑤（氏名を記入）",null,null,null,null,null,null,null,null,null,null,null,null,null,null,0,6]
["利用者⑥（氏名を記入）",null,null,null,null,null,null,null,null,null,null,null,null,null,null,0,5]
["利用者⑦（氏名を記入）",null,null,null,null,null,null,null,null,null,null,null,null,null,null,0,4]
["利用者⑧（氏名を記入）",null,null,null,null,null,null,null,null,null,null,null,null,null,null,0,3]
["利用者⑨（氏名を記入）",null,null,null,null,null,null,null,null,null,null,null,null,null,null,0,2]
["利用者⑩（氏名を記入）",null,null,null,null,null,null,null,null,null,null,null,null,null,null,0,"1以下"]
["月の延べ利用者数\n（自動計算）",null,null,{"$f":"SUM(D23:D32)","v":0},{"$f":"SUM(E23:E32)","v":0},0,0,0,0,0,0,0,0,0,0,{"$f":"SUM(D33:O33)","v":0}]
["月の延べ利用者数（GH）\n（自動計算）",null,null,{"$f":"SUMIFS(D23:D32,$B$23:$B$32,\"GH\")","v":0},{"$f":"SUMIFS(E23:E32,$B$23:$B$32,\"GH\")","v":0},0,0,0,0,0,0,0,0,0,0,{"$f":"SUM(D34:O34)","v":0}]
["月の開所日数\n(直接入力)",null,null,30,31,30,31,31,30,31,30,31,31,28,31,{"$f":"SUM(D35:O35)","v":365},{"$f":"+P33/P35","v":0}]
[null,null,null,null,null,null,null,null,null,null,null,null,null,null,null,null,{"$f":"+P34/P35","v":0}]
[null,null,null,null,null,null,null,null,null,null,null,null,null,null,null,null,{"$f":"+ROUNDUP(Q36,1)","v":0}]
["※新規指定又は住居追加から6月以上１年未満の間は、直近の6月における全利用者の延べ数を6月間の開所日数で除して得た数以上とする。"]
["　例）令和5年4月に住居追加した場合、9月末を以て、6月間の実績が出ることから、10月から新たな対象者数での算定が可能となる。"]
["※新規指定又は住居追加から1年以上経過している場合は、直近1年間における全利用者の延べ数を1年間の開所日数で除して得た数以上とする。"]

{"sheet":"○○ホーム (20)","index":24,"n_rows":40,"n_cols":20,"rows_kept":40,"cut":false,"hidden":false,"merged":[[11,0,11,6],[11,9,11,15],[1,0,1,15],[9,0,9,6],[9,9,9,15],[10,0,10,6],[10,9,10,15],[14,0,14,3],[14,4,14,8],[14,9,14,10],[14,12,14,13],[15,0,15,3],[15,4,15,8],[15,9,15,10],[15,12,15,13],[16,0,16,3],[16,4,16,8],[16,9,16,10],[16,12,16,13],[17,0,17,3],[17,4,17,8],[17,9,17,10],[17,12,17,13]]}
[null,null,null,null,null,null,null,null,null,null,null,null,null,null,null,"（体制付表５－１９）"]
["共同生活援助事業所における前年度平均利用者数等の算定資料\n（兼夜間支援対象者数の根拠資料）"]
[]
["0.作成要領"]
["・このシートは1住居に1シート作成してください。緑色のセルは選択、ピンク色のセルは入力が必要なセルです。"]
["・全て入力が終わったら、「集計用シート」を確認し、当該数値を「体制付表5-25」へ転記してください。"]
["・複数の住居がある場合、シートのコピーは行わず、予め用意したシートに入力してください。（数式が壊れ、うまく集計ができなくなります）"]
[]
["　1.はじめに"]
["この住居は指定（住居追加）時点から６か月未満ですか？",null,null,null,null,null,null,null,null,{"$f":"IF(H10=\"はい\",\"区分毎の平均利用者数は推定値で入力してください。\",\"\")","v":""}]
[{"$f":"IF(H10=\"\",\"\",VLOOKUP(H10,Q11:S12,3,0)&\"\")","v":""},null,null,null,null,null,null,null,null,{"$f":"IF(H11=\"\",\"\",VLOOKUP(H11,Q11:T12,4,0)&\"\")","v":""},null,null,null,null,null,null,"はい",null,null,"直近6か月の利用状況を「3.利用状況」に入力してください。"]
[{"$f":"IF(H11=\"\",\"\",VLOOKUP(H11,Q11:R12,2,0)&\"\")","v":""},null,null,null,null,null,null,null,null,"直近1年の利用状況を下表に入力してください",null,null,null,null,null,null,"いいえ","この住居は指定（住居追加）時点から1年以上経過していますか？","この住居は指定（住居追加）時点から6か月以上1年未満ですか？","直近1年又は前年度の利用状況を下表に入力してください"]
[]
["　2.事業所情報"]
["事業所名",null,null,null,null,null,null,null,null,"平均利用者数合計\n（自動計算）",null,{"$f":"IF(H10=\"はい\",E17*0.9,+ROUNDUP(Q35,1))","v":0},"夜間支援対象者数\n（自動計算）",null,{"$f":"IF(H10=\"はい\",E17*0.9,ROUND(Q37,0))","v":0}]
["住居名",null,null,null,null,null,null,null,null,"区分6",null,{"$f":"ROUNDUP(SUMIFS($P:$P,$C:$C,6)/P35,1)","v":0},"区分5",null,{"$f":"ROUNDUP(SUMIFS($P:$P,$C:$C,5)/P35,1)","v":0}]
["住居定員",null,null,null,null,null,null,null,null,"区分4",null,{"$f":"ROUNDUP(SUMIFS($P:$P,$C:$C,4)/P35,1)","v":0},"区分3",null,{"$f":"ROUNDUP(SUMIFS($P:$P,$C:$C,3)/P35,1)","v":0}]
["住居追加日",null,null,null,null,null,null,null,null,"区分2",null,{"$f":"ROUNDUP(SUMIFS($P:$P,$C:$C,2)/P35,1)","v":0},"区分1以下",null,{"$f":"ROUNDUP(SUMIFS($P:$P,$C:$C,\"1以下\")/P35,1)","v":0}]
[null,null,null,null,null,null,null,null,null,null,null,"."]
[]
["　3.利用状況",null,null,null,null,null,null,null,"令和",null,"年度"]
["月","サービス","区分","4月","5月","6月","7月","8月","9月","10月","11月","12月","1月","2月","3月","合計"]
["利用者①（氏名を記入）",null,null,null,null,null,null,null,null,null,null,null,null,null,null,{"$f":"SUM(D23:O23)","v":0}]
["利用者②（氏名を記入）",null,null,null,null,null,null,null,null,null,null,null,null,null,null,{"$f":"SUM(D24:O24)","v":0}]
["利用者③（氏名を記入）",null,null,null,null,null,null,null,null,null,null,null,null,null,null,0]
["利用者④（氏名を記入）",null,null,null,null,null,null,null,null,null,null,null,null,null,null,0]
["利用者⑤（氏名を記入）",null,null,null,null,null,null,null,null,null,null,null,null,null,null,0,6]
["利用者⑥（氏名を記入）",null,null,null,null,null,null,null,null,null,null,null,null,null,null,0,5]
["利用者⑦（氏名を記入）",null,null,null,null,null,null,null,null,null,null,null,null,null,null,0,4]
["利用者⑧（氏名を記入）",null,null,null,null,null,null,null,null,null,null,null,null,null,null,0,3]
["利用者⑨（氏名を記入）",null,null,null,null,null,null,null,null,null,null,null,null,null,null,0,2]
["利用者⑩（氏名を記入）",null,null,null,null,null,null,null,null,null,null,null,null,null,null,0,"1以下"]
["月の延べ利用者数\n（自動計算）",null,null,{"$f":"SUM(D23:D32)","v":0},{"$f":"SUM(E23:E32)","v":0},0,0,0,0,0,0,0,0,0,0,{"$f":"SUM(D33:O33)","v":0}]
["月の延べ利用者数（GH）\n（自動計算）",null,null,{"$f":"SUMIFS(D23:D32,$B$23:$B$32,\"GH\")","v":0},{"$f":"SUMIFS(E23:E32,$B$23:$B$32,\"GH\")","v":0},0,0,0,0,0,0,0,0,0,0,{"$f":"SUM(D34:O34)","v":0}]
["月の開所日数\n(直接入力)",null,null,30,31,30,31,31,30,31,30,31,31,28,31,{"$f":"SUM(D35:O35)","v":365},{"$f":"+P33/P35","v":0}]
[null,null,null,null,null,null,null,null,null,null,null,null,null,null,null,null,{"$f":"+P34/P35","v":0}]
[null,null,null,null,null,null,null,null,null,null,null,null,null,null,null,null,{"$f":"+ROUNDUP(Q36,1)","v":0}]
["※新規指定又は住居追加から6月以上１年未満の間は、直近の6月における全利用者の延べ数を6月間の開所日数で除して得た数以上とする。"]
["　例）令和5年4月に住居追加した場合、9月末を以て、6月間の実績が出ることから、10月から新たな対象者数での算定が可能となる。"]
["※新規指定又は住居追加から1年以上経過している場合は、直近1年間における全利用者の延べ数を1年間の開所日数で除して得た数以上とする。"]

{"sheet":"○○ホーム (21)","index":25,"n_rows":40,"n_cols":20,"rows_kept":40,"cut":false,"hidden":false,"merged":[[11,0,11,6],[11,9,11,15],[1,0,1,15],[9,0,9,6],[9,9,9,15],[10,0,10,6],[10,9,10,15],[14,0,14,3],[14,4,14,8],[14,9,14,10],[14,12,14,13],[15,0,15,3],[15,4,15,8],[15,9,15,10],[15,12,15,13],[16,0,16,3],[16,4,16,8],[16,9,16,10],[16,12,16,13],[17,0,17,3],[17,4,17,8],[17,9,17,10],[17,12,17,13]]}
[null,null,null,null,null,null,null,null,null,null,null,null,null,null,null,"（体制付表５－１９）"]
["共同生活援助事業所における前年度平均利用者数等の算定資料\n（兼夜間支援対象者数の根拠資料）"]
[]
["0.作成要領"]
["・このシートは1住居に1シート作成してください。緑色のセルは選択、ピンク色のセルは入力が必要なセルです。"]
["・全て入力が終わったら、「集計用シート」を確認し、当該数値を「体制付表5-25」へ転記してください。"]
["・複数の住居がある場合、シートのコピーは行わず、予め用意したシートに入力してください。（数式が壊れ、うまく集計ができなくなります）"]
[]
["　1.はじめに"]
["この住居は指定（住居追加）時点から６か月未満ですか？",null,null,null,null,null,null,null,null,{"$f":"IF(H10=\"はい\",\"区分毎の平均利用者数は推定値で入力してください。\",\"\")","v":""}]
[{"$f":"IF(H10=\"\",\"\",VLOOKUP(H10,Q11:S12,3,0)&\"\")","v":""},null,null,null,null,null,null,null,null,{"$f":"IF(H11=\"\",\"\",VLOOKUP(H11,Q11:T12,4,0)&\"\")","v":""},null,null,null,null,null,null,"はい",null,null,"直近6か月の利用状況を「3.利用状況」に入力してください。"]
[{"$f":"IF(H11=\"\",\"\",VLOOKUP(H11,Q11:R12,2,0)&\"\")","v":""},null,null,null,null,null,null,null,null,"直近1年の利用状況を下表に入力してください",null,null,null,null,null,null,"いいえ","この住居は指定（住居追加）時点から1年以上経過していますか？","この住居は指定（住居追加）時点から6か月以上1年未満ですか？","直近1年又は前年度の利用状況を下表に入力してください"]
[]
["　2.事業所情報"]
["事業所名",null,null,null,null,null,null,null,null,"平均利用者数合計\n（自動計算）",null,{"$f":"IF(H10=\"はい\",E17*0.9,+ROUNDUP(Q35,1))","v":0},"夜間支援対象者数\n（自動計算）",null,{"$f":"IF(H10=\"はい\",E17*0.9,ROUND(Q37,0))","v":0}]
["住居名",null,null,null,null,null,null,null,null,"区分6",null,{"$f":"ROUNDUP(SUMIFS($P:$P,$C:$C,6)/P35,1)","v":0},"区分5",null,{"$f":"ROUNDUP(SUMIFS($P:$P,$C:$C,5)/P35,1)","v":0}]
["住居定員",null,null,null,null,null,null,null,null,"区分4",null,{"$f":"ROUNDUP(SUMIFS($P:$P,$C:$C,4)/P35,1)","v":0},"区分3",null,{"$f":"ROUNDUP(SUMIFS($P:$P,$C:$C,3)/P35,1)","v":0}]
["住居追加日",null,null,null,null,null,null,null,null,"区分2",null,{"$f":"ROUNDUP(SUMIFS($P:$P,$C:$C,2)/P35,1)","v":0},"区分1以下",null,{"$f":"ROUNDUP(SUMIFS($P:$P,$C:$C,\"1以下\")/P35,1)","v":0}]
[null,null,null,null,null,null,null,null,null,null,null,"."]
[]
["　3.利用状況",null,null,null,null,null,null,null,"令和",null,"年度"]
["月","サービス","区分","4月","5月","6月","7月","8月","9月","10月","11月","12月","1月","2月","3月","合計"]
["利用者①（氏名を記入）",null,null,null,null,null,null,null,null,null,null,null,null,null,null,{"$f":"SUM(D23:O23)","v":0}]
["利用者②（氏名を記入）",null,null,null,null,null,null,null,null,null,null,null,null,null,null,{"$f":"SUM(D24:O24)","v":0}]
["利用者③（氏名を記入）",null,null,null,null,null,null,null,null,null,null,null,null,null,null,0]
["利用者④（氏名を記入）",null,null,null,null,null,null,null,null,null,null,null,null,null,null,0]
["利用者⑤（氏名を記入）",null,null,null,null,null,null,null,null,null,null,null,null,null,null,0,6]
["利用者⑥（氏名を記入）",null,null,null,null,null,null,null,null,null,null,null,null,null,null,0,5]
["利用者⑦（氏名を記入）",null,null,null,null,null,null,null,null,null,null,null,null,null,null,0,4]
["利用者⑧（氏名を記入）",null,null,null,null,null,null,null,null,null,null,null,null,null,null,0,3]
["利用者⑨（氏名を記入）",null,null,null,null,null,null,null,null,null,null,null,null,null,null,0,2]
["利用者⑩（氏名を記入）",null,null,null,null,null,null,null,null,null,null,null,null,null,null,0,"1以下"]
["月の延べ利用者数\n（自動計算）",null,null,{"$f":"SUM(D23:D32)","v":0},{"$f":"SUM(E23:E32)","v":0},0,0,0,0,0,0,0,0,0,0,{"$f":"SUM(D33:O33)","v":0}]
["月の延べ利用者数（GH）\n（自動計算）",null,null,{"$f":"SUMIFS(D23:D32,$B$23:$B$32,\"GH\")","v":0},{"$f":"SUMIFS(E23:E32,$B$23:$B$32,\"GH\")","v":0},0,0,0,0,0,0,0,0,0,0,{"$f":"SUM(D34:O34)","v":0}]
["月の開所日数\n(直接入力)",null,null,30,31,30,31,31,30,31,30,31,31,28,31,{"$f":"SUM(D35:O35)","v":365},{"$f":"+P33/P35","v":0}]
[null,null,null,null,null,null,null,null,null,null,null,null,null,null,null,null,{"$f":"+P34/P35","v":0}]
[null,null,null,null,null,null,null,null,null,null,null,null,null,null,null,null,{"$f":"+ROUNDUP(Q36,1)","v":0}]
["※新規指定又は住居追加から6月以上１年未満の間は、直近の6月における全利用者の延べ数を6月間の開所日数で除して得た数以上とする。"]
["　例）令和5年4月に住居追加した場合、9月末を以て、6月間の実績が出ることから、10月から新たな対象者数での算定が可能となる。"]
["※新規指定又は住居追加から1年以上経過している場合は、直近1年間における全利用者の延べ数を1年間の開所日数で除して得た数以上とする。"]

{"sheet":"○○ホーム (22)","index":26,"n_rows":40,"n_cols":20,"rows_kept":40,"cut":false,"hidden":false,"merged":[[11,0,11,6],[11,9,11,15],[1,0,1,15],[9,0,9,6],[9,9,9,15],[10,0,10,6],[10,9,10,15],[14,0,14,3],[14,4,14,8],[14,9,14,10],[14,12,14,13],[15,0,15,3],[15,4,15,8],[15,9,15,10],[15,12,15,13],[16,0,16,3],[16,4,16,8],[16,9,16,10],[16,12,16,13],[17,0,17,3],[17,4,17,8],[17,9,17,10],[17,12,17,13]]}
[null,null,null,null,null,null,null,null,null,null,null,null,null,null,null,"（体制付表５－１９）"]
["共同生活援助事業所における前年度平均利用者数等の算定資料\n（兼夜間支援対象者数の根拠資料）"]
[]
["0.作成要領"]
["・このシートは1住居に1シート作成してください。緑色のセルは選択、ピンク色のセルは入力が必要なセルです。"]
["・全て入力が終わったら、「集計用シート」を確認し、当該数値を「体制付表5-25」へ転記してください。"]
["・複数の住居がある場合、シートのコピーは行わず、予め用意したシートに入力してください。（数式が壊れ、うまく集計ができなくなります）"]
[]
["　1.はじめに"]
["この住居は指定（住居追加）時点から６か月未満ですか？",null,null,null,null,null,null,null,null,{"$f":"IF(H10=\"はい\",\"区分毎の平均利用者数は推定値で入力してください。\",\"\")","v":""}]
[{"$f":"IF(H10=\"\",\"\",VLOOKUP(H10,Q11:S12,3,0)&\"\")","v":""},null,null,null,null,null,null,null,null,{"$f":"IF(H11=\"\",\"\",VLOOKUP(H11,Q11:T12,4,0)&\"\")","v":""},null,null,null,null,null,null,"はい",null,null,"直近6か月の利用状況を「3.利用状況」に入力してください。"]
[{"$f":"IF(H11=\"\",\"\",VLOOKUP(H11,Q11:R12,2,0)&\"\")","v":""},null,null,null,null,null,null,null,null,"直近1年の利用状況を下表に入力してください",null,null,null,null,null,null,"いいえ","この住居は指定（住居追加）時点から1年以上経過していますか？","この住居は指定（住居追加）時点から6か月以上1年未満ですか？","直近1年又は前年度の利用状況を下表に入力してください"]
[]
["　2.事業所情報"]
["事業所名",null,null,null,null,null,null,null,null,"平均利用者数合計\n（自動計算）",null,{"$f":"IF(H10=\"はい\",E17*0.9,+ROUNDUP(Q35,1))","v":0},"夜間支援対象者数\n（自動計算）",null,{"$f":"IF(H10=\"はい\",E17*0.9,ROUND(Q37,0))","v":0}]
["住居名",null,null,null,null,null,null,null,null,"区分6",null,{"$f":"ROUNDUP(SUMIFS($P:$P,$C:$C,6)/P35,1)","v":0},"区分5",null,{"$f":"ROUNDUP(SUMIFS($P:$P,$C:$C,5)/P35,1)","v":0}]
["住居定員",null,null,null,null,null,null,null,null,"区分4",null,{"$f":"ROUNDUP(SUMIFS($P:$P,$C:$C,4)/P35,1)","v":0},"区分3",null,{"$f":"ROUNDUP(SUMIFS($P:$P,$C:$C,3)/P35,1)","v":0}]
["住居追加日",null,null,null,null,null,null,null,null,"区分2",null,{"$f":"ROUNDUP(SUMIFS($P:$P,$C:$C,2)/P35,1)","v":0},"区分1以下",null,{"$f":"ROUNDUP(SUMIFS($P:$P,$C:$C,\"1以下\")/P35,1)","v":0}]
[null,null,null,null,null,null,null,null,null,null,null,"."]
[]
["　3.利用状況",null,null,null,null,null,null,null,"令和",null,"年度"]
["月","サービス","区分","4月","5月","6月","7月","8月","9月","10月","11月","12月","1月","2月","3月","合計"]
["利用者①（氏名を記入）",null,null,null,null,null,null,null,null,null,null,null,null,null,null,{"$f":"SUM(D23:O23)","v":0}]
["利用者②（氏名を記入）",null,null,null,null,null,null,null,null,null,null,null,null,null,null,{"$f":"SUM(D24:O24)","v":0}]
["利用者③（氏名を記入）",null,null,null,null,null,null,null,null,null,null,null,null,null,null,0]
["利用者④（氏名を記入）",null,null,null,null,null,null,null,null,null,null,null,null,null,null,0]
["利用者⑤（氏名を記入）",null,null,null,null,null,null,null,null,null,null,null,null,null,null,0,6]
["利用者⑥（氏名を記入）",null,null,null,null,null,null,null,null,null,null,null,null,null,null,0,5]
["利用者⑦（氏名を記入）",null,null,null,null,null,null,null,null,null,null,null,null,null,null,0,4]
["利用者⑧（氏名を記入）",null,null,null,null,null,null,null,null,null,null,null,null,null,null,0,3]
["利用者⑨（氏名を記入）",null,null,null,null,null,null,null,null,null,null,null,null,null,null,0,2]
["利用者⑩（氏名を記入）",null,null,null,null,null,null,null,null,null,null,null,null,null,null,0,"1以下"]
["月の延べ利用者数\n（自動計算）",null,null,{"$f":"SUM(D23:D32)","v":0},{"$f":"SUM(E23:E32)","v":0},0,0,0,0,0,0,0,0,0,0,{"$f":"SUM(D33:O33)","v":0}]
["月の延べ利用者数（GH）\n（自動計算）",null,null,{"$f":"SUMIFS(D23:D32,$B$23:$B$32,\"GH\")","v":0},{"$f":"SUMIFS(E23:E32,$B$23:$B$32,\"GH\")","v":0},0,0,0,0,0,0,0,0,0,0,{"$f":"SUM(D34:O34)","v":0}]
["月の開所日数\n(直接入力)",null,null,30,31,30,31,31,30,31,30,31,31,28,31,{"$f":"SUM(D35:O35)","v":365},{"$f":"+P33/P35","v":0}]
[null,null,null,null,null,null,null,null,null,null,null,null,null,null,null,null,{"$f":"+P34/P35","v":0}]
[null,null,null,null,null,null,null,null,null,null,null,null,null,null,null,null,{"$f":"+ROUNDUP(Q36,1)","v":0}]
["※新規指定又は住居追加から6月以上１年未満の間は、直近の6月における全利用者の延べ数を6月間の開所日数で除して得た数以上とする。"]
["　例）令和5年4月に住居追加した場合、9月末を以て、6月間の実績が出ることから、10月から新たな対象者数での算定が可能となる。"]
["※新規指定又は住居追加から1年以上経過している場合は、直近1年間における全利用者の延べ数を1年間の開所日数で除して得た数以上とする。"]

{"sheet":"○○ホーム (23)","index":27,"n_rows":40,"n_cols":20,"rows_kept":40,"cut":false,"hidden":false,"merged":[[11,0,11,6],[11,9,11,15],[1,0,1,15],[9,0,9,6],[9,9,9,15],[10,0,10,6],[10,9,10,15],[14,0,14,3],[14,4,14,8],[14,9,14,10],[14,12,14,13],[15,0,15,3],[15,4,15,8],[15,9,15,10],[15,12,15,13],[16,0,16,3],[16,4,16,8],[16,9,16,10],[16,12,16,13],[17,0,17,3],[17,4,17,8],[17,9,17,10],[17,12,17,13]]}
[null,null,null,null,null,null,null,null,null,null,null,null,null,null,null,"（体制付表５－１９）"]
["共同生活援助事業所における前年度平均利用者数等の算定資料\n（兼夜間支援対象者数の根拠資料）"]
[]
["0.作成要領"]
["・このシートは1住居に1シート作成してください。緑色のセルは選択、ピンク色のセルは入力が必要なセルです。"]
["・全て入力が終わったら、「集計用シート」を確認し、当該数値を「体制付表5-25」へ転記してください。"]
["・複数の住居がある場合、シートのコピーは行わず、予め用意したシートに入力してください。（数式が壊れ、うまく集計ができなくなります）"]
[]
["　1.はじめに"]
["この住居は指定（住居追加）時点から６か月未満ですか？",null,null,null,null,null,null,null,null,{"$f":"IF(H10=\"はい\",\"区分毎の平均利用者数は推定値で入力してください。\",\"\")","v":""}]
[{"$f":"IF(H10=\"\",\"\",VLOOKUP(H10,Q11:S12,3,0)&\"\")","v":""},null,null,null,null,null,null,null,null,{"$f":"IF(H11=\"\",\"\",VLOOKUP(H11,Q11:T12,4,0)&\"\")","v":""},null,null,null,null,null,null,"はい",null,null,"直近6か月の利用状況を「3.利用状況」に入力してください。"]
[{"$f":"IF(H11=\"\",\"\",VLOOKUP(H11,Q11:R12,2,0)&\"\")","v":""},null,null,null,null,null,null,null,null,"直近1年の利用状況を下表に入力してください",null,null,null,null,null,null,"いいえ","この住居は指定（住居追加）時点から1年以上経過していますか？","この住居は指定（住居追加）時点から6か月以上1年未満ですか？","直近1年又は前年度の利用状況を下表に入力してください"]
[]
["　2.事業所情報"]
["事業所名",null,null,null,null,null,null,null,null,"平均利用者数合計\n（自動計算）",null,{"$f":"IF(H10=\"はい\",E17*0.9,+ROUNDUP(Q35,1))","v":0},"夜間支援対象者数\n（自動計算）",null,{"$f":"IF(H10=\"はい\",E17*0.9,ROUND(Q37,0))","v":0}]
["住居名",null,null,null,null,null,null,null,null,"区分6",null,{"$f":"ROUNDUP(SUMIFS($P:$P,$C:$C,6)/P35,1)","v":0},"区分5",null,{"$f":"ROUNDUP(SUMIFS($P:$P,$C:$C,5)/P35,1)","v":0}]
["住居定員",null,null,null,null,null,null,null,null,"区分4",null,{"$f":"ROUNDUP(SUMIFS($P:$P,$C:$C,4)/P35,1)","v":0},"区分3",null,{"$f":"ROUNDUP(SUMIFS($P:$P,$C:$C,3)/P35,1)","v":0}]
["住居追加日",null,null,null,null,null,null,null,null,"区分2",null,{"$f":"ROUNDUP(SUMIFS($P:$P,$C:$C,2)/P35,1)","v":0},"区分1以下",null,{"$f":"ROUNDUP(SUMIFS($P:$P,$C:$C,\"1以下\")/P35,1)","v":0}]
[null,null,null,null,null,null,null,null,null,null,null,"."]
[]
["　3.利用状況",null,null,null,null,null,null,null,"令和",null,"年度"]
["月","サービス","区分","4月","5月","6月","7月","8月","9月","10月","11月","12月","1月","2月","3月","合計"]
["利用者①（氏名を記入）",null,null,null,null,null,null,null,null,null,null,null,null,null,null,{"$f":"SUM(D23:O23)","v":0}]
["利用者②（氏名を記入）",null,null,null,null,null,null,null,null,null,null,null,null,null,null,{"$f":"SUM(D24:O24)","v":0}]
["利用者③（氏名を記入）",null,null,null,null,null,null,null,null,null,null,null,null,null,null,0]
["利用者④（氏名を記入）",null,null,null,null,null,null,null,null,null,null,null,null,null,null,0]
["利用者⑤（氏名を記入）",null,null,null,null,null,null,null,null,null,null,null,null,null,null,0,6]
["利用者⑥（氏名を記入）",null,null,null,null,null,null,null,null,null,null,null,null,null,null,0,5]
["利用者⑦（氏名を記入）",null,null,null,null,null,null,null,null,null,null,null,null,null,null,0,4]
["利用者⑧（氏名を記入）",null,null,null,null,null,null,null,null,null,null,null,null,null,null,0,3]
["利用者⑨（氏名を記入）",null,null,null,null,null,null,null,null,null,null,null,null,null,null,0,2]
["利用者⑩（氏名を記入）",null,null,null,null,null,null,null,null,null,null,null,null,null,null,0,"1以下"]
["月の延べ利用者数\n（自動計算）",null,null,{"$f":"SUM(D23:D32)","v":0},{"$f":"SUM(E23:E32)","v":0},0,0,0,0,0,0,0,0,0,0,{"$f":"SUM(D33:O33)","v":0}]
["月の延べ利用者数（GH）\n（自動計算）",null,null,{"$f":"SUMIFS(D23:D32,$B$23:$B$32,\"GH\")","v":0},{"$f":"SUMIFS(E23:E32,$B$23:$B$32,\"GH\")","v":0},0,0,0,0,0,0,0,0,0,0,{"$f":"SUM(D34:O34)","v":0}]
["月の開所日数\n(直接入力)",null,null,30,31,30,31,31,30,31,30,31,31,28,31,{"$f":"SUM(D35:O35)","v":365},{"$f":"+P33/P35","v":0}]
[null,null,null,null,null,null,null,null,null,null,null,null,null,null,null,null,{"$f":"+P34/P35","v":0}]
[null,null,null,null,null,null,null,null,null,null,null,null,null,null,null,null,{"$f":"+ROUNDUP(Q36,1)","v":0}]
["※新規指定又は住居追加から6月以上１年未満の間は、直近の6月における全利用者の延べ数を6月間の開所日数で除して得た数以上とする。"]
["　例）令和5年4月に住居追加した場合、9月末を以て、6月間の実績が出ることから、10月から新たな対象者数での算定が可能となる。"]
["※新規指定又は住居追加から1年以上経過している場合は、直近1年間における全利用者の延べ数を1年間の開所日数で除して得た数以上とする。"]

{"sheet":"○○ホーム (24)","index":28,"n_rows":40,"n_cols":20,"rows_kept":40,"cut":false,"hidden":false,"merged":[[11,0,11,6],[11,9,11,15],[1,0,1,15],[9,0,9,6],[9,9,9,15],[10,0,10,6],[10,9,10,15],[14,0,14,3],[14,4,14,8],[14,9,14,10],[14,12,14,13],[15,0,15,3],[15,4,15,8],[15,9,15,10],[15,12,15,13],[16,0,16,3],[16,4,16,8],[16,9,16,10],[16,12,16,13],[17,0,17,3],[17,4,17,8],[17,9,17,10],[17,12,17,13]]}
[null,null,null,null,null,null,null,null,null,null,null,null,null,null,null,"（体制付表５－１９）"]
["共同生活援助事業所における前年度平均利用者数等の算定資料\n（兼夜間支援対象者数の根拠資料）"]
[]
["0.作成要領"]
["・このシートは1住居に1シート作成してください。緑色のセルは選択、ピンク色のセルは入力が必要なセルです。"]
["・全て入力が終わったら、「集計用シート」を確認し、当該数値を「体制付表5-25」へ転記してください。"]
["・複数の住居がある場合、シートのコピーは行わず、予め用意したシートに入力してください。（数式が壊れ、うまく集計ができなくなります）"]
[]
["　1.はじめに"]
["この住居は指定（住居追加）時点から６か月未満ですか？",null,null,null,null,null,null,null,null,{"$f":"IF(H10=\"はい\",\"区分毎の平均利用者数は推定値で入力してください。\",\"\")","v":""}]
[{"$f":"IF(H10=\"\",\"\",VLOOKUP(H10,Q11:S12,3,0)&\"\")","v":""},null,null,null,null,null,null,null,null,{"$f":"IF(H11=\"\",\"\",VLOOKUP(H11,Q11:T12,4,0)&\"\")","v":""},null,null,null,null,null,null,"はい",null,null,"直近6か月の利用状況を「3.利用状況」に入力してください。"]
[{"$f":"IF(H11=\"\",\"\",VLOOKUP(H11,Q11:R12,2,0)&\"\")","v":""},null,null,null,null,null,null,null,null,"直近1年の利用状況を下表に入力してください",null,null,null,null,null,null,"いいえ","この住居は指定（住居追加）時点から1年以上経過していますか？","この住居は指定（住居追加）時点から6か月以上1年未満ですか？","直近1年又は前年度の利用状況を下表に入力してください"]
[]
["　2.事業所情報"]
["事業所名",null,null,null,null,null,null,null,null,"平均利用者数合計\n（自動計算）",null,{"$f":"IF(H10=\"はい\",E17*0.9,+ROUNDUP(Q35,1))","v":0},"夜間支援対象者数\n（自動計算）",null,{"$f":"IF(H10=\"はい\",E17*0.9,ROUND(Q37,0))","v":0}]
["住居名",null,null,null,null,null,null,null,null,"区分6",null,{"$f":"ROUNDUP(SUMIFS($P:$P,$C:$C,6)/P35,1)","v":0},"区分5",null,{"$f":"ROUNDUP(SUMIFS($P:$P,$C:$C,5)/P35,1)","v":0}]
["住居定員",null,null,null,null,null,null,null,null,"区分4",null,{"$f":"ROUNDUP(SUMIFS($P:$P,$C:$C,4)/P35,1)","v":0},"区分3",null,{"$f":"ROUNDUP(SUMIFS($P:$P,$C:$C,3)/P35,1)","v":0}]
["住居追加日",null,null,null,null,null,null,null,null,"区分2",null,{"$f":"ROUNDUP(SUMIFS($P:$P,$C:$C,2)/P35,1)","v":0},"区分1以下",null,{"$f":"ROUNDUP(SUMIFS($P:$P,$C:$C,\"1以下\")/P35,1)","v":0}]
[null,null,null,null,null,null,null,null,null,null,null,"."]
[]
["　3.利用状況",null,null,null,null,null,null,null,"令和",null,"年度"]
["月","サービス","区分","4月","5月","6月","7月","8月","9月","10月","11月","12月","1月","2月","3月","合計"]
["利用者①（氏名を記入）",null,null,null,null,null,null,null,null,null,null,null,null,null,null,{"$f":"SUM(D23:O23)","v":0}]
["利用者②（氏名を記入）",null,null,null,null,null,null,null,null,null,null,null,null,null,null,{"$f":"SUM(D24:O24)","v":0}]
["利用者③（氏名を記入）",null,null,null,null,null,null,null,null,null,null,null,null,null,null,0]
["利用者④（氏名を記入）",null,null,null,null,null,null,null,null,null,null,null,null,null,null,0]
["利用者⑤（氏名を記入）",null,null,null,null,null,null,null,null,null,null,null,null,null,null,0,6]
["利用者⑥（氏名を記入）",null,null,null,null,null,null,null,null,null,null,null,null,null,null,0,5]
["利用者⑦（氏名を記入）",null,null,null,null,null,null,null,null,null,null,null,null,null,null,0,4]
["利用者⑧（氏名を記入）",null,null,null,null,null,null,null,null,null,null,null,null,null,null,0,3]
["利用者⑨（氏名を記入）",null,null,null,null,null,null,null,null,null,null,null,null,null,null,0,2]
["利用者⑩（氏名を記入）",null,null,null,null,null,null,null,null,null,null,null,null,null,null,0,"1以下"]
["月の延べ利用者数\n（自動計算）",null,null,{"$f":"SUM(D23:D32)","v":0},{"$f":"SUM(E23:E32)","v":0},0,0,0,0,0,0,0,0,0,0,{"$f":"SUM(D33:O33)","v":0}]
["月の延べ利用者数（GH）\n（自動計算）",null,null,{"$f":"SUMIFS(D23:D32,$B$23:$B$32,\"GH\")","v":0},{"$f":"SUMIFS(E23:E32,$B$23:$B$32,\"GH\")","v":0},0,0,0,0,0,0,0,0,0,0,{"$f":"SUM(D34:O34)","v":0}]
["月の開所日数\n(直接入力)",null,null,30,31,30,31,31,30,31,30,31,31,28,31,{"$f":"SUM(D35:O35)","v":365},{"$f":"+P33/P35","v":0}]
[null,null,null,null,null,null,null,null,null,null,null,null,null,null,null,null,{"$f":"+P34/P35","v":0}]
[null,null,null,null,null,null,null,null,null,null,null,null,null,null,null,null,{"$f":"+ROUNDUP(Q36,1)","v":0}]
["※新規指定又は住居追加から6月以上１年未満の間は、直近の6月における全利用者の延べ数を6月間の開所日数で除して得た数以上とする。"]
["　例）令和5年4月に住居追加した場合、9月末を以て、6月間の実績が出ることから、10月から新たな対象者数での算定が可能となる。"]
["※新規指定又は住居追加から1年以上経過している場合は、直近1年間における全利用者の延べ数を1年間の開所日数で除して得た数以上とする。"]

{"sheet":"○○ホーム (25)","index":29,"n_rows":40,"n_cols":20,"rows_kept":40,"cut":false,"hidden":false,"merged":[[11,0,11,6],[11,9,11,15],[1,0,1,15],[9,0,9,6],[9,9,9,15],[10,0,10,6],[10,9,10,15],[14,0,14,3],[14,4,14,8],[14,9,14,10],[14,12,14,13],[15,0,15,3],[15,4,15,8],[15,9,15,10],[15,12,15,13],[16,0,16,3],[16,4,16,8],[16,9,16,10],[16,12,16,13],[17,0,17,3],[17,4,17,8],[17,9,17,10],[17,12,17,13]]}
[null,null,null,null,null,null,null,null,null,null,null,null,null,null,null,"（体制付表５－１９）"]
["共同生活援助事業所における前年度平均利用者数等の算定資料\n（兼夜間支援対象者数の根拠資料）"]
[]
["0.作成要領"]
["・このシートは1住居に1シート作成してください。緑色のセルは選択、ピンク色のセルは入力が必要なセルです。"]
["・全て入力が終わったら、「集計用シート」を確認し、当該数値を「体制付表5-25」へ転記してください。"]
["・複数の住居がある場合、シートのコピーは行わず、予め用意したシートに入力してください。（数式が壊れ、うまく集計ができなくなります）"]
[]
["　1.はじめに"]
["この住居は指定（住居追加）時点から６か月未満ですか？",null,null,null,null,null,null,null,null,{"$f":"IF(H10=\"はい\",\"区分毎の平均利用者数は推定値で入力してください。\",\"\")","v":""}]
[{"$f":"IF(H10=\"\",\"\",VLOOKUP(H10,Q11:S12,3,0)&\"\")","v":""},null,null,null,null,null,null,null,null,{"$f":"IF(H11=\"\",\"\",VLOOKUP(H11,Q11:T12,4,0)&\"\")","v":""},null,null,null,null,null,null,"はい",null,null,"直近6か月の利用状況を「3.利用状況」に入力してください。"]
[{"$f":"IF(H11=\"\",\"\",VLOOKUP(H11,Q11:R12,2,0)&\"\")","v":""},null,null,null,null,null,null,null,null,"直近1年の利用状況を下表に入力してください",null,null,null,null,null,null,"いいえ","この住居は指定（住居追加）時点から1年以上経過していますか？","この住居は指定（住居追加）時点から6か月以上1年未満ですか？","直近1年又は前年度の利用状況を下表に入力してください"]
[]
["　2.事業所情報"]
["事業所名",null,null,null,null,null,null,null,null,"平均利用者数合計\n（自動計算）",null,{"$f":"IF(H10=\"はい\",E17*0.9,+ROUNDUP(Q35,1))","v":0},"夜間支援対象者数\n（自動計算）",null,{"$f":"IF(H10=\"はい\",E17*0.9,ROUND(Q37,0))","v":0}]
["住居名",null,null,null,null,null,null,null,null,"区分6",null,{"$f":"ROUNDUP(SUMIFS($P:$P,$C:$C,6)/P35,1)","v":0},"区分5",null,{"$f":"ROUNDUP(SUMIFS($P:$P,$C:$C,5)/P35,1)","v":0}]
["住居定員",null,null,null,null,null,null,null,null,"区分4",null,{"$f":"ROUNDUP(SUMIFS($P:$P,$C:$C,4)/P35,1)","v":0},"区分3",null,{"$f":"ROUNDUP(SUMIFS($P:$P,$C:$C,3)/P35,1)","v":0}]
["住居追加日",null,null,null,null,null,null,null,null,"区分2",null,{"$f":"ROUNDUP(SUMIFS($P:$P,$C:$C,2)/P35,1)","v":0},"区分1以下",null,{"$f":"ROUNDUP(SUMIFS($P:$P,$C:$C,\"1以下\")/P35,1)","v":0}]
[null,null,null,null,null,null,null,null,null,null,null,"."]
[]
["　3.利用状況",null,null,null,null,null,null,null,"令和",null,"年度"]
["月","サービス","区分","4月","5月","6月","7月","8月","9月","10月","11月","12月","1月","2月","3月","合計"]
["利用者①（氏名を記入）",null,null,null,null,null,null,null,null,null,null,null,null,null,null,{"$f":"SUM(D23:O23)","v":0}]
["利用者②（氏名を記入）",null,null,null,null,null,null,null,null,null,null,null,null,null,null,{"$f":"SUM(D24:O24)","v":0}]
["利用者③（氏名を記入）",null,null,null,null,null,null,null,null,null,null,null,null,null,null,0]
["利用者④（氏名を記入）",null,null,null,null,null,null,null,null,null,null,null,null,null,null,0]
["利用者⑤（氏名を記入）",null,null,null,null,null,null,null,null,null,null,null,null,null,null,0,6]
["利用者⑥（氏名を記入）",null,null,null,null,null,null,null,null,null,null,null,null,null,null,0,5]
["利用者⑦（氏名を記入）",null,null,null,null,null,null,null,null,null,null,null,null,null,null,0,4]
["利用者⑧（氏名を記入）",null,null,null,null,null,null,null,null,null,null,null,null,null,null,0,3]
["利用者⑨（氏名を記入）",null,null,null,null,null,null,null,null,null,null,null,null,null,null,0,2]
["利用者⑩（氏名を記入）",null,null,null,null,null,null,null,null,null,null,null,null,null,null,0,"1以下"]
["月の延べ利用者数\n（自動計算）",null,null,{"$f":"SUM(D23:D32)","v":0},{"$f":"SUM(E23:E32)","v":0},0,0,0,0,0,0,0,0,0,0,{"$f":"SUM(D33:O33)","v":0}]
["月の延べ利用者数（GH）\n（自動計算）",null,null,{"$f":"SUMIFS(D23:D32,$B$23:$B$32,\"GH\")","v":0},{"$f":"SUMIFS(E23:E32,$B$23:$B$32,\"GH\")","v":0},0,0,0,0,0,0,0,0,0,0,{"$f":"SUM(D34:O34)","v":0}]
["月の開所日数\n(直接入力)",null,null,30,31,30,31,31,30,31,30,31,31,28,31,{"$f":"SUM(D35:O35)","v":365},{"$f":"+P33/P35","v":0}]
[null,null,null,null,null,null,null,null,null,null,null,null,null,null,null,null,{"$f":"+P34/P35","v":0}]
[null,null,null,null,null,null,null,null,null,null,null,null,null,null,null,null,{"$f":"+ROUNDUP(Q36,1)","v":0}]
["※新規指定又は住居追加から6月以上１年未満の間は、直近の6月における全利用者の延べ数を6月間の開所日数で除して得た数以上とする。"]
["　例）令和5年4月に住居追加した場合、9月末を以て、6月間の実績が出ることから、10月から新たな対象者数での算定が可能となる。"]
["※新規指定又は住居追加から1年以上経過している場合は、直近1年間における全利用者の延べ数を1年間の開所日数で除して得た数以上とする。"]

{"sheet":"○○ホーム (26)","index":30,"n_rows":40,"n_cols":20,"rows_kept":40,"cut":false,"hidden":false,"merged":[[11,0,11,6],[11,9,11,15],[1,0,1,15],[9,0,9,6],[9,9,9,15],[10,0,10,6],[10,9,10,15],[14,0,14,3],[14,4,14,8],[14,9,14,10],[14,12,14,13],[15,0,15,3],[15,4,15,8],[15,9,15,10],[15,12,15,13],[16,0,16,3],[16,4,16,8],[16,9,16,10],[16,12,16,13],[17,0,17,3],[17,4,17,8],[17,9,17,10],[17,12,17,13]]}
[null,null,null,null,null,null,null,null,null,null,null,null,null,null,null,"（体制付表５－１９）"]
["共同生活援助事業所における前年度平均利用者数等の算定資料\n（兼夜間支援対象者数の根拠資料）"]
[]
["0.作成要領"]
["・このシートは1住居に1シート作成してください。緑色のセルは選択、ピンク色のセルは入力が必要なセルです。"]
["・全て入力が終わったら、「集計用シート」を確認し、当該数値を「体制付表5-25」へ転記してください。"]
["・複数の住居がある場合、シートのコピーは行わず、予め用意したシートに入力してください。（数式が壊れ、うまく集計ができなくなります）"]
[]
["　1.はじめに"]
["この住居は指定（住居追加）時点から６か月未満ですか？",null,null,null,null,null,null,null,null,{"$f":"IF(H10=\"はい\",\"区分毎の平均利用者数は推定値で入力してください。\",\"\")","v":""}]
[{"$f":"IF(H10=\"\",\"\",VLOOKUP(H10,Q11:S12,3,0)&\"\")","v":""},null,null,null,null,null,null,null,null,{"$f":"IF(H11=\"\",\"\",VLOOKUP(H11,Q11:T12,4,0)&\"\")","v":""},null,null,null,null,null,null,"はい",null,null,"直近6か月の利用状況を「3.利用状況」に入力してください。"]
[{"$f":"IF(H11=\"\",\"\",VLOOKUP(H11,Q11:R12,2,0)&\"\")","v":""},null,null,null,null,null,null,null,null,"直近1年の利用状況を下表に入力してください",null,null,null,null,null,null,"いいえ","この住居は指定（住居追加）時点から1年以上経過していますか？","この住居は指定（住居追加）時点から6か月以上1年未満ですか？","直近1年又は前年度の利用状況を下表に入力してください"]
[]
["　2.事業所情報"]
["事業所名",null,null,null,null,null,null,null,null,"平均利用者数合計\n（自動計算）",null,{"$f":"IF(H10=\"はい\",E17*0.9,+ROUNDUP(Q35,1))","v":0},"夜間支援対象者数\n（自動計算）",null,{"$f":"IF(H10=\"はい\",E17*0.9,ROUND(Q37,0))","v":0}]
["住居名",null,null,null,null,null,null,null,null,"区分6",null,{"$f":"ROUNDUP(SUMIFS($P:$P,$C:$C,6)/P35,1)","v":0},"区分5",null,{"$f":"ROUNDUP(SUMIFS($P:$P,$C:$C,5)/P35,1)","v":0}]
["住居定員",null,null,null,null,null,null,null,null,"区分4",null,{"$f":"ROUNDUP(SUMIFS($P:$P,$C:$C,4)/P35,1)","v":0},"区分3",null,{"$f":"ROUNDUP(SUMIFS($P:$P,$C:$C,3)/P35,1)","v":0}]
["住居追加日",null,null,null,null,null,null,null,null,"区分2",null,{"$f":"ROUNDUP(SUMIFS($P:$P,$C:$C,2)/P35,1)","v":0},"区分1以下",null,{"$f":"ROUNDUP(SUMIFS($P:$P,$C:$C,\"1以下\")/P35,1)","v":0}]
[null,null,null,null,null,null,null,null,null,null,null,"."]
[]
["　3.利用状況",null,null,null,null,null,null,null,"令和",null,"年度"]
["月","サービス","区分","4月","5月","6月","7月","8月","9月","10月","11月","12月","1月","2月","3月","合計"]
["利用者①（氏名を記入）",null,null,null,null,null,null,null,null,null,null,null,null,null,null,{"$f":"SUM(D23:O23)","v":0}]
["利用者②（氏名を記入）",null,null,null,null,null,null,null,null,null,null,null,null,null,null,{"$f":"SUM(D24:O24)","v":0}]
["利用者③（氏名を記入）",null,null,null,null,null,null,null,null,null,null,null,null,null,null,0]
["利用者④（氏名を記入）",null,null,null,null,null,null,null,null,null,null,null,null,null,null,0]
["利用者⑤（氏名を記入）",null,null,null,null,null,null,null,null,null,null,null,null,null,null,0,6]
["利用者⑥（氏名を記入）",null,null,null,null,null,null,null,null,null,null,null,null,null,null,0,5]
["利用者⑦（氏名を記入）",null,null,null,null,null,null,null,null,null,null,null,null,null,null,0,4]
["利用者⑧（氏名を記入）",null,null,null,null,null,null,null,null,null,null,null,null,null,null,0,3]
["利用者⑨（氏名を記入）",null,null,null,null,null,null,null,null,null,null,null,null,null,null,0,2]
["利用者⑩（氏名を記入）",null,null,null,null,null,null,null,null,null,null,null,null,null,null,0,"1以下"]
["月の延べ利用者数\n（自動計算）",null,null,{"$f":"SUM(D23:D32)","v":0},{"$f":"SUM(E23:E32)","v":0},0,0,0,0,0,0,0,0,0,0,{"$f":"SUM(D33:O33)","v":0}]
["月の延べ利用者数（GH）\n（自動計算）",null,null,{"$f":"SUMIFS(D23:D32,$B$23:$B$32,\"GH\")","v":0},{"$f":"SUMIFS(E23:E32,$B$23:$B$32,\"GH\")","v":0},0,0,0,0,0,0,0,0,0,0,{"$f":"SUM(D34:O34)","v":0}]
["月の開所日数\n(直接入力)",null,null,30,31,30,31,31,30,31,30,31,31,28,31,{"$f":"SUM(D35:O35)","v":365},{"$f":"+P33/P35","v":0}]
[null,null,null,null,null,null,null,null,null,null,null,null,null,null,null,null,{"$f":"+P34/P35","v":0}]
[null,null,null,null,null,null,null,null,null,null,null,null,null,null,null,null,{"$f":"+ROUNDUP(Q36,1)","v":0}]
["※新規指定又は住居追加から6月以上１年未満の間は、直近の6月における全利用者の延べ数を6月間の開所日数で除して得た数以上とする。"]
["　例）令和5年4月に住居追加した場合、9月末を以て、6月間の実績が出ることから、10月から新たな対象者数での算定が可能となる。"]
["※新規指定又は住居追加から1年以上経過している場合は、直近1年間における全利用者の延べ数を1年間の開所日数で除して得た数以上とする。"]

{"sheet":"○○ホーム (27)","index":31,"n_rows":40,"n_cols":20,"rows_kept":40,"cut":false,"hidden":false,"merged":[[11,0,11,6],[11,9,11,15],[1,0,1,15],[9,0,9,6],[9,9,9,15],[10,0,10,6],[10,9,10,15],[14,0,14,3],[14,4,14,8],[14,9,14,10],[14,12,14,13],[15,0,15,3],[15,4,15,8],[15,9,15,10],[15,12,15,13],[16,0,16,3],[16,4,16,8],[16,9,16,10],[16,12,16,13],[17,0,17,3],[17,4,17,8],[17,9,17,10],[17,12,17,13]]}
[null,null,null,null,null,null,null,null,null,null,null,null,null,null,null,"（体制付表５－１９）"]
["共同生活援助事業所における前年度平均利用者数等の算定資料\n（兼夜間支援対象者数の根拠資料）"]
[]
["0.作成要領"]
["・このシートは1住居に1シート作成してください。緑色のセルは選択、ピンク色のセルは入力が必要なセルです。"]
["・全て入力が終わったら、「集計用シート」を確認し、当該数値を「体制付表5-25」へ転記してください。"]
["・複数の住居がある場合、シートのコピーは行わず、予め用意したシートに入力してください。（数式が壊れ、うまく集計ができなくなります）"]
[]
["　1.はじめに"]
["この住居は指定（住居追加）時点から６か月未満ですか？",null,null,null,null,null,null,null,null,{"$f":"IF(H10=\"はい\",\"区分毎の平均利用者数は推定値で入力してください。\",\"\")","v":""}]
[{"$f":"IF(H10=\"\",\"\",VLOOKUP(H10,Q11:S12,3,0)&\"\")","v":""},null,null,null,null,null,null,null,null,{"$f":"IF(H11=\"\",\"\",VLOOKUP(H11,Q11:T12,4,0)&\"\")","v":""},null,null,null,null,null,null,"はい",null,null,"直近6か月の利用状況を「3.利用状況」に入力してください。"]
[{"$f":"IF(H11=\"\",\"\",VLOOKUP(H11,Q11:R12,2,0)&\"\")","v":""},null,null,null,null,null,null,null,null,"直近1年の利用状況を下表に入力してください",null,null,null,null,null,null,"いいえ","この住居は指定（住居追加）時点から1年以上経過していますか？","この住居は指定（住居追加）時点から6か月以上1年未満ですか？","直近1年又は前年度の利用状況を下表に入力してください"]
[]
["　2.事業所情報"]
["事業所名",null,null,null,null,null,null,null,null,"平均利用者数合計\n（自動計算）",null,{"$f":"IF(H10=\"はい\",E17*0.9,+ROUNDUP(Q35,1))","v":0},"夜間支援対象者数\n（自動計算）",null,{"$f":"IF(H10=\"はい\",E17*0.9,ROUND(Q37,0))","v":0}]
["住居名",null,null,null,null,null,null,null,null,"区分6",null,{"$f":"ROUNDUP(SUMIFS($P:$P,$C:$C,6)/P35,1)","v":0},"区分5",null,{"$f":"ROUNDUP(SUMIFS($P:$P,$C:$C,5)/P35,1)","v":0}]
["住居定員",null,null,null,null,null,null,null,null,"区分4",null,{"$f":"ROUNDUP(SUMIFS($P:$P,$C:$C,4)/P35,1)","v":0},"区分3",null,{"$f":"ROUNDUP(SUMIFS($P:$P,$C:$C,3)/P35,1)","v":0}]
["住居追加日",null,null,null,null,null,null,null,null,"区分2",null,{"$f":"ROUNDUP(SUMIFS($P:$P,$C:$C,2)/P35,1)","v":0},"区分1以下",null,{"$f":"ROUNDUP(SUMIFS($P:$P,$C:$C,\"1以下\")/P35,1)","v":0}]
[null,null,null,null,null,null,null,null,null,null,null,"."]
[]
["　3.利用状況",null,null,null,null,null,null,null,"令和",null,"年度"]
["月","サービス","区分","4月","5月","6月","7月","8月","9月","10月","11月","12月","1月","2月","3月","合計"]
["利用者①（氏名を記入）",null,null,null,null,null,null,null,null,null,null,null,null,null,null,{"$f":"SUM(D23:O23)","v":0}]
["利用者②（氏名を記入）",null,null,null,null,null,null,null,null,null,null,null,null,null,null,{"$f":"SUM(D24:O24)","v":0}]
["利用者③（氏名を記入）",null,null,null,null,null,null,null,null,null,null,null,null,null,null,0]
["利用者④（氏名を記入）",null,null,null,null,null,null,null,null,null,null,null,null,null,null,0]
["利用者⑤（氏名を記入）",null,null,null,null,null,null,null,null,null,null,null,null,null,null,0,6]
["利用者⑥（氏名を記入）",null,null,null,null,null,null,null,null,null,null,null,null,null,null,0,5]
["利用者⑦（氏名を記入）",null,null,null,null,null,null,null,null,null,null,null,null,null,null,0,4]
["利用者⑧（氏名を記入）",null,null,null,null,null,null,null,null,null,null,null,null,null,null,0,3]
["利用者⑨（氏名を記入）",null,null,null,null,null,null,null,null,null,null,null,null,null,null,0,2]
["利用者⑩（氏名を記入）",null,null,null,null,null,null,null,null,null,null,null,null,null,null,0,"1以下"]
["月の延べ利用者数\n（自動計算）",null,null,{"$f":"SUM(D23:D32)","v":0},{"$f":"SUM(E23:E32)","v":0},0,0,0,0,0,0,0,0,0,0,{"$f":"SUM(D33:O33)","v":0}]
["月の延べ利用者数（GH）\n（自動計算）",null,null,{"$f":"SUMIFS(D23:D32,$B$23:$B$32,\"GH\")","v":0},{"$f":"SUMIFS(E23:E32,$B$23:$B$32,\"GH\")","v":0},0,0,0,0,0,0,0,0,0,0,{"$f":"SUM(D34:O34)","v":0}]
["月の開所日数\n(直接入力)",null,null,30,31,30,31,31,30,31,30,31,31,28,31,{"$f":"SUM(D35:O35)","v":365},{"$f":"+P33/P35","v":0}]
[null,null,null,null,null,null,null,null,null,null,null,null,null,null,null,null,{"$f":"+P34/P35","v":0}]
[null,null,null,null,null,null,null,null,null,null,null,null,null,null,null,null,{"$f":"+ROUNDUP(Q36,1)","v":0}]
["※新規指定又は住居追加から6月以上１年未満の間は、直近の6月における全利用者の延べ数を6月間の開所日数で除して得た数以上とする。"]
["　例）令和5年4月に住居追加した場合、9月末を以て、6月間の実績が出ることから、10月から新たな対象者数での算定が可能となる。"]
["※新規指定又は住居追加から1年以上経過している場合は、直近1年間における全利用者の延べ数を1年間の開所日数で除して得た数以上とする。"]

{"sheet":"○○ホーム (28)","index":32,"n_rows":40,"n_cols":20,"rows_kept":40,"cut":false,"hidden":false,"merged":[[11,0,11,6],[11,9,11,15],[1,0,1,15],[9,0,9,6],[9,9,9,15],[10,0,10,6],[10,9,10,15],[14,0,14,3],[14,4,14,8],[14,9,14,10],[14,12,14,13],[15,0,15,3],[15,4,15,8],[15,9,15,10],[15,12,15,13],[16,0,16,3],[16,4,16,8],[16,9,16,10],[16,12,16,13],[17,0,17,3],[17,4,17,8],[17,9,17,10],[17,12,17,13]]}
[null,null,null,null,null,null,null,null,null,null,null,null,null,null,null,"（体制付表５－１９）"]
["共同生活援助事業所における前年度平均利用者数等の算定資料\n（兼夜間支援対象者数の根拠資料）"]
[]
["0.作成要領"]
["・このシートは1住居に1シート作成してください。緑色のセルは選択、ピンク色のセルは入力が必要なセルです。"]
["・全て入力が終わったら、「集計用シート」を確認し、当該数値を「体制付表5-25」へ転記してください。"]
["・複数の住居がある場合、シートのコピーは行わず、予め用意したシートに入力してください。（数式が壊れ、うまく集計ができなくなります）"]
[]
["　1.はじめに"]
["この住居は指定（住居追加）時点から６か月未満ですか？",null,null,null,null,null,null,null,null,{"$f":"IF(H10=\"はい\",\"区分毎の平均利用者数は推定値で入力してください。\",\"\")","v":""}]
[{"$f":"IF(H10=\"\",\"\",VLOOKUP(H10,Q11:S12,3,0)&\"\")","v":""},null,null,null,null,null,null,null,null,{"$f":"IF(H11=\"\",\"\",VLOOKUP(H11,Q11:T12,4,0)&\"\")","v":""},null,null,null,null,null,null,"はい",null,null,"直近6か月の利用状況を「3.利用状況」に入力してください。"]
[{"$f":"IF(H11=\"\",\"\",VLOOKUP(H11,Q11:R12,2,0)&\"\")","v":""},null,null,null,null,null,null,null,null,"直近1年の利用状況を下表に入力してください",null,null,null,null,null,null,"いいえ","この住居は指定（住居追加）時点から1年以上経過していますか？","この住居は指定（住居追加）時点から6か月以上1年未満ですか？","直近1年又は前年度の利用状況を下表に入力してください"]
[]
["　2.事業所情報"]
["事業所名",null,null,null,null,null,null,null,null,"平均利用者数合計\n（自動計算）",null,{"$f":"IF(H10=\"はい\",E17*0.9,+ROUNDUP(Q35,1))","v":0},"夜間支援対象者数\n（自動計算）",null,{"$f":"IF(H10=\"はい\",E17*0.9,ROUND(Q37,0))","v":0}]
["住居名",null,null,null,null,null,null,null,null,"区分6",null,{"$f":"ROUNDUP(SUMIFS($P:$P,$C:$C,6)/P35,1)","v":0},"区分5",null,{"$f":"ROUNDUP(SUMIFS($P:$P,$C:$C,5)/P35,1)","v":0}]
["住居定員",null,null,null,null,null,null,null,null,"区分4",null,{"$f":"ROUNDUP(SUMIFS($P:$P,$C:$C,4)/P35,1)","v":0},"区分3",null,{"$f":"ROUNDUP(SUMIFS($P:$P,$C:$C,3)/P35,1)","v":0}]
["住居追加日",null,null,null,null,null,null,null,null,"区分2",null,{"$f":"ROUNDUP(SUMIFS($P:$P,$C:$C,2)/P35,1)","v":0},"区分1以下",null,{"$f":"ROUNDUP(SUMIFS($P:$P,$C:$C,\"1以下\")/P35,1)","v":0}]
[null,null,null,null,null,null,null,null,null,null,null,"."]
[]
["　3.利用状況",null,null,null,null,null,null,null,"令和",null,"年度"]
["月","サービス","区分","4月","5月","6月","7月","8月","9月","10月","11月","12月","1月","2月","3月","合計"]
["利用者①（氏名を記入）",null,null,null,null,null,null,null,null,null,null,null,null,null,null,{"$f":"SUM(D23:O23)","v":0}]
["利用者②（氏名を記入）",null,null,null,null,null,null,null,null,null,null,null,null,null,null,{"$f":"SUM(D24:O24)","v":0}]
["利用者③（氏名を記入）",null,null,null,null,null,null,null,null,null,null,null,null,null,null,0]
["利用者④（氏名を記入）",null,null,null,null,null,null,null,null,null,null,null,null,null,null,0]
["利用者⑤（氏名を記入）",null,null,null,null,null,null,null,null,null,null,null,null,null,null,0,6]
["利用者⑥（氏名を記入）",null,null,null,null,null,null,null,null,null,null,null,null,null,null,0,5]
["利用者⑦（氏名を記入）",null,null,null,null,null,null,null,null,null,null,null,null,null,null,0,4]
["利用者⑧（氏名を記入）",null,null,null,null,null,null,null,null,null,null,null,null,null,null,0,3]
["利用者⑨（氏名を記入）",null,null,null,null,null,null,null,null,null,null,null,null,null,null,0,2]
["利用者⑩（氏名を記入）",null,null,null,null,null,null,null,null,null,null,null,null,null,null,0,"1以下"]
["月の延べ利用者数\n（自動計算）",null,null,{"$f":"SUM(D23:D32)","v":0},{"$f":"SUM(E23:E32)","v":0},0,0,0,0,0,0,0,0,0,0,{"$f":"SUM(D33:O33)","v":0}]
["月の延べ利用者数（GH）\n（自動計算）",null,null,{"$f":"SUMIFS(D23:D32,$B$23:$B$32,\"GH\")","v":0},{"$f":"SUMIFS(E23:E32,$B$23:$B$32,\"GH\")","v":0},0,0,0,0,0,0,0,0,0,0,{"$f":"SUM(D34:O34)","v":0}]
["月の開所日数\n(直接入力)",null,null,30,31,30,31,31,30,31,30,31,31,28,31,{"$f":"SUM(D35:O35)","v":365},{"$f":"+P33/P35","v":0}]
[null,null,null,null,null,null,null,null,null,null,null,null,null,null,null,null,{"$f":"+P34/P35","v":0}]
[null,null,null,null,null,null,null,null,null,null,null,null,null,null,null,null,{"$f":"+ROUNDUP(Q36,1)","v":0}]
["※新規指定又は住居追加から6月以上１年未満の間は、直近の6月における全利用者の延べ数を6月間の開所日数で除して得た数以上とする。"]
["　例）令和5年4月に住居追加した場合、9月末を以て、6月間の実績が出ることから、10月から新たな対象者数での算定が可能となる。"]
["※新規指定又は住居追加から1年以上経過している場合は、直近1年間における全利用者の延べ数を1年間の開所日数で除して得た数以上とする。"]

{"sheet":"○○ホーム (29)","index":33,"n_rows":40,"n_cols":20,"rows_kept":40,"cut":false,"hidden":false,"merged":[[11,0,11,6],[11,9,11,15],[1,0,1,15],[9,0,9,6],[9,9,9,15],[10,0,10,6],[10,9,10,15],[14,0,14,3],[14,4,14,8],[14,9,14,10],[14,12,14,13],[15,0,15,3],[15,4,15,8],[15,9,15,10],[15,12,15,13],[16,0,16,3],[16,4,16,8],[16,9,16,10],[16,12,16,13],[17,0,17,3],[17,4,17,8],[17,9,17,10],[17,12,17,13]]}
[null,null,null,null,null,null,null,null,null,null,null,null,null,null,null,"（体制付表５－１９）"]
["共同生活援助事業所における前年度平均利用者数等の算定資料\n（兼夜間支援対象者数の根拠資料）"]
[]
["0.作成要領"]
["・このシートは1住居に1シート作成してください。緑色のセルは選択、ピンク色のセルは入力が必要なセルです。"]
["・全て入力が終わったら、「集計用シート」を確認し、当該数値を「体制付表5-25」へ転記してください。"]
["・複数の住居がある場合、シートのコピーは行わず、予め用意したシートに入力してください。（数式が壊れ、うまく集計ができなくなります）"]
[]
["　1.はじめに"]
["この住居は指定（住居追加）時点から６か月未満ですか？",null,null,null,null,null,null,null,null,{"$f":"IF(H10=\"はい\",\"区分毎の平均利用者数は推定値で入力してください。\",\"\")","v":""}]
[{"$f":"IF(H10=\"\",\"\",VLOOKUP(H10,Q11:S12,3,0)&\"\")","v":""},null,null,null,null,null,null,null,null,{"$f":"IF(H11=\"\",\"\",VLOOKUP(H11,Q11:T12,4,0)&\"\")","v":""},null,null,null,null,null,null,"はい",null,null,"直近6か月の利用状況を「3.利用状況」に入力してください。"]
[{"$f":"IF(H11=\"\",\"\",VLOOKUP(H11,Q11:R12,2,0)&\"\")","v":""},null,null,null,null,null,null,null,null,"直近1年の利用状況を下表に入力してください",null,null,null,null,null,null,"いいえ","この住居は指定（住居追加）時点から1年以上経過していますか？","この住居は指定（住居追加）時点から6か月以上1年未満ですか？","直近1年又は前年度の利用状況を下表に入力してください"]
[]
["　2.事業所情報"]
["事業所名",null,null,null,null,null,null,null,null,"平均利用者数合計\n（自動計算）",null,{"$f":"IF(H10=\"はい\",E17*0.9,+ROUNDUP(Q35,1))","v":0},"夜間支援対象者数\n（自動計算）",null,{"$f":"IF(H10=\"はい\",E17*0.9,ROUND(Q37,0))","v":0}]
["住居名",null,null,null,null,null,null,null,null,"区分6",null,{"$f":"ROUNDUP(SUMIFS($P:$P,$C:$C,6)/P35,1)","v":0},"区分5",null,{"$f":"ROUNDUP(SUMIFS($P:$P,$C:$C,5)/P35,1)","v":0}]
["住居定員",null,null,null,null,null,null,null,null,"区分4",null,{"$f":"ROUNDUP(SUMIFS($P:$P,$C:$C,4)/P35,1)","v":0},"区分3",null,{"$f":"ROUNDUP(SUMIFS($P:$P,$C:$C,3)/P35,1)","v":0}]
["住居追加日",null,null,null,null,null,null,null,null,"区分2",null,{"$f":"ROUNDUP(SUMIFS($P:$P,$C:$C,2)/P35,1)","v":0},"区分1以下",null,{"$f":"ROUNDUP(SUMIFS($P:$P,$C:$C,\"1以下\")/P35,1)","v":0}]
[null,null,null,null,null,null,null,null,null,null,null,"."]
[]
["　3.利用状況",null,null,null,null,null,null,null,"令和",null,"年度"]
["月","サービス","区分","4月","5月","6月","7月","8月","9月","10月","11月","12月","1月","2月","3月","合計"]
["利用者①（氏名を記入）",null,null,null,null,null,null,null,null,null,null,null,null,null,null,{"$f":"SUM(D23:O23)","v":0}]
["利用者②（氏名を記入）",null,null,null,null,null,null,null,null,null,null,null,null,null,null,{"$f":"SUM(D24:O24)","v":0}]
["利用者③（氏名を記入）",null,null,null,null,null,null,null,null,null,null,null,null,null,null,0]
["利用者④（氏名を記入）",null,null,null,null,null,null,null,null,null,null,null,null,null,null,0]
["利用者⑤（氏名を記入）",null,null,null,null,null,null,null,null,null,null,null,null,null,null,0,6]
["利用者⑥（氏名を記入）",null,null,null,null,null,null,null,null,null,null,null,null,null,null,0,5]
["利用者⑦（氏名を記入）",null,null,null,null,null,null,null,null,null,null,null,null,null,null,0,4]
["利用者⑧（氏名を記入）",null,null,null,null,null,null,null,null,null,null,null,null,null,null,0,3]
["利用者⑨（氏名を記入）",null,null,null,null,null,null,null,null,null,null,null,null,null,null,0,2]
["利用者⑩（氏名を記入）",null,null,null,null,null,null,null,null,null,null,null,null,null,null,0,"1以下"]
["月の延べ利用者数\n（自動計算）",null,null,{"$f":"SUM(D23:D32)","v":0},{"$f":"SUM(E23:E32)","v":0},0,0,0,0,0,0,0,0,0,0,{"$f":"SUM(D33:O33)","v":0}]
["月の延べ利用者数（GH）\n（自動計算）",null,null,{"$f":"SUMIFS(D23:D32,$B$23:$B$32,\"GH\")","v":0},{"$f":"SUMIFS(E23:E32,$B$23:$B$32,\"GH\")","v":0},0,0,0,0,0,0,0,0,0,0,{"$f":"SUM(D34:O34)","v":0}]
["月の開所日数\n(直接入力)",null,null,30,31,30,31,31,30,31,30,31,31,28,31,{"$f":"SUM(D35:O35)","v":365},{"$f":"+P33/P35","v":0}]
[null,null,null,null,null,null,null,null,null,null,null,null,null,null,null,null,{"$f":"+P34/P35","v":0}]
[null,null,null,null,null,null,null,null,null,null,null,null,null,null,null,null,{"$f":"+ROUNDUP(Q36,1)","v":0}]
["※新規指定又は住居追加から6月以上１年未満の間は、直近の6月における全利用者の延べ数を6月間の開所日数で除して得た数以上とする。"]
["　例）令和5年4月に住居追加した場合、9月末を以て、6月間の実績が出ることから、10月から新たな対象者数での算定が可能となる。"]
["※新規指定又は住居追加から1年以上経過している場合は、直近1年間における全利用者の延べ数を1年間の開所日数で除して得た数以上とする。"]

{"sheet":"○○ホーム (30)","index":34,"n_rows":40,"n_cols":20,"rows_kept":40,"cut":false,"hidden":false,"merged":[[11,0,11,6],[11,9,11,15],[1,0,1,15],[9,0,9,6],[9,9,9,15],[10,0,10,6],[10,9,10,15],[14,0,14,3],[14,4,14,8],[14,9,14,10],[14,12,14,13],[15,0,15,3],[15,4,15,8],[15,9,15,10],[15,12,15,13],[16,0,16,3],[16,4,16,8],[16,9,16,10],[16,12,16,13],[17,0,17,3],[17,4,17,8],[17,9,17,10],[17,12,17,13]]}
[null,null,null,null,null,null,null,null,null,null,null,null,null,null,null,"（体制付表５－１９）"]
["共同生活援助事業所における前年度平均利用者数等の算定資料\n（兼夜間支援対象者数の根拠資料）"]
[]
["0.作成要領"]
["・このシートは1住居に1シート作成してください。緑色のセルは選択、ピンク色のセルは入力が必要なセルです。"]
["・全て入力が終わったら、「集計用シート」を確認し、当該数値を「体制付表5-25」へ転記してください。"]
["・複数の住居がある場合、シートのコピーは行わず、予め用意したシートに入力してください。（数式が壊れ、うまく集計ができなくなります）"]
[]
["　1.はじめに"]
["この住居は指定（住居追加）時点から６か月未満ですか？",null,null,null,null,null,null,null,null,{"$f":"IF(H10=\"はい\",\"区分毎の平均利用者数は推定値で入力してください。\",\"\")","v":""}]
[{"$f":"IF(H10=\"\",\"\",VLOOKUP(H10,Q11:S12,3,0)&\"\")","v":""},null,null,null,null,null,null,null,null,{"$f":"IF(H11=\"\",\"\",VLOOKUP(H11,Q11:T12,4,0)&\"\")","v":""},null,null,null,null,null,null,"はい",null,null,"直近6か月の利用状況を「3.利用状況」に入力してください。"]
[{"$f":"IF(H11=\"\",\"\",VLOOKUP(H11,Q11:R12,2,0)&\"\")","v":""},null,null,null,null,null,null,null,null,"直近1年の利用状況を下表に入力してください",null,null,null,null,null,null,"いいえ","この住居は指定（住居追加）時点から1年以上経過していますか？","この住居は指定（住居追加）時点から6か月以上1年未満ですか？","直近1年又は前年度の利用状況を下表に入力してください"]
[]
["　2.事業所情報"]
["事業所名",null,null,null,null,null,null,null,null,"平均利用者数合計\n（自動計算）",null,{"$f":"IF(H10=\"はい\",E17*0.9,+ROUNDUP(Q35,1))","v":0},"夜間支援対象者数\n（自動計算）",null,{"$f":"IF(H10=\"はい\",E17*0.9,ROUND(Q37,0))","v":0}]
["住居名",null,null,null,null,null,null,null,null,"区分6",null,{"$f":"ROUNDUP(SUMIFS($P:$P,$C:$C,6)/P35,1)","v":0},"区分5",null,{"$f":"ROUNDUP(SUMIFS($P:$P,$C:$C,5)/P35,1)","v":0}]
["住居定員",null,null,null,null,null,null,null,null,"区分4",null,{"$f":"ROUNDUP(SUMIFS($P:$P,$C:$C,4)/P35,1)","v":0},"区分3",null,{"$f":"ROUNDUP(SUMIFS($P:$P,$C:$C,3)/P35,1)","v":0}]
["住居追加日",null,null,null,null,null,null,null,null,"区分2",null,{"$f":"ROUNDUP(SUMIFS($P:$P,$C:$C,2)/P35,1)","v":0},"区分1以下",null,{"$f":"ROUNDUP(SUMIFS($P:$P,$C:$C,\"1以下\")/P35,1)","v":0}]
[null,null,null,null,null,null,null,null,null,null,null,"."]
[]
["　3.利用状況",null,null,null,null,null,null,null,"令和",null,"年度"]
["月","サービス","区分","4月","5月","6月","7月","8月","9月","10月","11月","12月","1月","2月","3月","合計"]
["利用者①（氏名を記入）",null,null,null,null,null,null,null,null,null,null,null,null,null,null,{"$f":"SUM(D23:O23)","v":0}]
["利用者②（氏名を記入）",null,null,null,null,null,null,null,null,null,null,null,null,null,null,{"$f":"SUM(D24:O24)","v":0}]
["利用者③（氏名を記入）",null,null,null,null,null,null,null,null,null,null,null,null,null,null,0]
["利用者④（氏名を記入）",null,null,null,null,null,null,null,null,null,null,null,null,null,null,0]
["利用者⑤（氏名を記入）",null,null,null,null,null,null,null,null,null,null,null,null,null,null,0,6]
["利用者⑥（氏名を記入）",null,null,null,null,null,null,null,null,null,null,null,null,null,null,0,5]
["利用者⑦（氏名を記入）",null,null,null,null,null,null,null,null,null,null,null,null,null,null,0,4]
["利用者⑧（氏名を記入）",null,null,null,null,null,null,null,null,null,null,null,null,null,null,0,3]
["利用者⑨（氏名を記入）",null,null,null,null,null,null,null,null,null,null,null,null,null,null,0,2]
["利用者⑩（氏名を記入）",null,null,null,null,null,null,null,null,null,null,null,null,null,null,0,"1以下"]
["月の延べ利用者数\n（自動計算）",null,null,{"$f":"SUM(D23:D32)","v":0},{"$f":"SUM(E23:E32)","v":0},0,0,0,0,0,0,0,0,0,0,{"$f":"SUM(D33:O33)","v":0}]
["月の延べ利用者数（GH）\n（自動計算）",null,null,{"$f":"SUMIFS(D23:D32,$B$23:$B$32,\"GH\")","v":0},{"$f":"SUMIFS(E23:E32,$B$23:$B$32,\"GH\")","v":0},0,0,0,0,0,0,0,0,0,0,{"$f":"SUM(D34:O34)","v":0}]
["月の開所日数\n(直接入力)",null,null,30,31,30,31,31,30,31,30,31,31,28,31,{"$f":"SUM(D35:O35)","v":365},{"$f":"+P33/P35","v":0}]
[null,null,null,null,null,null,null,null,null,null,null,null,null,null,null,null,{"$f":"+P34/P35","v":0}]
[null,null,null,null,null,null,null,null,null,null,null,null,null,null,null,null,{"$f":"+ROUNDUP(Q36,1)","v":0}]
["※新規指定又は住居追加から6月以上１年未満の間は、直近の6月における全利用者の延べ数を6月間の開所日数で除して得た数以上とする。"]
["　例）令和5年4月に住居追加した場合、9月末を以て、6月間の実績が出ることから、10月から新たな対象者数での算定が可能となる。"]
["※新規指定又は住居追加から1年以上経過している場合は、直近1年間における全利用者の延べ数を1年間の開所日数で除して得た数以上とする。"]

{"sheet":"○○ホーム (31)","index":35,"n_rows":40,"n_cols":20,"rows_kept":40,"cut":false,"hidden":false,"merged":[[11,0,11,6],[11,9,11,15],[1,0,1,15],[9,0,9,6],[9,9,9,15],[10,0,10,6],[10,9,10,15],[14,0,14,3],[14,4,14,8],[14,9,14,10],[14,12,14,13],[15,0,15,3],[15,4,15,8],[15,9,15,10],[15,12,15,13],[16,0,16,3],[16,4,16,8],[16,9,16,10],[16,12,16,13],[17,0,17,3],[17,4,17,8],[17,9,17,10],[17,12,17,13]]}
[null,null,null,null,null,null,null,null,null,null,null,null,null,null,null,"（体制付表５－１９）"]
["共同生活援助事業所における前年度平均利用者数等の算定資料\n（兼夜間支援対象者数の根拠資料）"]
[]
["0.作成要領"]
["・このシートは1住居に1シート作成してください。緑色のセルは選択、ピンク色のセルは入力が必要なセルです。"]
["・全て入力が終わったら、「集計用シート」を確認し、当該数値を「体制付表5-25」へ転記してください。"]
["・複数の住居がある場合、シートのコピーは行わず、予め用意したシートに入力してください。（数式が壊れ、うまく集計ができなくなります）"]
[]
["　1.はじめに"]
["この住居は指定（住居追加）時点から６か月未満ですか？",null,null,null,null,null,null,null,null,{"$f":"IF(H10=\"はい\",\"区分毎の平均利用者数は推定値で入力してください。\",\"\")","v":""}]
[{"$f":"IF(H10=\"\",\"\",VLOOKUP(H10,Q11:S12,3,0)&\"\")","v":""},null,null,null,null,null,null,null,null,{"$f":"IF(H11=\"\",\"\",VLOOKUP(H11,Q11:T12,4,0)&\"\")","v":""},null,null,null,null,null,null,"はい",null,null,"直近6か月の利用状況を「3.利用状況」に入力してください。"]
[{"$f":"IF(H11=\"\",\"\",VLOOKUP(H11,Q11:R12,2,0)&\"\")","v":""},null,null,null,null,null,null,null,null,"直近1年の利用状況を下表に入力してください",null,null,null,null,null,null,"いいえ","この住居は指定（住居追加）時点から1年以上経過していますか？","この住居は指定（住居追加）時点から6か月以上1年未満ですか？","直近1年又は前年度の利用状況を下表に入力してください"]
[]
["　2.事業所情報"]
["事業所名",null,null,null,null,null,null,null,null,"平均利用者数合計\n（自動計算）",null,{"$f":"IF(H10=\"はい\",E17*0.9,+ROUNDUP(Q35,1))","v":0},"夜間支援対象者数\n（自動計算）",null,{"$f":"IF(H10=\"はい\",E17*0.9,ROUND(Q37,0))","v":0}]
["住居名",null,null,null,null,null,null,null,null,"区分6",null,{"$f":"ROUNDUP(SUMIFS($P:$P,$C:$C,6)/P35,1)","v":0},"区分5",null,{"$f":"ROUNDUP(SUMIFS($P:$P,$C:$C,5)/P35,1)","v":0}]
["住居定員",null,null,null,null,null,null,null,null,"区分4",null,{"$f":"ROUNDUP(SUMIFS($P:$P,$C:$C,4)/P35,1)","v":0},"区分3",null,{"$f":"ROUNDUP(SUMIFS($P:$P,$C:$C,3)/P35,1)","v":0}]
["住居追加日",null,null,null,null,null,null,null,null,"区分2",null,{"$f":"ROUNDUP(SUMIFS($P:$P,$C:$C,2)/P35,1)","v":0},"区分1以下",null,{"$f":"ROUNDUP(SUMIFS($P:$P,$C:$C,\"1以下\")/P35,1)","v":0}]
[null,null,null,null,null,null,null,null,null,null,null,"."]
[]
["　3.利用状況",null,null,null,null,null,null,null,"令和",null,"年度"]
["月","サービス","区分","4月","5月","6月","7月","8月","9月","10月","11月","12月","1月","2月","3月","合計"]
["利用者①（氏名を記入）",null,null,null,null,null,null,null,null,null,null,null,null,null,null,{"$f":"SUM(D23:O23)","v":0}]
["利用者②（氏名を記入）",null,null,null,null,null,null,null,null,null,null,null,null,null,null,{"$f":"SUM(D24:O24)","v":0}]
["利用者③（氏名を記入）",null,null,null,null,null,null,null,null,null,null,null,null,null,null,0]
["利用者④（氏名を記入）",null,null,null,null,null,null,null,null,null,null,null,null,null,null,0]
["利用者⑤（氏名を記入）",null,null,null,null,null,null,null,null,null,null,null,null,null,null,0,6]
["利用者⑥（氏名を記入）",null,null,null,null,null,null,null,null,null,null,null,null,null,null,0,5]
["利用者⑦（氏名を記入）",null,null,null,null,null,null,null,null,null,null,null,null,null,null,0,4]
["利用者⑧（氏名を記入）",null,null,null,null,null,null,null,null,null,null,null,null,null,null,0,3]
["利用者⑨（氏名を記入）",null,null,null,null,null,null,null,null,null,null,null,null,null,null,0,2]
["利用者⑩（氏名を記入）",null,null,null,null,null,null,null,null,null,null,null,null,null,null,0,"1以下"]
["月の延べ利用者数\n（自動計算）",null,null,{"$f":"SUM(D23:D32)","v":0},{"$f":"SUM(E23:E32)","v":0},0,0,0,0,0,0,0,0,0,0,{"$f":"SUM(D33:O33)","v":0}]
["月の延べ利用者数（GH）\n（自動計算）",null,null,{"$f":"SUMIFS(D23:D32,$B$23:$B$32,\"GH\")","v":0},{"$f":"SUMIFS(E23:E32,$B$23:$B$32,\"GH\")","v":0},0,0,0,0,0,0,0,0,0,0,{"$f":"SUM(D34:O34)","v":0}]
["月の開所日数\n(直接入力)",null,null,30,31,30,31,31,30,31,30,31,31,28,31,{"$f":"SUM(D35:O35)","v":365},{"$f":"+P33/P35","v":0}]
[null,null,null,null,null,null,null,null,null,null,null,null,null,null,null,null,{"$f":"+P34/P35","v":0}]
[null,null,null,null,null,null,null,null,null,null,null,null,null,null,null,null,{"$f":"+ROUNDUP(Q36,1)","v":0}]
["※新規指定又は住居追加から6月以上１年未満の間は、直近の6月における全利用者の延べ数を6月間の開所日数で除して得た数以上とする。"]
["　例）令和5年4月に住居追加した場合、9月末を以て、6月間の実績が出ることから、10月から新たな対象者数での算定が可能となる。"]
["※新規指定又は住居追加から1年以上経過している場合は、直近1年間における全利用者の延べ数を1年間の開所日数で除して得た数以上とする。"]

{"sheet":"○○ホーム (32)","index":36,"n_rows":40,"n_cols":20,"rows_kept":40,"cut":false,"hidden":false,"merged":[[11,0,11,6],[11,9,11,15],[1,0,1,15],[9,0,9,6],[9,9,9,15],[10,0,10,6],[10,9,10,15],[14,0,14,3],[14,4,14,8],[14,9,14,10],[14,12,14,13],[15,0,15,3],[15,4,15,8],[15,9,15,10],[15,12,15,13],[16,0,16,3],[16,4,16,8],[16,9,16,10],[16,12,16,13],[17,0,17,3],[17,4,17,8],[17,9,17,10],[17,12,17,13]]}
[null,null,null,null,null,null,null,null,null,null,null,null,null,null,null,"（体制付表５－１９）"]
["共同生活援助事業所における前年度平均利用者数等の算定資料\n（兼夜間支援対象者数の根拠資料）"]
[]
["0.作成要領"]
["・このシートは1住居に1シート作成してください。緑色のセルは選択、ピンク色のセルは入力が必要なセルです。"]
["・全て入力が終わったら、「集計用シート」を確認し、当該数値を「体制付表5-25」へ転記してください。"]
["・複数の住居がある場合、シートのコピーは行わず、予め用意したシートに入力してください。（数式が壊れ、うまく集計ができなくなります）"]
[]
["　1.はじめに"]
["この住居は指定（住居追加）時点から６か月未満ですか？",null,null,null,null,null,null,null,null,{"$f":"IF(H10=\"はい\",\"区分毎の平均利用者数は推定値で入力してください。\",\"\")","v":""}]
[{"$f":"IF(H10=\"\",\"\",VLOOKUP(H10,Q11:S12,3,0)&\"\")","v":""},null,null,null,null,null,null,null,null,{"$f":"IF(H11=\"\",\"\",VLOOKUP(H11,Q11:T12,4,0)&\"\")","v":""},null,null,null,null,null,null,"はい",null,null,"直近6か月の利用状況を「3.利用状況」に入力してください。"]
[{"$f":"IF(H11=\"\",\"\",VLOOKUP(H11,Q11:R12,2,0)&\"\")","v":""},null,null,null,null,null,null,null,null,"直近1年の利用状況を下表に入力してください",null,null,null,null,null,null,"いいえ","この住居は指定（住居追加）時点から1年以上経過していますか？","この住居は指定（住居追加）時点から6か月以上1年未満ですか？","直近1年又は前年度の利用状況を下表に入力してください"]
[]
["　2.事業所情報"]
["事業所名",null,null,null,null,null,null,null,null,"平均利用者数合計\n（自動計算）",null,{"$f":"IF(H10=\"はい\",E17*0.9,+ROUNDUP(Q35,1))","v":0},"夜間支援対象者数\n（自動計算）",null,{"$f":"IF(H10=\"はい\",E17*0.9,ROUND(Q37,0))","v":0}]
["住居名",null,null,null,null,null,null,null,null,"区分6",null,{"$f":"ROUNDUP(SUMIFS($P:$P,$C:$C,6)/P35,1)","v":0},"区分5",null,{"$f":"ROUNDUP(SUMIFS($P:$P,$C:$C,5)/P35,1)","v":0}]
["住居定員",null,null,null,null,null,null,null,null,"区分4",null,{"$f":"ROUNDUP(SUMIFS($P:$P,$C:$C,4)/P35,1)","v":0},"区分3",null,{"$f":"ROUNDUP(SUMIFS($P:$P,$C:$C,3)/P35,1)","v":0}]
["住居追加日",null,null,null,null,null,null,null,null,"区分2",null,{"$f":"ROUNDUP(SUMIFS($P:$P,$C:$C,2)/P35,1)","v":0},"区分1以下",null,{"$f":"ROUNDUP(SUMIFS($P:$P,$C:$C,\"1以下\")/P35,1)","v":0}]
[null,null,null,null,null,null,null,null,null,null,null,"."]
[]
["　3.利用状況",null,null,null,null,null,null,null,"令和",null,"年度"]
["月","サービス","区分","4月","5月","6月","7月","8月","9月","10月","11月","12月","1月","2月","3月","合計"]
["利用者①（氏名を記入）",null,null,null,null,null,null,null,null,null,null,null,null,null,null,{"$f":"SUM(D23:O23)","v":0}]
["利用者②（氏名を記入）",null,null,null,null,null,null,null,null,null,null,null,null,null,null,{"$f":"SUM(D24:O24)","v":0}]
["利用者③（氏名を記入）",null,null,null,null,null,null,null,null,null,null,null,null,null,null,0]
["利用者④（氏名を記入）",null,null,null,null,null,null,null,null,null,null,null,null,null,null,0]
["利用者⑤（氏名を記入）",null,null,null,null,null,null,null,null,null,null,null,null,null,null,0,6]
["利用者⑥（氏名を記入）",null,null,null,null,null,null,null,null,null,null,null,null,null,null,0,5]
["利用者⑦（氏名を記入）",null,null,null,null,null,null,null,null,null,null,null,null,null,null,0,4]
["利用者⑧（氏名を記入）",null,null,null,null,null,null,null,null,null,null,null,null,null,null,0,3]
["利用者⑨（氏名を記入）",null,null,null,null,null,null,null,null,null,null,null,null,null,null,0,2]
["利用者⑩（氏名を記入）",null,null,null,null,null,null,null,null,null,null,null,null,null,null,0,"1以下"]
["月の延べ利用者数\n（自動計算）",null,null,{"$f":"SUM(D23:D32)","v":0},{"$f":"SUM(E23:E32)","v":0},0,0,0,0,0,0,0,0,0,0,{"$f":"SUM(D33:O33)","v":0}]
["月の延べ利用者数（GH）\n（自動計算）",null,null,{"$f":"SUMIFS(D23:D32,$B$23:$B$32,\"GH\")","v":0},{"$f":"SUMIFS(E23:E32,$B$23:$B$32,\"GH\")","v":0},0,0,0,0,0,0,0,0,0,0,{"$f":"SUM(D34:O34)","v":0}]
["月の開所日数\n(直接入力)",null,null,30,31,30,31,31,30,31,30,31,31,28,31,{"$f":"SUM(D35:O35)","v":365},{"$f":"+P33/P35","v":0}]
[null,null,null,null,null,null,null,null,null,null,null,null,null,null,null,null,{"$f":"+P34/P35","v":0}]
[null,null,null,null,null,null,null,null,null,null,null,null,null,null,null,null,{"$f":"+ROUNDUP(Q36,1)","v":0}]
["※新規指定又は住居追加から6月以上１年未満の間は、直近の6月における全利用者の延べ数を6月間の開所日数で除して得た数以上とする。"]
["　例）令和5年4月に住居追加した場合、9月末を以て、6月間の実績が出ることから、10月から新たな対象者数での算定が可能となる。"]
["※新規指定又は住居追加から1年以上経過している場合は、直近1年間における全利用者の延べ数を1年間の開所日数で除して得た数以上とする。"]